BEGIN:VCALENDAR
VERSION:2.0
PRODID:-//Escuela Técnica Superior Ingenieros Industriales - ECPv6.15.20//NONSGML v1.0//EN
CALSCALE:GREGORIAN
METHOD:PUBLISH
X-ORIGINAL-URL:https://www.industriales.upm.es
X-WR-CALDESC:Eventos para Escuela Técnica Superior Ingenieros Industriales
REFRESH-INTERVAL;VALUE=DURATION:PT1H
X-Robots-Tag:noindex
X-PUBLISHED-TTL:PT1H
BEGIN:VTIMEZONE
TZID:Europe/Madrid
BEGIN:DAYLIGHT
TZOFFSETFROM:+0100
TZOFFSETTO:+0200
TZNAME:CEST
DTSTART:20250330T010000
END:DAYLIGHT
BEGIN:STANDARD
TZOFFSETFROM:+0200
TZOFFSETTO:+0100
TZNAME:CET
DTSTART:20251026T010000
END:STANDARD
BEGIN:DAYLIGHT
TZOFFSETFROM:+0100
TZOFFSETTO:+0200
TZNAME:CEST
DTSTART:20260329T010000
END:DAYLIGHT
BEGIN:STANDARD
TZOFFSETFROM:+0200
TZOFFSETTO:+0100
TZNAME:CET
DTSTART:20261025T010000
END:STANDARD
BEGIN:DAYLIGHT
TZOFFSETFROM:+0100
TZOFFSETTO:+0200
TZNAME:CEST
DTSTART:20270328T010000
END:DAYLIGHT
BEGIN:STANDARD
TZOFFSETFROM:+0200
TZOFFSETTO:+0100
TZNAME:CET
DTSTART:20271031T010000
END:STANDARD
END:VTIMEZONE
BEGIN:VEVENT
DTSTART;TZID=Europe/Madrid:20260410T200000
DTEND;TZID=Europe/Madrid:20260410T210000
DTSTAMP:20260422T001429
CREATED:20251014T094938Z
LAST-MODIFIED:20251014T094938Z
UID:10001180-1775851200-1775854800@www.industriales.upm.es
SUMMARY:Festival de Teatro de la UPM
DESCRIPTION:
URL:https://www.industriales.upm.es/info-evento/festival-de-teatro-de-la-upm/
END:VEVENT
BEGIN:VEVENT
DTSTART;TZID=Europe/Madrid:20260410T170000
DTEND;TZID=Europe/Madrid:20260410T200000
DTSTAMP:20260422T001429
CREATED:20260210T121812Z
LAST-MODIFIED:20260210T121812Z
UID:10001315-1775840400-1775851200@www.industriales.upm.es
SUMMARY:Jornada de Puertas Abiertas para estudiantes de bachillerato
DESCRIPTION:
URL:https://www.industriales.upm.es/info-evento/jornada-de-puertas-abiertas-para-estudiantes-de-bachillerato-2-2/
END:VEVENT
BEGIN:VEVENT
DTSTART;TZID=Europe/Madrid:20260409T173000
DTEND;TZID=Europe/Madrid:20260409T203000
DTSTAMP:20260422T001429
CREATED:20260327T071356Z
LAST-MODIFIED:20260327T071356Z
UID:10001359-1775755800-1775766600@www.industriales.upm.es
SUMMARY:Computación Cuántica. Una Perspectiva Empresarial
DESCRIPTION:El ponente será Antonio Peris\, CEO de la empresa Q-centroid.  https://qcentroid.xyz/    La charla se enmarca en la V Ed. de las Charlas MATAE. Se espera otra dos charlas durante este curso.
URL:https://www.industriales.upm.es/info-evento/computacion-cuantica-una-perspectiva-empresarial/
END:VEVENT
BEGIN:VEVENT
DTSTART;TZID=Europe/Madrid:20260409T170000
DTEND;TZID=Europe/Madrid:20260409T200000
DTSTAMP:20260422T001429
CREATED:20251014T094934Z
LAST-MODIFIED:20260210T121920Z
UID:10001179-1775754000-1775764800@www.industriales.upm.es
SUMMARY:Jornada de Puertas Abiertas para estudiantes de bachillerato
DESCRIPTION:
URL:https://www.industriales.upm.es/info-evento/jornada-de-puertas-abiertas-para-estudiantes-de-bachillerato-2/
END:VEVENT
BEGIN:VEVENT
DTSTART;TZID=Europe/Madrid:20260409T090000
DTEND;TZID=Europe/Madrid:20260409T130000
DTSTAMP:20260422T001429
CREATED:20260317T092657Z
LAST-MODIFIED:20260317T092657Z
UID:10001341-1775725200-1775739600@www.industriales.upm.es
SUMMARY:Grupo de trabajo ONAC
DESCRIPTION:
URL:https://www.industriales.upm.es/info-evento/grupo-de-trabajo-onac/
END:VEVENT
BEGIN:VEVENT
DTSTART;TZID=Europe/Madrid:20260408T133000
DTEND;TZID=Europe/Madrid:20260408T150000
DTSTAMP:20260422T001429
CREATED:20260317T084234Z
LAST-MODIFIED:20260326T081602Z
UID:10001339-1775655000-1775660400@www.industriales.upm.es
SUMMARY:Programa de Bienestar y Salud
DESCRIPTION:
URL:https://www.industriales.upm.es/info-evento/programa-de-bienestar-y-salud/
ATTACH;FMTTYPE=image/jpeg:https://www.industriales.upm.es/wp-content/uploads/2026/03/Gestion-del-tiempo-Programa-ImportaTE.jpg
END:VEVENT
BEGIN:VEVENT
DTSTART;TZID=Europe/Madrid:20260327T083000
DTEND;TZID=Europe/Madrid:20260327T193000
DTSTAMP:20260422T001429
CREATED:20251118T162735Z
LAST-MODIFIED:20251118T162735Z
UID:10001240-1774600200-1774639800@www.industriales.upm.es
SUMMARY:Curso de código PHITS
DESCRIPTION:Curso PHITS
URL:https://www.industriales.upm.es/info-evento/curso-de-codigo-phits-2/
END:VEVENT
BEGIN:VEVENT
DTSTART;TZID=Europe/Madrid:20260327T080000
DTEND;TZID=Europe/Madrid:20260327T170000
DTSTAMP:20260422T001429
CREATED:20260317T090400Z
LAST-MODIFIED:20260317T105532Z
UID:10001340-1774598400-1774630800@www.industriales.upm.es
SUMMARY:Magia por Benin
DESCRIPTION:Mensajeros de la Paz y la Escuela Técnica Superior de Ingenieros Industriales de la Universidad Politécnica de Madrid presentan Magia por Benín – #16 Edición\n27\, 28 y 29 de marzo de 2026\nFestival de magia solidaria para todos los públicos. Ayudamos a educar a niños de Benín en situación de vulnerabilidad\n5 shows: Viernes 27 (20.00) / Sábado 27 (17.00 y 20.00) / Domingo 29(12.00 y 17.00) \nMagia por Benín celebra con entusiasmo su 16 aniversario del festival de magia solidario con un extraordinario elenco de magos y de personalidades de la comunicación el 27\, 28 y 29 de marzo de 2026 en Madrid.\nEl objetivo del festival es recaudar fondos para financiar la escolarización de los niños del centro infantil de Mensajeros de la Paz en Cotonou (Benín) y para garantizar el apoyo escolar a los que han sido reintegrados en familias tras pasar por el centro. Se trata de niños huérfanos\, abandonados\, rescatados de redes esclavistas o en situaciones de maltrato. \nEn ese mágico fin de semana ofreceremos cinco espectáculos en los que participarán los excepcionales magos Jandro\, Álex Gilabert\, Javi Rufo\, Adrián Vega y Luis Olmedo. Las sesiones serán presentadas por Marta Reyero y Roberto Vara. Como siempre\, los magos\, los presentadores y todos los colaboradores de la iniciativa participan de forma altruista en el festival.\nMás de 15.000 espectadores han disfrutado de excepcionales espectáculos de magia en los 55 shows de las ediciones anteriores. La recaudación obtenida\, sumada a las generosas aportaciones de la Fila Cero\, supera ya los 221.000 €. Así se han escolarizado y mantenido desde 2010\, en el Centro de la Alegría de Cotonou\, a 50 niños cada año\, además de mantener el apoyo escolar a los que han sido reintegrados en familias. \nMensajeros de la Paz\, galardonada con el Premio Príncipe de Asturias y presidida por el bien conocido Padre Ángel\, trabaja en Benín desde 1996\, desarrollando proyectos de asistencia y protección a menores\, y de ayuda al desarrollo. \n5 SHOWS DE MAGIA POR BENÍN PARA TODOS LOS PÚBLICOS\nShow 1:. Viernes 27de marzo a las 20.00.\nShows 2 y 3: Sábado 28 de marzo a las 17.00 y a las 20.00.\nShows 4 y 5: Domingo 29de marzo a las 12.00 y 17.00.\nDuración aproximada. 1 hora y 30 minutos. Entradas. www.magiaporbenin.com. Precio. 18 €.\nFila Cero. Las personas que deseen hacer una aportación extraordinaria pueden hacerlo en la web http://www.magiaporbenin.com/#fila-cero a la siguiente cuenta de la Fundación Mensajeros de la Paz: ES21 0049 5104 1120 1606 3667 (BIC: BSCHESMMXXX)
URL:https://www.industriales.upm.es/info-evento/magia-por-benin/
ATTACH;FMTTYPE=image/png:https://www.industriales.upm.es/wp-content/uploads/2026/03/magia_por_benin_2026.png
END:VEVENT
BEGIN:VEVENT
DTSTART;TZID=Europe/Madrid:20260326T090000
DTEND;TZID=Europe/Madrid:20260326T140000
DTSTAMP:20260422T001429
CREATED:20260223T071903Z
LAST-MODIFIED:20260223T071903Z
UID:10001322-1774515600-1774533600@www.industriales.upm.es
SUMMARY:Sesión presencial JoVE Lunch & Learn
DESCRIPTION:Encuentro práctico para conocer las novedades de JoVE para 2026 y explorar nuevas formas de integrar vídeo científico en docencia e investigación. Presentaremos nuevos contenidos y colecciones. Compartiremos ejemplos de uso en el aula (¡venid con vuestro ordenador!). Resolveremos dudas y veremos posibles aplicaciones en asignaturas concretas.
URL:https://www.industriales.upm.es/info-evento/sesion-presencial-jove-lunch-learn/
END:VEVENT
BEGIN:VEVENT
DTSTART;TZID=Europe/Madrid:20260326T083000
DTEND;TZID=Europe/Madrid:20260327T193000
DTSTAMP:20260422T001429
CREATED:20251118T162702Z
LAST-MODIFIED:20251118T162702Z
UID:10001239-1774513800-1774639800@www.industriales.upm.es
SUMMARY:Curso Avanzado del Código PHITS
DESCRIPTION:
URL:https://www.industriales.upm.es/info-evento/curso-avanzado-del-codigo-phits/
END:VEVENT
BEGIN:VEVENT
DTSTART;TZID=Europe/Madrid:20260325T083000
DTEND;TZID=Europe/Madrid:20260327T193000
DTSTAMP:20260422T001429
CREATED:20251118T162646Z
LAST-MODIFIED:20251118T162646Z
UID:10001238-1774427400-1774639800@www.industriales.upm.es
SUMMARY:Curso de Código PHITS
DESCRIPTION:Seminario avanzado en código PHITS
URL:https://www.industriales.upm.es/info-evento/curso-de-codigo-phits/
END:VEVENT
BEGIN:VEVENT
DTSTART;TZID=Europe/Madrid:20260324T083000
DTEND;TZID=Europe/Madrid:20260324T173000
DTSTAMP:20260422T001429
CREATED:20251118T162632Z
LAST-MODIFIED:20251118T162632Z
UID:10001237-1774341000-1774373400@www.industriales.upm.es
SUMMARY:Seminario Avanzado del Código PHITS
DESCRIPTION:Seminario Avanzado del Código PHITS\, de martes a viernes\, de 8.30 h a 19.30 h
URL:https://www.industriales.upm.es/info-evento/seminario-avanzado-del-codigo-phits/
END:VEVENT
BEGIN:VEVENT
DTSTART;TZID=Europe/Madrid:20260320T190000
DTEND;TZID=Europe/Madrid:20260320T203000
DTSTAMP:20260422T001429
CREATED:20260306T090142Z
LAST-MODIFIED:20260313T094316Z
UID:10001335-1774033200-1774038600@www.industriales.upm.es
SUMMARY:Miriam Gómez-Moran y el Dúo Hämeenlinna (Raúl Saiz Rodrigo y Blanca López Rubal) juntos\, por primera vez\, en concierto
DESCRIPTION:Concierto organizado por la Asociación de Antiguos Alumnos de la ETSII. Más información \n 
URL:https://www.industriales.upm.es/info-evento/miriam-gomez-moran-y-el-duo-hameenlinna-raul-saiz-rodrigo-y-blanca-lopez-rubal-juntos-por-primera-vez-en-concierto/
ATTACH;FMTTYPE=image/png:https://www.industriales.upm.es/wp-content/uploads/2026/03/para-Portal_20mar26-2048x2046-2.png
END:VEVENT
BEGIN:VEVENT
DTSTART;TZID=Europe/Madrid:20260320T173000
DTEND;TZID=Europe/Madrid:20260320T183000
DTSTAMP:20260422T001429
CREATED:20260317T121005Z
LAST-MODIFIED:20260317T121005Z
UID:10001349-1774027800-1774031400@www.industriales.upm.es
SUMMARY:Ciclo HOPE: Estamos a tiempo
DESCRIPTION:Ultimo visionado delCiclo Cineforum\, dentro de las actividades de UPM Conecta
URL:https://www.industriales.upm.es/info-evento/ciclo-hope-estamos-a-tiempo/
END:VEVENT
BEGIN:VEVENT
DTSTART;TZID=Europe/Madrid:20260320T160000
DTEND;TZID=Europe/Madrid:20260320T210000
DTSTAMP:20260422T001429
CREATED:20250929T105809Z
LAST-MODIFIED:20251027T122115Z
UID:10001146-1774022400-1774040400@www.industriales.upm.es
SUMMARY:Actividad UPM Conecta: HOPE - EELISA IEN
DESCRIPTION:¡Participa en el Ciclo Cinefórum + Debate HOPE! \nIngeniería con Propósito: Hacia una Transformación Sostenible \n¿Estamos a tiempo de cambiar el rumbo? ¡Sí! Y queremos hacerlo contigo. \nTe invitamos a reflexionar y debatir sobre sostenibilidad e innovación a través del documental HOPE. \nFechas: \n\n21 de noviembre\n13 de febrero\n20 de marzo\n\nHora: 18:30 h\nLugar: ETSI Industriales (Sala C) – C/ José Gutiérrez Abascal\, 2\nOrganiza: EELISA European University\, ETSI Industriales UPM\, IEN UPM y Gatoverde. \n✅ Entrada libre con inscripción previa
URL:https://www.industriales.upm.es/info-evento/actividad-upm-conecta-hope-eelisa-ien-3/
ATTACH;FMTTYPE=image/jpeg:https://www.industriales.upm.es/wp-content/uploads/2025/09/Cineforum-HOPE-2.jpg
END:VEVENT
BEGIN:VEVENT
DTSTART;TZID=Europe/Madrid:20260320T140000
DTEND;TZID=Europe/Madrid:20260320T153000
DTSTAMP:20260422T001429
CREATED:20260225T121959Z
LAST-MODIFIED:20260225T121959Z
UID:10001324-1774015200-1774020600@www.industriales.upm.es
SUMMARY:UPM Conecta: Matemáticas Inteligentes: Cómo la IA transforma tu aprendizaje
DESCRIPTION:14:00-15:30 Taller de UPM Conecta: Matemáticas Inteligentes: Cómo la IA transforma tu aprendizaje
URL:https://www.industriales.upm.es/info-evento/upm-conecta-matematicas-inteligentes-como-la-ia-transforma-tu-aprendizaje/
END:VEVENT
BEGIN:VEVENT
DTSTART;TZID=Europe/Madrid:20260320T100000
DTEND;TZID=Europe/Madrid:20260320T140000
DTSTAMP:20260422T001429
CREATED:20260302T105155Z
LAST-MODIFIED:20260312T103401Z
UID:10001330-1774000800-1774015200@www.industriales.upm.es
SUMMARY:Defensa de tesis doctoral "Hydrogel-based biosensing using plasmonic nanoparticle labels for optical biomarker detection" de Anne Beatriz Parra Heming
DESCRIPTION:
URL:https://www.industriales.upm.es/info-evento/defensa-de-tesis-doctoral-hydrogel-based-biosensing-using-plasmonic-nanoparticle-labels-for-optical-biomarker-detection-de-anne-beatriz-parra-heming/
END:VEVENT
BEGIN:VEVENT
DTSTART;TZID=Europe/Madrid:20260317T123000
DTEND;TZID=Europe/Madrid:20260319T143000
DTSTAMP:20260422T001429
CREATED:20260225T192111Z
LAST-MODIFIED:20260306T104432Z
UID:10001326-1773750600-1773930600@www.industriales.upm.es
SUMMARY:Taller: Empleo Joven – Impulsamos tu Futuro
DESCRIPTION:
URL:https://www.industriales.upm.es/info-evento/taller-empleo-joven-impulsamos-tu-futuro/
END:VEVENT
BEGIN:VEVENT
DTSTART;TZID=Europe/Madrid:20260317T120000
DTEND;TZID=Europe/Madrid:20260317T133000
DTSTAMP:20260422T001429
CREATED:20260216T071211Z
LAST-MODIFIED:20260216T071211Z
UID:10001319-1773748800-1773754200@www.industriales.upm.es
SUMMARY:Desafíos y oportunidades de la Inteligencia Artificial
DESCRIPTION:Incluido en CONECTA UPM
URL:https://www.industriales.upm.es/info-evento/desafios-y-oportunidades-de-la-inteligencia-artificial/
END:VEVENT
BEGIN:VEVENT
DTSTART;TZID=Europe/Madrid:20260316T163000
DTEND;TZID=Europe/Madrid:20260316T203000
DTSTAMP:20260422T001429
CREATED:20260126T092440Z
LAST-MODIFIED:20260312T093053Z
UID:10001298-1773678600-1773693000@www.industriales.upm.es
SUMMARY:Defensa de Tesis Doctoral Jesús Salgado "Multilevel governance framework for AI agenda"
DESCRIPTION:
URL:https://www.industriales.upm.es/info-evento/defensa-de-tesis-doctoral-jesus-salgado-multilevel-governance-framework-for-ai-agenda/
END:VEVENT
BEGIN:VEVENT
DTSTART;TZID=Europe/Madrid:20260316T153000
DTEND;TZID=Europe/Madrid:20260319T173000
DTSTAMP:20260422T001429
CREATED:20260225T192116Z
LAST-MODIFIED:20260225T192116Z
UID:10001328-1773675000-1773941400@www.industriales.upm.es
SUMMARY:Taller “Empleo Joven – Impulsamos tu Futuro”
DESCRIPTION:
URL:https://www.industriales.upm.es/info-evento/taller-empleo-joven-impulsamos-tu-futuro-3/
END:VEVENT
BEGIN:VEVENT
DTSTART;TZID=Europe/Madrid:20260312T093000
DTEND;TZID=Europe/Madrid:20260312T140000
DTSTAMP:20260422T001429
CREATED:20260115T155207Z
LAST-MODIFIED:20260115T155207Z
UID:10001289-1773307800-1773324000@www.industriales.upm.es
SUMMARY:Lectura de tesis Doctoral de Alberto Villalonga Jaén
DESCRIPTION:
URL:https://www.industriales.upm.es/info-evento/lectura-de-tesis-doctoral-de-alberto-villalonga-jaen/
END:VEVENT
BEGIN:VEVENT
DTSTART;TZID=Europe/Madrid:20260311T200000
DTEND;TZID=Europe/Madrid:20260311T210000
DTSTAMP:20260422T001429
CREATED:20260306T085211Z
LAST-MODIFIED:20260306T085211Z
UID:10001334-1773259200-1773262800@www.industriales.upm.es
SUMMARY:Cuarta sesión del Ciclo de Ágora: ?Nosce? (Conócete)\,
DESCRIPTION:
URL:https://www.industriales.upm.es/info-evento/cuarta-sesion-del-ciclo-de-agora-nosce-conocete/
END:VEVENT
BEGIN:VEVENT
DTSTART;TZID=Europe/Madrid:20260311T080000
DTEND;TZID=Europe/Madrid:20260312T210000
DTSTAMP:20260422T001429
CREATED:20251118T150745Z
LAST-MODIFIED:20260306T081608Z
UID:10001232-1773216000-1773349200@www.industriales.upm.es
SUMMARY:Feria de empleo INDUFORUM 2026
DESCRIPTION:La feria de Empleo de la ETSII UPM\, organizada por los estudiantes. Más de 30 empresas cada día buscando talento en la Escuela. \n⚠️Feria de empleo\n📍 ETSII UPM\n🗓 10 y 11 de marzo de 2026\n📩 info@induforum \nwww.induforum.com \nInduforum 2026
URL:https://www.industriales.upm.es/info-evento/feria-de-empleo-induforum-2026-7/
ATTACH;FMTTYPE=image/jpeg:https://www.industriales.upm.es/wp-content/uploads/2025/11/induforum-logo-26-1-100-1.jpg
END:VEVENT
BEGIN:VEVENT
DTSTART;TZID=Europe/Madrid:20260310T110000
DTEND;TZID=Europe/Madrid:20260310T140000
DTSTAMP:20260422T001429
CREATED:20260226T072033Z
LAST-MODIFIED:20260226T072033Z
UID:10001329-1773140400-1773151200@www.industriales.upm.es
SUMMARY:Sistemas robóticos: de la idea al mercado
DESCRIPTION:
URL:https://www.industriales.upm.es/info-evento/sistemas-roboticos-de-la-idea-al-mercado/
END:VEVENT
BEGIN:VEVENT
DTSTART;TZID=Europe/Madrid:20260310T080000
DTEND;TZID=Europe/Madrid:20260310T210000
DTSTAMP:20260422T001429
CREATED:20251118T150709Z
LAST-MODIFIED:20260306T081235Z
UID:10001229-1773129600-1773176400@www.industriales.upm.es
SUMMARY:Feria de empleo INDUFORUM 2026
DESCRIPTION:La feria de Empleo de la ETSII UPM\, organizada por los estudiantes. Más de 30 empresas cada día buscando talento en la Escuela. \n⚠️Feria de empleo\n📍 ETSII UPM\n🗓 10 y 11 de marzo de 2026\n📩 info@induforum \n  \nwww.induforum.com \nInduforum 2026
URL:https://www.industriales.upm.es/info-evento/feria-de-empleo-induforum-2026-5/
ATTACH;FMTTYPE=image/jpeg:https://www.industriales.upm.es/wp-content/uploads/2025/11/induforum-logo-26-1-100-1.jpg
END:VEVENT
BEGIN:VEVENT
DTSTART;TZID=Europe/Madrid:20260309T130000
DTEND;TZID=Europe/Madrid:20260309T153000
DTSTAMP:20260422T001429
CREATED:20260302T111542Z
LAST-MODIFIED:20260302T111542Z
UID:10001331-1773061200-1773070200@www.industriales.upm.es
SUMMARY:Seminario investigación\, prof. Tomás del Barrio (UIB)
DESCRIPTION:Modeling and forecasting the long memory of Cyclical Trends in paleoclimate data
URL:https://www.industriales.upm.es/info-evento/seminario-investigacion-prof-tomas-del-barrio-uib/
END:VEVENT
BEGIN:VEVENT
DTSTART;TZID=Europe/Madrid:20260309T080000
DTEND;TZID=Europe/Madrid:20260413T150000
DTSTAMP:20260422T001429
CREATED:20250904T120833Z
LAST-MODIFIED:20250904T120833Z
UID:10001088-1773043200-1776092400@www.industriales.upm.es
SUMMARY:Taller de Comunicación Ingenia
DESCRIPTION:
URL:https://www.industriales.upm.es/info-evento/taller-de-comunicacion-ingenia-2/
END:VEVENT
BEGIN:VEVENT
DTSTART;TZID=Europe/Madrid:20260306T193000
DTEND;TZID=Europe/Madrid:20260306T210000
DTSTAMP:20260422T001429
CREATED:20260210T100919Z
LAST-MODIFIED:20260210T100919Z
UID:10001314-1772825400-1772830800@www.industriales.upm.es
SUMMARY:Curso técnico sobre motores eléctricos - Asociación de estudiantes MotoStudent
DESCRIPTION:
URL:https://www.industriales.upm.es/info-evento/curso-tecnico-sobre-motores-electricos-asociacion-de-estudiantes-motostudent/
END:VEVENT
BEGIN:VEVENT
DTSTART;TZID=Europe/Madrid:20260306T090000
DTEND;TZID=Europe/Madrid:20260306T100000
DTSTAMP:20260422T001429
CREATED:20260303T080234Z
LAST-MODIFIED:20260303T080234Z
UID:10001332-1772787600-1772791200@www.industriales.upm.es
SUMMARY:Bienvenida nuevo personal
DESCRIPTION:
URL:https://www.industriales.upm.es/info-evento/bienvenida-nuevo-personal/
END:VEVENT
END:VCALENDAR