BEGIN:VCALENDAR
VERSION:2.0
PRODID:-//Escuela Técnica Superior Ingenieros Industriales - ECPv6.15.20//NONSGML v1.0//EN
CALSCALE:GREGORIAN
METHOD:PUBLISH
X-WR-CALNAME:Escuela Técnica Superior Ingenieros Industriales
X-ORIGINAL-URL:https://www.industriales.upm.es
X-WR-CALDESC:Eventos para Escuela Técnica Superior Ingenieros Industriales
REFRESH-INTERVAL;VALUE=DURATION:PT1H
X-Robots-Tag:noindex
X-PUBLISHED-TTL:PT1H
BEGIN:VTIMEZONE
TZID:Europe/Madrid
BEGIN:DAYLIGHT
TZOFFSETFROM:+0100
TZOFFSETTO:+0200
TZNAME:CEST
DTSTART:20230326T010000
END:DAYLIGHT
BEGIN:STANDARD
TZOFFSETFROM:+0200
TZOFFSETTO:+0100
TZNAME:CET
DTSTART:20231029T010000
END:STANDARD
BEGIN:DAYLIGHT
TZOFFSETFROM:+0100
TZOFFSETTO:+0200
TZNAME:CEST
DTSTART:20240331T010000
END:DAYLIGHT
BEGIN:STANDARD
TZOFFSETFROM:+0200
TZOFFSETTO:+0100
TZNAME:CET
DTSTART:20241027T010000
END:STANDARD
BEGIN:DAYLIGHT
TZOFFSETFROM:+0100
TZOFFSETTO:+0200
TZNAME:CEST
DTSTART:20250330T010000
END:DAYLIGHT
BEGIN:STANDARD
TZOFFSETFROM:+0200
TZOFFSETTO:+0100
TZNAME:CET
DTSTART:20251026T010000
END:STANDARD
END:VTIMEZONE
BEGIN:VEVENT
DTSTART;TZID=Europe/Madrid:20240614T090000
DTEND;TZID=Europe/Madrid:20240614T210000
DTSTAMP:20260422T133017
CREATED:20240129T084723Z
LAST-MODIFIED:20240423T110324Z
UID:10000513-1718355600-1718398800@www.industriales.upm.es
SUMMARY:IFKAD 2024 (ifkad.org)
DESCRIPTION:
URL:https://www.industriales.upm.es/info-evento/ifkad-2024-ifkad-org/2024-06-14/
CATEGORIES:Congreso / Workshop
END:VEVENT
BEGIN:VEVENT
DTSTART;TZID=Europe/Madrid:20240613T090000
DTEND;TZID=Europe/Madrid:20240613T210000
DTSTAMP:20260422T133017
CREATED:20240129T084723Z
LAST-MODIFIED:20240423T110324Z
UID:10000512-1718269200-1718312400@www.industriales.upm.es
SUMMARY:IFKAD 2024 (ifkad.org)
DESCRIPTION:
URL:https://www.industriales.upm.es/info-evento/ifkad-2024-ifkad-org/2024-06-13/
CATEGORIES:Congreso / Workshop
END:VEVENT
BEGIN:VEVENT
DTSTART;TZID=Europe/Madrid:20240612T090000
DTEND;TZID=Europe/Madrid:20240612T210000
DTSTAMP:20260422T133017
CREATED:20240129T084723Z
LAST-MODIFIED:20240423T110324Z
UID:10000511-1718182800-1718226000@www.industriales.upm.es
SUMMARY:IFKAD 2024 (ifkad.org)
DESCRIPTION:
URL:https://www.industriales.upm.es/info-evento/ifkad-2024-ifkad-org/2024-06-12/
CATEGORIES:Congreso / Workshop
END:VEVENT
END:VCALENDAR