BEGIN:VCALENDAR
VERSION:2.0
PRODID:-//Escuela Técnica Superior Ingenieros Industriales - ECPv6.15.20//NONSGML v1.0//EN
CALSCALE:GREGORIAN
METHOD:PUBLISH
X-WR-CALNAME:Escuela Técnica Superior Ingenieros Industriales
X-ORIGINAL-URL:https://www.industriales.upm.es
X-WR-CALDESC:Eventos para Escuela Técnica Superior Ingenieros Industriales
REFRESH-INTERVAL;VALUE=DURATION:PT1H
X-Robots-Tag:noindex
X-PUBLISHED-TTL:PT1H
BEGIN:VTIMEZONE
TZID:Europe/Madrid
BEGIN:DAYLIGHT
TZOFFSETFROM:+0100
TZOFFSETTO:+0200
TZNAME:CEST
DTSTART:20230326T010000
END:DAYLIGHT
BEGIN:STANDARD
TZOFFSETFROM:+0200
TZOFFSETTO:+0100
TZNAME:CET
DTSTART:20231029T010000
END:STANDARD
BEGIN:DAYLIGHT
TZOFFSETFROM:+0100
TZOFFSETTO:+0200
TZNAME:CEST
DTSTART:20240331T010000
END:DAYLIGHT
BEGIN:STANDARD
TZOFFSETFROM:+0200
TZOFFSETTO:+0100
TZNAME:CET
DTSTART:20241027T010000
END:STANDARD
BEGIN:DAYLIGHT
TZOFFSETFROM:+0100
TZOFFSETTO:+0200
TZNAME:CEST
DTSTART:20250330T010000
END:DAYLIGHT
BEGIN:STANDARD
TZOFFSETFROM:+0200
TZOFFSETTO:+0100
TZNAME:CET
DTSTART:20251026T010000
END:STANDARD
END:VTIMEZONE
BEGIN:VEVENT
DTSTART;TZID=Europe/Madrid:20240913T100000
DTEND;TZID=Europe/Madrid:20240913T140000
DTSTAMP:20260424T003446
CREATED:20240717T100648Z
LAST-MODIFIED:20240717T100648Z
UID:10000624-1726221600-1726236000@www.industriales.upm.es
SUMMARY:Defensa de la tesis de Miguel Soberón Más: Enabling Collaboration for  Sustainability Transitions Governance: The Role of Transition Intermediaries in  Supporting the Public Sector
DESCRIPTION:Defensa de tesis de Miguel Soberón Más\, estudiante del Doctorado en Ingeniería de Organización.
URL:https://www.industriales.upm.es/info-evento/defensa-de-la-tesis-de-miguel-soberon-mas-enabling-collaboration-for-sustainability-transitions-governance-the-role-of-transition-intermediaries-in-supporting-the-public-sector/
END:VEVENT
BEGIN:VEVENT
DTSTART;TZID=Europe/Madrid:20240913T110000
DTEND;TZID=Europe/Madrid:20240913T143000
DTSTAMP:20260424T003446
CREATED:20240905T073850Z
LAST-MODIFIED:20240906T063656Z
UID:10000628-1726225200-1726237800@www.industriales.upm.es
SUMMARY:ANÁLISIS DE PARÁMETROS DE DISEÑO Y PROPUESTAS DE UN REACTOR DE ESTAÑO LÍQUIDO PARA LA PIRÓLISIS DE GAS NATURAL
DESCRIPTION:Defensa tesis doctoral de Ángel Martínez Rodríguez titulada: ANÁLISIS DE PARÁMETROS DE DISEÑO Y PROPUESTAS DE UN REACTOR DE ESTAÑO LÍQUIDO PARA LA PIRÓLISIS DE GAS NATURAL. dirigida por d. Alberto Abánades Velasco
URL:https://www.industriales.upm.es/info-evento/analisis-de-parametros-de-diseno-y-propuestas-de-un-reactor-de-estano-liquido-para-la-pirolisis-de-gas-natural/
END:VEVENT
BEGIN:VEVENT
DTSTART;TZID=Europe/Madrid:20240924T100000
DTEND;TZID=Europe/Madrid:20240924T140000
DTSTAMP:20260424T003446
CREATED:20240911T072437Z
LAST-MODIFIED:20240911T072437Z
UID:10000629-1727172000-1727186400@www.industriales.upm.es
SUMMARY:Contribution of railway systems to frequency control of electric power systems with a multidisciplinary approach
DESCRIPTION:Defensa de la tesis doctoral de D. Jesús Harmodio Araúz sarmiento: Contribution of railway systems to frequency control of electric power systems with a multidisciplinary approach
URL:https://www.industriales.upm.es/info-evento/contribution-of-railway-systems-to-frequency-control-of-electric-power-systems-with-a-multidisciplinary-approach/
END:VEVENT
BEGIN:VEVENT
DTSTART;TZID=Europe/Madrid:20240925T133000
DTEND;TZID=Europe/Madrid:20240925T153000
DTSTAMP:20260424T003446
CREATED:20240923T091524Z
LAST-MODIFIED:20240923T092131Z
UID:10000637-1727271000-1727278200@www.industriales.upm.es
SUMMARY:¡Únete a Reset\, la mayor asociación de robótica de la UPM!
DESCRIPTION:¿Te interesa la robótica\, electrónica\, impresión 3D o cacharreo en general? ¿Quieres un espacio donde echarte una siesta cuando estás reventado o simplemente charlar con gente? \n¡Únete a Reset\, la asociación de robótica más grande de la UPM! Pásate cuando quieras por nuestra salita (al final de la segunda planta al lado del baño de chicas) y conócenos. Llevamos proyectos\, damos talleres y organizamos la competición Cybertech. \nEste miércoles de 13:30 a 15:30 estaremos haciendo cosas chulas en la piscina por el día de las asociaciones. Llevaremos impresoras 3D y coches teledirigidos de Cybertech. ¡Estáis todos invitados a probarlos!
URL:https://www.industriales.upm.es/info-evento/unete-a-reset-la-mayor-asociacion-de-robotica-de-la-upm/
ATTACH;FMTTYPE=image/jpeg:https://www.industriales.upm.es/wp-content/uploads/2024/09/Cartel-Reset.jpg
END:VEVENT
BEGIN:VEVENT
DTSTART;TZID=Europe/Madrid:20240927T153000
DTEND;TZID=Europe/Madrid:20240927T213000
DTSTAMP:20260424T003446
CREATED:20240925T091723Z
LAST-MODIFIED:20240925T091723Z
UID:10000639-1727451000-1727472600@www.industriales.upm.es
SUMMARY:Jornada 0/All Star de la Liga Interasociaciones
DESCRIPTION:En esta tercera temporada\, volvemos a participar en la ludoteca abierta🎲\, donde encontraréis una gran variedad de juegos de mesa a vuestra\ndisposición. Además\, se disputará una partida oficial por el título deAll-Star de la temporada pasada. 🏆 \n¡Pero eso no es todo! Todos aquellos que quieran pasar un rato divertido jugando\, conocer a gente nueva o simplemente disfrutar del ambiente de la\nliga\, son más que bienvenidos. 🎉🤝 \n📅 Fecha: Viernes 27 de septiembre\n📍 Lugar: Gimnasio de ETSI Industriales (Nuevos Ministerios)\nEntrada Gratuita y libre a toda la UPM \nAsociación Anfitriona:ACEII-Kilowatio (aceii.kw@gmail.com [1] ig: @aceii.kw) \nOrganiza:Liga de Interasociaciones UPM (ig: @ligainterasociacionesupm)
URL:https://www.industriales.upm.es/info-evento/jornada-0-all-star-de-la-liga-interasociaciones/
ATTACH;FMTTYPE=image/jpeg:https://www.industriales.upm.es/wp-content/uploads/2024/09/photo_2024-09-24_11-07-31-1.jpg
END:VEVENT
BEGIN:VEVENT
DTSTART;TZID=Europe/Madrid:20240927T190000
DTEND;TZID=Europe/Madrid:20240927T210000
DTSTAMP:20260424T003446
CREATED:20240916T143542Z
LAST-MODIFIED:20240917T072644Z
UID:10000630-1727463600-1727470800@www.industriales.upm.es
SUMMARY:¡Si mis versos tuvieran alas!
DESCRIPTION:PRIMER CONCIERTO DEL CICLO «PIANO Y CÁMARA EN INDUSTRIALES» ORGANIZADO POR LA ETSII Y LA ASOCIACIÓN DE ANTIGUOS ALUMNOS. \nVENTA DE ENTRADAS \nEnsemble Fanny Davies: Laura Granero (piano) y Aldo Mata (cello) te ofrece este concierto-homenaje a GABRIEL FAURÉ y a REYNALDO HAHN por sus respectivos aniversarios\, que lleva por título: “¡SI MIS VERSOS TUVIERAN ALAS!” \n\n\n\n\nAldo Mata\, violonchelo\nAldo Mata es un concertista internacional de violonchelo\, destacado por sus actuaciones en festivales en Estados Unidos\, Japón y Europa. Es profesor en el Centro Superior Katarina Gurska y catedrático en el Conservatorio Superior de Sevilla. Además\, es investigador\, enfocado en la música española para violonchelo y la interpretación histórica. \nLaura Granero\, piano\nLaura Granero es una pianista española especializada en fortepiano\, clave y piano\, enfocada en la práctica interpretativa del siglo XIX. Es fundadora del Fanny Davies Ensemble\, con el que ha ganado varios premios. También es investigadora\, promotora de la visibilidad de mujeres compositoras\, y colabora con importantes orquestas y festivales internacionales. \nMás info \n\n\n\n\n\n\n\n  \n\n4o
URL:https://www.industriales.upm.es/info-evento/si-mis-versos-tuvieran-alas/
ATTACH;FMTTYPE=image/png:https://www.industriales.upm.es/wp-content/uploads/2024/09/CONCIERTO-1-mailing.png
END:VEVENT
END:VCALENDAR