BEGIN:VCALENDAR
VERSION:2.0
PRODID:-//Escuela Técnica Superior Ingenieros Industriales - ECPv6.15.20//NONSGML v1.0//EN
CALSCALE:GREGORIAN
METHOD:PUBLISH
X-ORIGINAL-URL:https://www.industriales.upm.es
X-WR-CALDESC:Eventos para Escuela Técnica Superior Ingenieros Industriales
REFRESH-INTERVAL;VALUE=DURATION:PT1H
X-Robots-Tag:noindex
X-PUBLISHED-TTL:PT1H
BEGIN:VTIMEZONE
TZID:Europe/Madrid
BEGIN:DAYLIGHT
TZOFFSETFROM:+0100
TZOFFSETTO:+0200
TZNAME:CEST
DTSTART:20220327T010000
END:DAYLIGHT
BEGIN:STANDARD
TZOFFSETFROM:+0200
TZOFFSETTO:+0100
TZNAME:CET
DTSTART:20221030T010000
END:STANDARD
BEGIN:DAYLIGHT
TZOFFSETFROM:+0100
TZOFFSETTO:+0200
TZNAME:CEST
DTSTART:20230326T010000
END:DAYLIGHT
BEGIN:STANDARD
TZOFFSETFROM:+0200
TZOFFSETTO:+0100
TZNAME:CET
DTSTART:20231029T010000
END:STANDARD
BEGIN:DAYLIGHT
TZOFFSETFROM:+0100
TZOFFSETTO:+0200
TZNAME:CEST
DTSTART:20240331T010000
END:DAYLIGHT
BEGIN:STANDARD
TZOFFSETFROM:+0200
TZOFFSETTO:+0100
TZNAME:CET
DTSTART:20241027T010000
END:STANDARD
END:VTIMEZONE
BEGIN:VEVENT
DTSTART;TZID=Europe/Madrid:20230710T143000
DTEND;TZID=Europe/Madrid:20230710T183000
DTSTAMP:20260425T145559
CREATED:20230706T153425Z
LAST-MODIFIED:20230706T153425Z
UID:10000388-1688999400-1689013800@www.industriales.upm.es
SUMMARY:Meeting University of Oklahoma-UPM
DESCRIPTION:Reunión con representantes de la Universidad de Oklahoma
URL:https://www.industriales.upm.es/info-evento/meeting-university-of-oklahoma-upm/
LOCATION:Sala de Juntas Dirección
END:VEVENT
BEGIN:VEVENT
DTSTART;TZID=Europe/Madrid:20230717T090000
DTEND;TZID=Europe/Madrid:20230717T140000
DTSTAMP:20260425T145559
CREATED:20230622T094149Z
LAST-MODIFIED:20230622T094553Z
UID:10000015-1689584400-1689602400@www.industriales.upm.es
SUMMARY:Verano ROBÓTICO
DESCRIPTION:Curso VERANO ROBÓTICO \n¿Por qué apuntarte a este curso?\nPara pasarlo bien\, para aprender jugar con la ingeniería y para conocer la universidad desde dentro. Y\, por si esto no fuera suficiente\, ¡para aprender a construir un robot! \nVen a conocernos y a disfrutar con nosotros este verano. \nDatos:\nLugar: Escuela Técnica Superior de Ingenieros Industriales de la Universidad Politécnica de Madrid. Aula 35. \nFecha: Semana del 17 al 21 de Julio \nDestinatarios: Alumnos que en el curso 2022/23 ha cursado 4ºESO\, 1º o 2º de Bachillerato \nHorario: De lunes a viernes de 9:00 a 14:00 \nPrecio: 210€/semana \nNúmero máximo de personas admitidas: 20 \nCupo mínimo de inscritos: El taller se impartirá si el número de inscritos alcanza las 10 personas. \nFORMULARIO DE MATRÍCULA\n 
URL:https://www.industriales.upm.es/info-evento/verano-robotico/2023-07-17/
LOCATION:Aula 35 ETSII
ATTACH;FMTTYPE=image/jpeg:https://www.industriales.upm.es/wp-content/uploads/2023/06/cartel-Verano-Robotico-1.jpg
END:VEVENT
BEGIN:VEVENT
DTSTART;VALUE=DATE:20230719
DTEND;VALUE=DATE:20230720
DTSTAMP:20260425T145559
CREATED:20230717T081945Z
LAST-MODIFIED:20230717T083610Z
UID:10000389-1689724800-1689811199@www.industriales.upm.es
SUMMARY:Fiesta Fin de Curso
DESCRIPTION:Estimad@s compañer@s\, \nVamos a celebrar el fin del presente curso el día 19 de julio. La celebración consistirá en una comida informal cuyo plato principal es paella acompañada de un menú fresco apropiado para las fechas (ver fichero adjunto). Para vuestra información\, este evento está en gran medida financiado por la Fundación para el Fomento de la Innovación Industrial (F2I2)\, a través de sus fines fundacionales (sólo el precio del menú es de 27€ IVA incluido) \nSe están programando algunas actividades para ese día (ping-pong\, futbolín\, campeonato de mus)\, y se entregarán los trofeos del primer torneo de pádel ETSII. Estará también el photo-call con disfraces y alguna sorpresa más\, todavía perfilándose. Y por supuesto habrá música y baile en el antiguo gimnasio que esta vez se complementará con un karaoke. El objetivo es pasar un buen rato todos juntos y mejorar las relaciones personales. \nPara poder acudir a la celebración\, será necesario entregar 12€ a Alicia López de la F2I2 que os entregará la pulsera identificativa del evento que se deberá llevar puesta ese día. Alicia tiene su puesto de trabajo en la oficina central de la F2I2\, en la segunda planta del edificio de atrás (antiguo LCOE). El horario de recogida de pulseras será de 11h a 12h todos los días laborables a partir mañana. El último día para recoger la pulsera será el lunes 17\, aunque para poder dimensionar correctamente el evento\, os rogaría que lo hagáis cuanto antes. \nEspero que esta propuesta sea de vuestro agrado y podemos celebrar todos juntos este curso que está a punto de terminar. \nUn cordial saludo. \nÓscar García Suárez\nDirector \n  \nPara paliar las altas temperaturas que venimos teniendo en los últimos días y con motivo de la celebración fin de curso 2022/2023 del día 19 de julio: \n* La primera parte del evento se desarrollará bajo la sombra del gimnasio ampliada con sombrillas\n* Posteriormente\, seguiremos dentro de dicho edificio con aire acondicionado.\n* En todo el desarrollo de la celebración contaremos con agua para mantenerse bien hidratado.\n* Es recomendable cubrirse la cabeza\, proteger los ojos\, utilizar protección solar y vestir ropa holgada y transpirable. \nEsperamos que todas estas medias minoren la incidencia de la climatología propia de estas fechas. Gracias por vuestra colaboración.
URL:https://www.industriales.upm.es/info-evento/fiesta-fin-de-curso/
ATTACH;FMTTYPE=image/png:https://www.industriales.upm.es/wp-content/uploads/2023/07/Paella.png
END:VEVENT
BEGIN:VEVENT
DTSTART;TZID=Europe/Madrid:20230719T090000
DTEND;TZID=Europe/Madrid:20230719T140000
DTSTAMP:20260425T145559
CREATED:20230622T094149Z
LAST-MODIFIED:20230622T094553Z
UID:10000017-1689757200-1689775200@www.industriales.upm.es
SUMMARY:Verano ROBÓTICO
DESCRIPTION:Curso VERANO ROBÓTICO \n¿Por qué apuntarte a este curso?\nPara pasarlo bien\, para aprender jugar con la ingeniería y para conocer la universidad desde dentro. Y\, por si esto no fuera suficiente\, ¡para aprender a construir un robot! \nVen a conocernos y a disfrutar con nosotros este verano. \nDatos:\nLugar: Escuela Técnica Superior de Ingenieros Industriales de la Universidad Politécnica de Madrid. Aula 35. \nFecha: Semana del 17 al 21 de Julio \nDestinatarios: Alumnos que en el curso 2022/23 ha cursado 4ºESO\, 1º o 2º de Bachillerato \nHorario: De lunes a viernes de 9:00 a 14:00 \nPrecio: 210€/semana \nNúmero máximo de personas admitidas: 20 \nCupo mínimo de inscritos: El taller se impartirá si el número de inscritos alcanza las 10 personas. \nFORMULARIO DE MATRÍCULA\n 
URL:https://www.industriales.upm.es/info-evento/verano-robotico/2023-07-19/
LOCATION:Aula 35 ETSII
ATTACH;FMTTYPE=image/jpeg:https://www.industriales.upm.es/wp-content/uploads/2023/06/cartel-Verano-Robotico-1.jpg
END:VEVENT
BEGIN:VEVENT
DTSTART;TZID=Europe/Madrid:20230719T110000
DTEND;TZID=Europe/Madrid:20230719T123000
DTSTAMP:20260425T145559
CREATED:20230717T083340Z
LAST-MODIFIED:20230717T083340Z
UID:10000390-1689764400-1689769800@www.industriales.upm.es
SUMMARY:Reunión de estrategia ETSII
DESCRIPTION:Reunión  para tratar algunos temas de importancia: \n\nComentarios sobre los R.D. de la LOSU\nModificación del Master en Ingeniería Industrial (MII)\nAdmisión 23/24 a los grados de la Escuela y al MII\nRepaso a las especialidades del GITI.\n\nLa reunión tendrá lugar el próximo día 19 de julio a las 11h en el Salón de Actos y tendrá una duración estimada de 1h-1:30h.
URL:https://www.industriales.upm.es/info-evento/reunion-de-estrategia-etsii/
ATTACH;FMTTYPE=image/jpeg:https://www.industriales.upm.es/wp-content/uploads/2023/07/Depositphotos_52469921_XL-scaled.jpg
END:VEVENT
BEGIN:VEVENT
DTSTART;TZID=Europe/Madrid:20230720T090000
DTEND;TZID=Europe/Madrid:20230720T140000
DTSTAMP:20260425T145559
CREATED:20230622T094149Z
LAST-MODIFIED:20230622T094553Z
UID:10000018-1689843600-1689861600@www.industriales.upm.es
SUMMARY:Verano ROBÓTICO
DESCRIPTION:Curso VERANO ROBÓTICO \n¿Por qué apuntarte a este curso?\nPara pasarlo bien\, para aprender jugar con la ingeniería y para conocer la universidad desde dentro. Y\, por si esto no fuera suficiente\, ¡para aprender a construir un robot! \nVen a conocernos y a disfrutar con nosotros este verano. \nDatos:\nLugar: Escuela Técnica Superior de Ingenieros Industriales de la Universidad Politécnica de Madrid. Aula 35. \nFecha: Semana del 17 al 21 de Julio \nDestinatarios: Alumnos que en el curso 2022/23 ha cursado 4ºESO\, 1º o 2º de Bachillerato \nHorario: De lunes a viernes de 9:00 a 14:00 \nPrecio: 210€/semana \nNúmero máximo de personas admitidas: 20 \nCupo mínimo de inscritos: El taller se impartirá si el número de inscritos alcanza las 10 personas. \nFORMULARIO DE MATRÍCULA\n 
URL:https://www.industriales.upm.es/info-evento/verano-robotico/2023-07-20/
LOCATION:Aula 35 ETSII
ATTACH;FMTTYPE=image/jpeg:https://www.industriales.upm.es/wp-content/uploads/2023/06/cartel-Verano-Robotico-1.jpg
END:VEVENT
BEGIN:VEVENT
DTSTART;TZID=Europe/Madrid:20230721T090000
DTEND;TZID=Europe/Madrid:20230721T140000
DTSTAMP:20260425T145559
CREATED:20230622T094149Z
LAST-MODIFIED:20230622T094553Z
UID:10000019-1689930000-1689948000@www.industriales.upm.es
SUMMARY:Verano ROBÓTICO
DESCRIPTION:Curso VERANO ROBÓTICO \n¿Por qué apuntarte a este curso?\nPara pasarlo bien\, para aprender jugar con la ingeniería y para conocer la universidad desde dentro. Y\, por si esto no fuera suficiente\, ¡para aprender a construir un robot! \nVen a conocernos y a disfrutar con nosotros este verano. \nDatos:\nLugar: Escuela Técnica Superior de Ingenieros Industriales de la Universidad Politécnica de Madrid. Aula 35. \nFecha: Semana del 17 al 21 de Julio \nDestinatarios: Alumnos que en el curso 2022/23 ha cursado 4ºESO\, 1º o 2º de Bachillerato \nHorario: De lunes a viernes de 9:00 a 14:00 \nPrecio: 210€/semana \nNúmero máximo de personas admitidas: 20 \nCupo mínimo de inscritos: El taller se impartirá si el número de inscritos alcanza las 10 personas. \nFORMULARIO DE MATRÍCULA\n 
URL:https://www.industriales.upm.es/info-evento/verano-robotico/2023-07-21/
LOCATION:Aula 35 ETSII
ATTACH;FMTTYPE=image/jpeg:https://www.industriales.upm.es/wp-content/uploads/2023/06/cartel-Verano-Robotico-1.jpg
END:VEVENT
END:VCALENDAR