BEGIN:VCALENDAR
VERSION:2.0
PRODID:-//Escuela Técnica Superior Ingenieros Industriales - ECPv6.15.20//NONSGML v1.0//EN
CALSCALE:GREGORIAN
METHOD:PUBLISH
X-ORIGINAL-URL:https://www.industriales.upm.es
X-WR-CALDESC:Eventos para Escuela Técnica Superior Ingenieros Industriales
REFRESH-INTERVAL;VALUE=DURATION:PT1H
X-Robots-Tag:noindex
X-PUBLISHED-TTL:PT1H
BEGIN:VTIMEZONE
TZID:Europe/Madrid
BEGIN:DAYLIGHT
TZOFFSETFROM:+0100
TZOFFSETTO:+0200
TZNAME:CEST
DTSTART:20250330T010000
END:DAYLIGHT
BEGIN:STANDARD
TZOFFSETFROM:+0200
TZOFFSETTO:+0100
TZNAME:CET
DTSTART:20251026T010000
END:STANDARD
BEGIN:DAYLIGHT
TZOFFSETFROM:+0100
TZOFFSETTO:+0200
TZNAME:CEST
DTSTART:20260329T010000
END:DAYLIGHT
BEGIN:STANDARD
TZOFFSETFROM:+0200
TZOFFSETTO:+0100
TZNAME:CET
DTSTART:20261025T010000
END:STANDARD
BEGIN:DAYLIGHT
TZOFFSETFROM:+0100
TZOFFSETTO:+0200
TZNAME:CEST
DTSTART:20270328T010000
END:DAYLIGHT
BEGIN:STANDARD
TZOFFSETFROM:+0200
TZOFFSETTO:+0100
TZNAME:CET
DTSTART:20271031T010000
END:STANDARD
END:VTIMEZONE
BEGIN:VEVENT
DTSTART;TZID=Europe/Madrid:20260327T080000
DTEND;TZID=Europe/Madrid:20260327T170000
DTSTAMP:20260423T000916
CREATED:20260317T090400Z
LAST-MODIFIED:20260317T105532Z
UID:10001340-1774598400-1774630800@www.industriales.upm.es
SUMMARY:Magia por Benin
DESCRIPTION:Mensajeros de la Paz y la Escuela Técnica Superior de Ingenieros Industriales de la Universidad Politécnica de Madrid presentan Magia por Benín – #16 Edición\n27\, 28 y 29 de marzo de 2026\nFestival de magia solidaria para todos los públicos. Ayudamos a educar a niños de Benín en situación de vulnerabilidad\n5 shows: Viernes 27 (20.00) / Sábado 27 (17.00 y 20.00) / Domingo 29(12.00 y 17.00) \nMagia por Benín celebra con entusiasmo su 16 aniversario del festival de magia solidario con un extraordinario elenco de magos y de personalidades de la comunicación el 27\, 28 y 29 de marzo de 2026 en Madrid.\nEl objetivo del festival es recaudar fondos para financiar la escolarización de los niños del centro infantil de Mensajeros de la Paz en Cotonou (Benín) y para garantizar el apoyo escolar a los que han sido reintegrados en familias tras pasar por el centro. Se trata de niños huérfanos\, abandonados\, rescatados de redes esclavistas o en situaciones de maltrato. \nEn ese mágico fin de semana ofreceremos cinco espectáculos en los que participarán los excepcionales magos Jandro\, Álex Gilabert\, Javi Rufo\, Adrián Vega y Luis Olmedo. Las sesiones serán presentadas por Marta Reyero y Roberto Vara. Como siempre\, los magos\, los presentadores y todos los colaboradores de la iniciativa participan de forma altruista en el festival.\nMás de 15.000 espectadores han disfrutado de excepcionales espectáculos de magia en los 55 shows de las ediciones anteriores. La recaudación obtenida\, sumada a las generosas aportaciones de la Fila Cero\, supera ya los 221.000 €. Así se han escolarizado y mantenido desde 2010\, en el Centro de la Alegría de Cotonou\, a 50 niños cada año\, además de mantener el apoyo escolar a los que han sido reintegrados en familias. \nMensajeros de la Paz\, galardonada con el Premio Príncipe de Asturias y presidida por el bien conocido Padre Ángel\, trabaja en Benín desde 1996\, desarrollando proyectos de asistencia y protección a menores\, y de ayuda al desarrollo. \n5 SHOWS DE MAGIA POR BENÍN PARA TODOS LOS PÚBLICOS\nShow 1:. Viernes 27de marzo a las 20.00.\nShows 2 y 3: Sábado 28 de marzo a las 17.00 y a las 20.00.\nShows 4 y 5: Domingo 29de marzo a las 12.00 y 17.00.\nDuración aproximada. 1 hora y 30 minutos. Entradas. www.magiaporbenin.com. Precio. 18 €.\nFila Cero. Las personas que deseen hacer una aportación extraordinaria pueden hacerlo en la web http://www.magiaporbenin.com/#fila-cero a la siguiente cuenta de la Fundación Mensajeros de la Paz: ES21 0049 5104 1120 1606 3667 (BIC: BSCHESMMXXX)
URL:https://www.industriales.upm.es/info-evento/magia-por-benin/
ATTACH;FMTTYPE=image/png:https://www.industriales.upm.es/wp-content/uploads/2026/03/magia_por_benin_2026.png
END:VEVENT
BEGIN:VEVENT
DTSTART;TZID=Europe/Madrid:20260327T083000
DTEND;TZID=Europe/Madrid:20260327T193000
DTSTAMP:20260423T000916
CREATED:20251118T162735Z
LAST-MODIFIED:20251118T162735Z
UID:10001240-1774600200-1774639800@www.industriales.upm.es
SUMMARY:Curso de código PHITS
DESCRIPTION:Curso PHITS
URL:https://www.industriales.upm.es/info-evento/curso-de-codigo-phits-2/
END:VEVENT
BEGIN:VEVENT
DTSTART;TZID=Europe/Madrid:20260407T173000
DTEND;TZID=Europe/Madrid:20260504T210000
DTSTAMP:20260423T000916
CREATED:20260220T104409Z
LAST-MODIFIED:20260220T104409Z
UID:10001321-1775583000-1777928400@www.industriales.upm.es
SUMMARY:Seminario de Reactores Avanzados - Sociedad Nuclear Española y ETSII-UPM
DESCRIPTION:
URL:https://www.industriales.upm.es/info-evento/seminario-de-reactores-avanzados-sociedad-nuclear-espanola-y-etsii-upm/
END:VEVENT
BEGIN:VEVENT
DTSTART;TZID=Europe/Madrid:20260408T133000
DTEND;TZID=Europe/Madrid:20260408T150000
DTSTAMP:20260423T000916
CREATED:20260317T084234Z
LAST-MODIFIED:20260326T081602Z
UID:10001339-1775655000-1775660400@www.industriales.upm.es
SUMMARY:Programa de Bienestar y Salud
DESCRIPTION:
URL:https://www.industriales.upm.es/info-evento/programa-de-bienestar-y-salud/
ATTACH;FMTTYPE=image/jpeg:https://www.industriales.upm.es/wp-content/uploads/2026/03/Gestion-del-tiempo-Programa-ImportaTE.jpg
END:VEVENT
BEGIN:VEVENT
DTSTART;TZID=Europe/Madrid:20260409T090000
DTEND;TZID=Europe/Madrid:20260409T130000
DTSTAMP:20260423T000916
CREATED:20260317T092657Z
LAST-MODIFIED:20260317T092657Z
UID:10001341-1775725200-1775739600@www.industriales.upm.es
SUMMARY:Grupo de trabajo ONAC
DESCRIPTION:
URL:https://www.industriales.upm.es/info-evento/grupo-de-trabajo-onac/
END:VEVENT
BEGIN:VEVENT
DTSTART;TZID=Europe/Madrid:20260409T170000
DTEND;TZID=Europe/Madrid:20260409T200000
DTSTAMP:20260423T000916
CREATED:20251014T094934Z
LAST-MODIFIED:20260210T121920Z
UID:10001179-1775754000-1775764800@www.industriales.upm.es
SUMMARY:Jornada de Puertas Abiertas para estudiantes de bachillerato
DESCRIPTION:
URL:https://www.industriales.upm.es/info-evento/jornada-de-puertas-abiertas-para-estudiantes-de-bachillerato-2/
END:VEVENT
BEGIN:VEVENT
DTSTART;TZID=Europe/Madrid:20260409T173000
DTEND;TZID=Europe/Madrid:20260409T203000
DTSTAMP:20260423T000916
CREATED:20260327T071356Z
LAST-MODIFIED:20260327T071356Z
UID:10001359-1775755800-1775766600@www.industriales.upm.es
SUMMARY:Computación Cuántica. Una Perspectiva Empresarial
DESCRIPTION:El ponente será Antonio Peris\, CEO de la empresa Q-centroid.  https://qcentroid.xyz/    La charla se enmarca en la V Ed. de las Charlas MATAE. Se espera otra dos charlas durante este curso.
URL:https://www.industriales.upm.es/info-evento/computacion-cuantica-una-perspectiva-empresarial/
END:VEVENT
BEGIN:VEVENT
DTSTART;TZID=Europe/Madrid:20260409T183000
DTEND;TZID=Europe/Madrid:20260423T210000
DTSTAMP:20260423T000916
CREATED:20260210T123908Z
LAST-MODIFIED:20260210T123908Z
UID:10001316-1775759400-1776978000@www.industriales.upm.es
SUMMARY:Ciclo conferencias Emprendimiento e Innovacion
DESCRIPTION:Conferencias de Emprendimiento e Innovavión    9 abril Rodrigo del Prado – fundador BQ  Monica Alvarez\, directiva Airbus
URL:https://www.industriales.upm.es/info-evento/ciclo-conferencias-emprendimiento-e-innovacion/
END:VEVENT
BEGIN:VEVENT
DTSTART;TZID=Europe/Madrid:20260410T170000
DTEND;TZID=Europe/Madrid:20260410T200000
DTSTAMP:20260423T000916
CREATED:20260210T121812Z
LAST-MODIFIED:20260210T121812Z
UID:10001315-1775840400-1775851200@www.industriales.upm.es
SUMMARY:Jornada de Puertas Abiertas para estudiantes de bachillerato
DESCRIPTION:
URL:https://www.industriales.upm.es/info-evento/jornada-de-puertas-abiertas-para-estudiantes-de-bachillerato-2-2/
END:VEVENT
BEGIN:VEVENT
DTSTART;TZID=Europe/Madrid:20260410T200000
DTEND;TZID=Europe/Madrid:20260410T210000
DTSTAMP:20260423T000916
CREATED:20251014T094938Z
LAST-MODIFIED:20251014T094938Z
UID:10001180-1775851200-1775854800@www.industriales.upm.es
SUMMARY:Festival de Teatro de la UPM
DESCRIPTION:
URL:https://www.industriales.upm.es/info-evento/festival-de-teatro-de-la-upm/
END:VEVENT
BEGIN:VEVENT
DTSTART;TZID=Europe/Madrid:20260411T083000
DTEND;TZID=Europe/Madrid:20260417T210000
DTSTAMP:20260423T000916
CREATED:20251118T163322Z
LAST-MODIFIED:20251118T163322Z
UID:10001243-1775896200-1776459600@www.industriales.upm.es
SUMMARY:Festival de Teatro de la UPM
DESCRIPTION:Festival de Teatro de la UPM
URL:https://www.industriales.upm.es/info-evento/festival-de-teatro-de-la-upm-3/
END:VEVENT
BEGIN:VEVENT
DTSTART;TZID=Europe/Madrid:20260413T133000
DTEND;TZID=Europe/Madrid:20260413T150000
DTSTAMP:20260423T000916
CREATED:20260326T081702Z
LAST-MODIFIED:20260326T081702Z
UID:10001358-1776087000-1776092400@www.industriales.upm.es
SUMMARY:Programa de Bienestar y Salud
DESCRIPTION:
URL:https://www.industriales.upm.es/info-evento/programa-de-bienestar-y-salud-2/
ATTACH;FMTTYPE=image/jpeg:https://www.industriales.upm.es/wp-content/uploads/2026/03/Gestion-del-tiempo-Programa-ImportaTE.jpg
END:VEVENT
BEGIN:VEVENT
DTSTART;TZID=Europe/Madrid:20260414T083000
DTEND;TZID=Europe/Madrid:20260414T150000
DTSTAMP:20260423T000916
CREATED:20260107T073538Z
LAST-MODIFIED:20260107T073538Z
UID:10001274-1776155400-1776178800@www.industriales.upm.es
SUMMARY:Evolución e interés de las pruebas multifuncionales de subestación
DESCRIPTION:Evolución e interés de las pruebas multifuncionales de subestación: introducción al Ecosistema CPX200  Pruebas en transformadores de medida y protección: relación\, carga\, polaridad\, saturación\, …  Pruebas en interruptores: sincronismo\, resistencia de contacto\, …  Pruebas en transformadores de potencia: relación\, resistencia de devanados\, aislamiento\, …  Gestión del mantenimiento de activos: diagnóstico\, análisis de tendencias\, estadísticas\, …
URL:https://www.industriales.upm.es/info-evento/evolucion-e-interes-de-las-pruebas-multifuncionales-de-subestacion-2/
END:VEVENT
BEGIN:VEVENT
DTSTART;TZID=Europe/Madrid:20260414T133000
DTEND;TZID=Europe/Madrid:20260414T143000
DTSTAMP:20260423T000916
CREATED:20250722T091405Z
LAST-MODIFIED:20250722T091405Z
UID:10001071-1776173400-1776177000@www.industriales.upm.es
SUMMARY:Conferencia sobre especialidades GITI: Automática y Electrónica
DESCRIPTION:Conferencias de presentación de especialidades del Grado en Ingeniería en Tecnologías Industriales
URL:https://www.industriales.upm.es/info-evento/conferencia-sobre-especialidades-giti-automatica-y-electronica/
END:VEVENT
BEGIN:VEVENT
DTSTART;TZID=Europe/Madrid:20260415T133000
DTEND;TZID=Europe/Madrid:20260415T143000
DTSTAMP:20260423T000916
CREATED:20250722T091416Z
LAST-MODIFIED:20250722T091416Z
UID:10001072-1776259800-1776263400@www.industriales.upm.es
SUMMARY:Conferencia sobre especialidades GITI: Ingeniería Eléctrica
DESCRIPTION:Conferencias de presentación de especialidades del Grado en Ingeniería en Tecnologías Industriales
URL:https://www.industriales.upm.es/info-evento/conferencia-sobre-especialidades-giti-ingenieria-electrica/
END:VEVENT
BEGIN:VEVENT
DTSTART;TZID=Europe/Madrid:20260416T133000
DTEND;TZID=Europe/Madrid:20260416T143000
DTSTAMP:20260423T000916
CREATED:20250722T091426Z
LAST-MODIFIED:20250722T091426Z
UID:10001073-1776346200-1776349800@www.industriales.upm.es
SUMMARY:Conferencia sobre especialidades GITI: Ingeniería Mecánica
DESCRIPTION:Conferencias de presentación de especialidades del Grado en Ingeniería en Tecnologías Industriales
URL:https://www.industriales.upm.es/info-evento/conferencia-sobre-especialidades-giti-ingenieria-mecanica/
END:VEVENT
BEGIN:VEVENT
DTSTART;TZID=Europe/Madrid:20260416T183000
DTEND;TZID=Europe/Madrid:20260416T203000
DTSTAMP:20260423T000916
CREATED:20260225T083451Z
LAST-MODIFIED:20260225T083451Z
UID:10001323-1776364200-1776371400@www.industriales.upm.es
SUMMARY:MIO Alumni
DESCRIPTION:
URL:https://www.industriales.upm.es/info-evento/mio-alumni/
END:VEVENT
BEGIN:VEVENT
DTSTART;TZID=Europe/Madrid:20260417T133000
DTEND;TZID=Europe/Madrid:20260417T143000
DTSTAMP:20260423T000916
CREATED:20250722T091436Z
LAST-MODIFIED:20250722T091436Z
UID:10001074-1776432600-1776436200@www.industriales.upm.es
SUMMARY:Conferencias sobre especialidades GITI: Sistemas y Estructuras Inteligentes
DESCRIPTION:Conferencias de presentación de especialidades del Grado en Ingeniería en Tecnologías Industriales
URL:https://www.industriales.upm.es/info-evento/conferencias-sobre-especialidades-giti-sistemas-y-estructuras-inteligentes/
END:VEVENT
BEGIN:VEVENT
DTSTART;TZID=Europe/Madrid:20260420T080000
DTEND;TZID=Europe/Madrid:20260420T120000
DTSTAMP:20260423T000916
CREATED:20260122T115411Z
LAST-MODIFIED:20260122T115411Z
UID:10001297-1776672000-1776686400@www.industriales.upm.es
SUMMARY:Taller de Comunicación Ingenia
DESCRIPTION:
URL:https://www.industriales.upm.es/info-evento/taller-de-comunicacion-ingenia-5/
END:VEVENT
BEGIN:VEVENT
DTSTART;TZID=Europe/Madrid:20260420T133000
DTEND;TZID=Europe/Madrid:20260420T143000
DTSTAMP:20260423T000916
CREATED:20250722T091448Z
LAST-MODIFIED:20250722T091448Z
UID:10001075-1776691800-1776695400@www.industriales.upm.es
SUMMARY:Conferencia sobre especialidades: Materiales
DESCRIPTION:Conferencias de presentación de especialidades del Grado en Ingeniería en Tecnologías Industriales
URL:https://www.industriales.upm.es/info-evento/conferencia-sobre-especialidades-materiales/
END:VEVENT
BEGIN:VEVENT
DTSTART;TZID=Europe/Madrid:20260420T173000
DTEND;TZID=Europe/Madrid:20260420T203000
DTSTAMP:20260423T000916
CREATED:20260327T071610Z
LAST-MODIFIED:20260417T102133Z
UID:10001361-1776706200-1776717000@www.industriales.upm.es
SUMMARY:Despligue de la IA en una Multinacional. Perspectiva Empresarial del Banco Santander
DESCRIPTION:Los ponentes son expertos técnicos en desarrollo de IA en entornos de altas prestaciones. Analizarán los cambios que la IA está suponiendo en las organizaciones.
URL:https://www.industriales.upm.es/info-evento/despligue-de-la-ia-en-una-multinacional-perspectiva-empresarial-del-banco-santander/
ATTACH;FMTTYPE=image/jpeg:https://www.industriales.upm.es/wp-content/uploads/2026/03/Cartel-Charla-2-Mural.jpg
END:VEVENT
BEGIN:VEVENT
DTSTART;TZID=Europe/Madrid:20260421T133000
DTEND;TZID=Europe/Madrid:20260421T143000
DTSTAMP:20260423T000916
CREATED:20250722T091457Z
LAST-MODIFIED:20250722T091457Z
UID:10001076-1776778200-1776781800@www.industriales.upm.es
SUMMARY:Conferencia sobre especialidades GITI: Organización Industrial
DESCRIPTION:Conferencias de presentación de especialidades del Grado en Ingeniería en Tecnologías Industriales
URL:https://www.industriales.upm.es/info-evento/conferencia-sobre-especialidades-giti-organizacion-industrial/
END:VEVENT
BEGIN:VEVENT
DTSTART;TZID=Europe/Madrid:20260422T100000
DTEND;TZID=Europe/Madrid:20260422T130000
DTSTAMP:20260423T000916
CREATED:20260225T152520Z
LAST-MODIFIED:20260417T095756Z
UID:10001325-1776852000-1776862800@www.industriales.upm.es
SUMMARY:Jornada anual Aula ESELEC
DESCRIPTION:
URL:https://www.industriales.upm.es/info-evento/jornada-anual-aula-eselec/
ATTACH;FMTTYPE=image/jpeg:https://www.industriales.upm.es/wp-content/uploads/2026/02/Flyer-Presentacion-Aula-Empresa-ESELEC-scaled.jpg
END:VEVENT
BEGIN:VEVENT
DTSTART;TZID=Europe/Madrid:20260422T133000
DTEND;TZID=Europe/Madrid:20260422T143000
DTSTAMP:20260423T000916
CREATED:20250722T091516Z
LAST-MODIFIED:20250722T091516Z
UID:10001077-1776864600-1776868200@www.industriales.upm.es
SUMMARY:Conferencia sobre especialidades GITI: Química Industrial y Medio Ambiente
DESCRIPTION:Conferencias de presentación de especialidades del Grado en Ingeniería en Tecnologías Industriales
URL:https://www.industriales.upm.es/info-evento/conferencia-sobre-especialidades-giti-quimica-industrial-y-medio-ambiente/
END:VEVENT
BEGIN:VEVENT
DTSTART;TZID=Europe/Madrid:20260422T133000
DTEND;TZID=Europe/Madrid:20260422T150000
DTSTAMP:20260423T000916
CREATED:20260416T101326Z
LAST-MODIFIED:20260416T101346Z
UID:10001372-1776864600-1776870000@www.industriales.upm.es
SUMMARY:Resolución de conflictos: comunicación sana más allá de la asertividad
DESCRIPTION:Nuestro Programa de Bienstar y Salud de la ETSII – Programa ImportaTE te invita a cuidar tus relaciones con este taller de «Resolución de conflictos: comunicación sana más allá de la asertividad«. \nContaremos con la participación de Carmen Bermúdez Romero\, psicóloga y terapeuta de familia y pareja\, que seguro nos hará reflexionar y nos facilitará herramientas para mejorar nuestra comunición interpersonal. \nTe esperamos el próximo miércoles 22 a las 13’30h en el aula C. \nReserva tu plaza en: https://forms.office.com/e/Njc3VKtEAP
URL:https://www.industriales.upm.es/info-evento/resolucion-de-conflictos-comunicacion-sana-mas-alla-de-la-asertividad/
ATTACH;FMTTYPE=image/jpeg:https://www.industriales.upm.es/wp-content/uploads/2026/04/TallerResoluciondeconflictos-Comunicacionsanamasalladelaasertividad.jpg
END:VEVENT
BEGIN:VEVENT
DTSTART;TZID=Europe/Madrid:20260422T173000
DTEND;TZID=Europe/Madrid:20260422T190000
DTSTAMP:20260423T000916
CREATED:20260408T113827Z
LAST-MODIFIED:20260408T113827Z
UID:10001364-1776879000-1776884400@www.industriales.upm.es
SUMMARY:Climatización 4.0: Cómo Evoluciona la Gestión Térmica en Centros de Datos Diseñados para Inteligencia Artificial
DESCRIPTION:
URL:https://www.industriales.upm.es/info-evento/climatizacion-4-0-como-evoluciona-la-gestion-termica-en-centros-de-datos-disenados-para-inteligencia-artificial/
END:VEVENT
BEGIN:VEVENT
DTSTART;TZID=Europe/Madrid:20260423T090000
DTEND;TZID=Europe/Madrid:20260423T180000
DTSTAMP:20260423T000916
CREATED:20260317T093017Z
LAST-MODIFIED:20260317T093017Z
UID:10001342-1776934800-1776967200@www.industriales.upm.es
SUMMARY:XVIII ANNUAL MEETING
DESCRIPTION:POR DEFINIR
URL:https://www.industriales.upm.es/info-evento/xviii-annual-meeting/
END:VEVENT
BEGIN:VEVENT
DTSTART;TZID=Europe/Madrid:20260423T133000
DTEND;TZID=Europe/Madrid:20260423T143000
DTSTAMP:20260423T000916
CREATED:20250722T091529Z
LAST-MODIFIED:20250722T091529Z
UID:10001078-1776951000-1776954600@www.industriales.upm.es
SUMMARY:Conferencia sobre especialidades GITI: Técnicas Energéticas
DESCRIPTION:Conferencias de presentación de especialidades del Grado en Ingeniería en Tecnologías Industriales
URL:https://www.industriales.upm.es/info-evento/conferencia-sobre-especialidades-giti-tecnicas-energeticas/
END:VEVENT
BEGIN:VEVENT
DTSTART;TZID=Europe/Madrid:20260423T170000
DTEND;TZID=Europe/Madrid:20260423T210000
DTSTAMP:20260423T000916
CREATED:20260309T123829Z
LAST-MODIFIED:20260309T123829Z
UID:10001338-1776963600-1776978000@www.industriales.upm.es
SUMMARY:Acto 40 aniversario de Chernóbil Sociedad Nuclear Española y ETSII-UPM
DESCRIPTION:
URL:https://www.industriales.upm.es/info-evento/acto-40-aniversario-de-chernobil-sociedad-nuclear-espanola-y-etsii-upm/
END:VEVENT
BEGIN:VEVENT
DTSTART;TZID=Europe/Madrid:20260423T183000
DTEND;TZID=Europe/Madrid:20260423T210000
DTSTAMP:20260423T000916
CREATED:20260206T124514Z
LAST-MODIFIED:20260206T124514Z
UID:10001307-1776969000-1776978000@www.industriales.upm.es
SUMMARY:Conferencia Emprendimiento e Innovación
DESCRIPTION:Conferencia Monica Alvarez\, directiva Airbus
URL:https://www.industriales.upm.es/info-evento/conferencia-emprendimiento-e-innovacion/
END:VEVENT
END:VCALENDAR