BEGIN:VCALENDAR
VERSION:2.0
PRODID:-//Escuela Técnica Superior Ingenieros Industriales - ECPv6.15.20//NONSGML v1.0//EN
CALSCALE:GREGORIAN
METHOD:PUBLISH
X-WR-CALNAME:Escuela Técnica Superior Ingenieros Industriales
X-ORIGINAL-URL:https://www.industriales.upm.es
X-WR-CALDESC:Eventos para Escuela Técnica Superior Ingenieros Industriales
REFRESH-INTERVAL;VALUE=DURATION:PT1H
X-Robots-Tag:noindex
X-PUBLISHED-TTL:PT1H
BEGIN:VTIMEZONE
TZID:Europe/Madrid
BEGIN:DAYLIGHT
TZOFFSETFROM:+0100
TZOFFSETTO:+0200
TZNAME:CEST
DTSTART:20240331T010000
END:DAYLIGHT
BEGIN:STANDARD
TZOFFSETFROM:+0200
TZOFFSETTO:+0100
TZNAME:CET
DTSTART:20241027T010000
END:STANDARD
BEGIN:DAYLIGHT
TZOFFSETFROM:+0100
TZOFFSETTO:+0200
TZNAME:CEST
DTSTART:20250330T010000
END:DAYLIGHT
BEGIN:STANDARD
TZOFFSETFROM:+0200
TZOFFSETTO:+0100
TZNAME:CET
DTSTART:20251026T010000
END:STANDARD
BEGIN:DAYLIGHT
TZOFFSETFROM:+0100
TZOFFSETTO:+0200
TZNAME:CEST
DTSTART:20260329T010000
END:DAYLIGHT
BEGIN:STANDARD
TZOFFSETFROM:+0200
TZOFFSETTO:+0100
TZNAME:CET
DTSTART:20261025T010000
END:STANDARD
BEGIN:DAYLIGHT
TZOFFSETFROM:+0100
TZOFFSETTO:+0200
TZNAME:CEST
DTSTART:20270328T010000
END:DAYLIGHT
BEGIN:STANDARD
TZOFFSETFROM:+0200
TZOFFSETTO:+0100
TZNAME:CET
DTSTART:20271031T010000
END:STANDARD
END:VTIMEZONE
BEGIN:VEVENT
DTSTART;TZID=Europe/Madrid:20251219T120000
DTEND;TZID=Europe/Madrid:20251219T140000
DTSTAMP:20260422T043942
CREATED:20251128T114424Z
LAST-MODIFIED:20251218T100145Z
UID:10001258-1766145600-1766152800@www.industriales.upm.es
SUMMARY:Concierto “Jam on Trio”
DESCRIPTION:12:25h Salón de Actos. \nLa agrupación “Jam on Trio”\, compuesto por Javier Seijo al piano\, Alberto Bravo y Martín Fernández al saxofón\, nació en 2022 en el Conservatorio Superior Katarina Gurska (CSKG) bajo la tutela de Pedro Pablo Cámara con el objetivo de disfrutar explorando música de todas las épocas\, siempre buscando la excelencia técnica y sonora. A lo largo de estos años el trío ha tocado en importantes auditorios a nivel nacional como el Centro de Exposiciones y Congresos de Ávila\, el Auditorio del Conservatori Liceu de Barcelona o la sala Galileo en Madrid. \nEsta vez\, a través de un variado programa que intercala jazz con Duke Ellington\, Romanticismo con Mendelssoh\, Nacionalismo con Glinka\, Neoclasicismo con Shostakovich\, y contemporáneo con Techno Parade (2002) de Guillaume Connesson\, todo un espectáculo de efectos instrumentales y técnicas extendidas. \nJavier Seijo Martín empezó a tocar el piano con 5 años\, pero la verdadera pasión por la música la fue desarrollando a través del estudio y la experiencia. Nacido en Madrid en 2002\, estudió en el Conservatorio Profesional de Majadahonda\, ciudad donde ha vivido la mayor parte de su vida y donde empezó a recibir clases del salmantino Antonio León-Robuster en 2011. Javier acabó el Grado profesional con el maestro Ángel Gago en 2021 con Mención Honorífica en la asignatura de piano\, y desde entonces ha tocado con coros\, orquestas\, cantantes y agrupaciones de música de cámara. Javier ha recibido la Beca de Excelencia de la Comunidad de Madrid por su gran rendimiento académico en el Centro Superior Katarina Gurska\, donde cursa 3º de Enseñanzas Artísticas desde 2023 bajo la tutela del croata Bruno Vlahek. \nMartín Fernández Díez\, estudió saxofón en el CIM Padre Antonio Soler de El Escorial\, con Miguel Ángel Pastor y repertorio con Ofelia Montalván. Más tarde estudia con Pedro Pablo Cámara Toldos y repertorio con Leila Röömel en el CSKG de Madrid. Ha recibido masterclasses de Marcus Waiss\, Miguel Ángel Lorente\, Thomas Barthelemy\, Pawel Gusnar y Erzebet Seleljo. Desde 2022 es profesor del Monasterio de El Escorial. \nAlberto Bravo Díaz\, es un saxofonista apasionado por explorar y comprender diversos tipos de música de todas las épocas y estilos. Su trayectoria musical comenzó a los siete años en un pequeño pueblo cerca de Madrid y poco a poco fue descubriendo las grandes posibilidades expresivas de el saxofón\, ampliando sus estudios en el Conservatorio Profesional de Música Arturo Soria en Madrid\, donde obtuvo el Premio Fin de Estudios pudiendo tocar como solista en el Auditorio Nacional como recompensa. Posteriormente\, Alberto se adentró aún más en el mundo interpretativo completando sus estudios Superiores en el CSKG\, donde ha terminado de manera ejemplar este mismo año. A lo largo de su carrera ha recibido formación de algunos de los saxofonistas y compositores más distinguidos e influyentes de nuestro tiempo\, entre ellos Marie-Bernadette Charrier\, Marcus Weiss\, Claude Delangle o Alberto Posadas. Adicionalmente\, Alberto cultiva un profundo interés por las matemáticas y la tecnología\, y cursa estudios de Ingeniería Industrial en la Universidad Politécnica de Madrid\, tendiendo puentes entre el arte y la ciencia.
URL:https://www.industriales.upm.es/info-evento/concierto-copa-de-navidad/
ATTACH;FMTTYPE=image/jpeg:https://www.industriales.upm.es/wp-content/uploads/2025/11/saxos.jpg
END:VEVENT
BEGIN:VEVENT
DTSTART;TZID=Europe/Madrid:20260113T080000
DTEND;TZID=Europe/Madrid:20260113T160000
DTSTAMP:20260422T043942
CREATED:20251204T071544Z
LAST-MODIFIED:20251204T071544Z
UID:10001260-1768291200-1768320000@www.industriales.upm.es
SUMMARY:Defensa de tesis de Sergio Vela Griñan
DESCRIPTION:Se realizará la defensa de tesis doctoral de Sergio Vela Griñan\, con titulo ?Development and validation of numerical models for laser ablation with ultrashort pulses?. Directores: Miguel Morales Furió y Carlos Molpeceres Álvarez.
URL:https://www.industriales.upm.es/info-evento/defensa-de-tesis-de-sergio-vela-grinan/
END:VEVENT
BEGIN:VEVENT
DTSTART;TZID=Europe/Madrid:20260116T120000
DTEND;TZID=Europe/Madrid:20260116T133000
DTSTAMP:20260422T043942
CREATED:20251205T074238Z
LAST-MODIFIED:20251205T074238Z
UID:10001261-1768564800-1768570200@www.industriales.upm.es
SUMMARY:Research activities from Prof Dorota Wilk-Kolodziejczyk
DESCRIPTION:Presentación de las actividades de investigación por parte de la profesora de la Universidad Técnica de Cracovia  Networking
URL:https://www.industriales.upm.es/info-evento/research-activities-from-prof-dorota-wilk-kolodziejczyk/
END:VEVENT
BEGIN:VEVENT
DTSTART;TZID=Europe/Madrid:20260120T160000
DTEND;TZID=Europe/Madrid:20260120T200000
DTSTAMP:20260422T043942
CREATED:20251218T075352Z
LAST-MODIFIED:20251218T075352Z
UID:10001269-1768924800-1768939200@www.industriales.upm.es
SUMMARY:Taller ODS - Technovation Girls
DESCRIPTION:
URL:https://www.industriales.upm.es/info-evento/taller-ods-technovation-girls/
END:VEVENT
BEGIN:VEVENT
DTSTART;TZID=Europe/Madrid:20260120T163000
DTEND;TZID=Europe/Madrid:20260120T193000
DTSTAMP:20260422T043942
CREATED:20260115T115629Z
LAST-MODIFIED:20260115T115629Z
UID:10001285-1768926600-1768937400@www.industriales.upm.es
SUMMARY:Defensa de tesis doctoral
DESCRIPTION:Autor: Joao Gabriel Gomes de Oliveira.  Título: “Stabilization Techniques for Eulerian-Lagrangian High-Order Finite Element Methods Applied to Nonhydrostatic Ocean Models”.  Director: Pedro Galán del Sastre.  Día y hora: martes 20 de enero de 2026 a las 17:00. Lugar: ETS Ingenieros Industriales (UPM)
URL:https://www.industriales.upm.es/info-evento/defensa-de-tesis-doctoral/
END:VEVENT
BEGIN:VEVENT
DTSTART;TZID=Europe/Madrid:20260122T093000
DTEND;TZID=Europe/Madrid:20260122T183000
DTSTAMP:20260422T043942
CREATED:20260112T072444Z
LAST-MODIFIED:20260112T072444Z
UID:10001276-1769074200-1769106600@www.industriales.upm.es
SUMMARY:Seminario sobre funcionales entrópicos y divergencias
DESCRIPTION:Seminario sobre funcionales entrópicos y divergencias\, impartido por los profesores David Puertas Centeno y Elio Valero Toranzo\, de la Universidad Rey Juan Carlos (URJC). Ambos profesores son miembros de un Proyecto de Investigación del Plan Nacional del Ministerio sobre Redes Neuronales\, cuyos Investigadores principales son Mª Elena Domínguez (ETSII-UPM) y David Luengo (ETSIST-UPM). Esta charla también se emitirá telemáticamente.
URL:https://www.industriales.upm.es/info-evento/seminario-sobre-funcionales-entropicos-y-divergencias/
END:VEVENT
BEGIN:VEVENT
DTSTART;TZID=Europe/Madrid:20260123T120000
DTEND;TZID=Europe/Madrid:20260123T133000
DTSTAMP:20260422T043942
CREATED:20251216T123340Z
LAST-MODIFIED:20251216T123340Z
UID:10001267-1769169600-1769175000@www.industriales.upm.es
SUMMARY:Presentación Fundación Industria COIIM
DESCRIPTION:
URL:https://www.industriales.upm.es/info-evento/presentacion-fundacion-industria-coiim/
END:VEVENT
BEGIN:VEVENT
DTSTART;TZID=Europe/Madrid:20260130T180000
DTEND;TZID=Europe/Madrid:20260130T210000
DTSTAMP:20260422T043942
CREATED:20250918T093503Z
LAST-MODIFIED:20260108T104024Z
UID:10001127-1769796000-1769806800@www.industriales.upm.es
SUMMARY:Solemne Acto Académico de Graduación de la Escuela Técnica Superior de Ingenieros Industriales
DESCRIPTION:30 de enero de 2026 \nHotel Madrid Marriott Auditorium. Avenida de Aragón\, 400. San Blas-Canillejas\, 28022 Madrid. \nPrograma del Acto 18:00h. \n\nApertura del Acto por el Sr. Rector Magnífico\nIntervención del padrino/madrina de las promociones\nEntrega de diplomas a los titulados de la 12.a promoción del Grado en Ingeniería en Tecnologías Industriales.\nEntrega de diplomas a los titulados de la 12.a promoción del Grado en Ingeniería Química.\nEntrega de diplomas a los titulados de la 9.a promoción del Grado en Ingeniería de Organización.\nEntrega de diplomas a los titulados de la 168.a promoción de Ingeniería Industrial (Máster Universitario en Ingeniería Industrial).\nEntrega de diplomas a los titulados de otros Másteres Universitarios.\n\nEntrega de premios \n\nEntrega de distinciones de la Escuela Técnica Superior de Ingenieros Industriales.\nIntervención del/la representante de los estudiantes.\nIntervención del Ilmo. Sr. Director de la Escuela\nIntervención del Sr. Rector Magnífico Clausura del Acto.\n\nEl acto será retransmitido en directo a través del siguiente enlace \nhttp://audiovisuales.upm.es/directo/
URL:https://www.industriales.upm.es/info-evento/solemne-acto-academico-de-graduacion-de-la-escuela-tecnica-superior-de-ingenieros-industriales/
CATEGORIES:Acto Institucional
ATTACH;FMTTYPE=image/jpeg:https://www.industriales.upm.es/wp-content/uploads/2024/07/53495312079_ff9e6cecb5_c.jpg
END:VEVENT
BEGIN:VEVENT
DTSTART;TZID=Europe/Madrid:20260205T103000
DTEND;TZID=Europe/Madrid:20260205T133000
DTSTAMP:20260422T043942
CREATED:20251015T094643Z
LAST-MODIFIED:20251015T094643Z
UID:10001182-1770287400-1770298200@www.industriales.upm.es
SUMMARY:Hamiltonian Chaos: From theory to computational aspects
DESCRIPTION:
URL:https://www.industriales.upm.es/info-evento/hamiltonian-chaos-from-theory-to-computational-aspects/
END:VEVENT
BEGIN:VEVENT
DTSTART;TZID=Europe/Madrid:20260206T130000
DTEND;TZID=Europe/Madrid:20260206T203000
DTSTAMP:20260422T043942
CREATED:20251218T102017Z
LAST-MODIFIED:20251218T102017Z
UID:10001271-1770382800-1770409800@www.industriales.upm.es
SUMMARY:Proceso de selección UWC España
DESCRIPTION:
URL:https://www.industriales.upm.es/info-evento/proceso-de-seleccion-uwc-espana/
END:VEVENT
BEGIN:VEVENT
DTSTART;TZID=Europe/Madrid:20260206T140000
DTEND;TZID=Europe/Madrid:20260206T210000
DTSTAMP:20260422T043942
CREATED:20251218T102024Z
LAST-MODIFIED:20251218T102024Z
UID:10001272-1770386400-1770411600@www.industriales.upm.es
SUMMARY:Proceso de selección UWC España
DESCRIPTION:
URL:https://www.industriales.upm.es/info-evento/proceso-de-seleccion-uwc-espana-2/
END:VEVENT
BEGIN:VEVENT
DTSTART;TZID=Europe/Madrid:20260209T103000
DTEND;TZID=Europe/Madrid:20260209T113000
DTSTAMP:20260422T043942
CREATED:20260115T141754Z
LAST-MODIFIED:20260205T113209Z
UID:10001286-1770633000-1770636600@www.industriales.upm.es
SUMMARY:Las Matemáticas en la ETSII
DESCRIPTION:«Enseñanza de matemáticas en la ETSII. Evolución histórica y debates en la formación de ingenieros /as Industriales» \n9 de febrero\, de 10:30 a 11:30. Salón de Actos \nEsta charla recorre la evolución de la enseñanza de las matemáticas en la ETSII desde los orígenes de la carrera de Ingeniería Industrial hasta la actualidad. A través del análisis de los distintos planes de estudio\, se abordarán los principales debates que han marcado la formación matemática de los ingenieros e ingenieras industriales\, incorporando también una breve reflexión desde la experiencia personal como alumno y profesor. Ponente Prof. Manuel Álvarez.
URL:https://www.industriales.upm.es/info-evento/charla-dmaii/
ATTACH;FMTTYPE=image/jpeg:https://www.industriales.upm.es/wp-content/uploads/2026/01/Matematicas-enla-ETSII-V2.jpg
END:VEVENT
BEGIN:VEVENT
DTSTART;TZID=Europe/Madrid:20260210T173000
DTEND;TZID=Europe/Madrid:20260324T210000
DTSTAMP:20260422T043942
CREATED:20251023T060900Z
LAST-MODIFIED:20251023T060900Z
UID:10001196-1770744600-1774386000@www.industriales.upm.es
SUMMARY:35º Curso sobre Gestión de Residuos Radiactivos
DESCRIPTION:Curso sobre Gestión de Residuos Radiactivos. Organizado en colaboración con CIEMAT y ENRESA. Con asistencia de alumnos de Máster: Ciencia y Tecnología Nuclear\, Ingeniería de la Energía\, Doble Máster MII   MUCTN y Máster Ing. Ambiental.
URL:https://www.industriales.upm.es/info-evento/35o-curso-sobre-gestion-de-residuos-radiactivos/
END:VEVENT
BEGIN:VEVENT
DTSTART;TZID=Europe/Madrid:20260210T183000
DTEND;TZID=Europe/Madrid:20260210T210000
DTSTAMP:20260422T043942
CREATED:20260203T142731Z
LAST-MODIFIED:20260203T142731Z
UID:10001302-1770748200-1770757200@www.industriales.upm.es
SUMMARY:Conferencia Emprendimiento - 
DESCRIPTION:Conferencia de José Mª Molina\, fundador de Frenetic
URL:https://www.industriales.upm.es/info-evento/conferencia-emprendimiento/
END:VEVENT
BEGIN:VEVENT
DTSTART;TZID=Europe/Madrid:20260212T200000
DTEND;TZID=Europe/Madrid:20260212T210000
DTSTAMP:20260422T043942
CREATED:20260205T103810Z
LAST-MODIFIED:20260206T094619Z
UID:10001304-1770926400-1770930000@www.industriales.upm.es
SUMMARY:Tercera sesión del Ciclo de Ágora: "Nosce" (Conócete)
DESCRIPTION:
URL:https://www.industriales.upm.es/info-evento/tercera-sesion-del-ciclo-de-agora-nosce-conocete/
END:VEVENT
BEGIN:VEVENT
DTSTART;TZID=Europe/Madrid:20260213T160000
DTEND;TZID=Europe/Madrid:20260213T210000
DTSTAMP:20260422T043942
CREATED:20250904T120641Z
LAST-MODIFIED:20251027T122207Z
UID:10001086-1770998400-1771016400@www.industriales.upm.es
SUMMARY:Actividad UPM Conecta: HOPE - EELISA IEN
DESCRIPTION:¡Participa en el Ciclo Cinefórum + Debate HOPE! \nIngeniería con Propósito: Hacia una Transformación Sostenible \n¿Estamos a tiempo de cambiar el rumbo? ¡Sí! Y queremos hacerlo contigo. \nTe invitamos a reflexionar y debatir sobre sostenibilidad e innovación a través del documental HOPE. \nFechas: \n\n21 de noviembre\n13 de febrero\n20 de marzo\n\nHora: 18:30 h\nLugar: ETSI Industriales (Sala C) – C/ José Gutiérrez Abascal\, 2\nOrganiza: EELISA European University\, ETSI Industriales UPM\, IEN UPM y Gatoverde. \n✅ Entrada libre con inscripción previa
URL:https://www.industriales.upm.es/info-evento/actividad-upm-conecta-hope-eelisa-ien-2/
ATTACH;FMTTYPE=image/jpeg:https://www.industriales.upm.es/wp-content/uploads/2025/09/Cineforum-HOPE-2.jpg
END:VEVENT
BEGIN:VEVENT
DTSTART;TZID=Europe/Madrid:20260218T080000
DTEND;TZID=Europe/Madrid:20260219T210000
DTSTAMP:20260422T043942
CREATED:20251118T161411Z
LAST-MODIFIED:20260213T103819Z
UID:10001236-1771401600-1771534800@www.industriales.upm.es
SUMMARY:Volunfair 2026
DESCRIPTION:Feria del Voluntariado 2026
URL:https://www.industriales.upm.es/info-evento/volunfair-2026-2/
ATTACH;FMTTYPE=image/jpeg:https://www.industriales.upm.es/wp-content/uploads/2025/11/Volunfair2026.jpeg
END:VEVENT
BEGIN:VEVENT
DTSTART;TZID=Europe/Madrid:20260220T120000
DTEND;TZID=Europe/Madrid:20260220T210000
DTSTAMP:20260422T043942
CREATED:20260122T111613Z
LAST-MODIFIED:20260205T154620Z
UID:10001291-1771588800-1771621200@www.industriales.upm.es
SUMMARY:Cuenta Cuentos por el Día de la Mujer y la Niña en la Ciencia
DESCRIPTION:Cuenta Cuentos por el Día de la Mujer y la Niña en la Ciencia \nMás info: https://www.industriales.upm.es/noticias/cuentacuentos-vis-y-solta-ayudan-a-los-ninos-celebramos-el-dia-internacional-de-la-mujer-y-la-nina-en-la-ciencia/
URL:https://www.industriales.upm.es/info-evento/cuenta-cuentos-por-el-dia-de-la-mujer-y-la-nina-en-la-ciencia/
ATTACH;FMTTYPE=image/png:https://www.industriales.upm.es/wp-content/uploads/2026/01/CuentaCuentos_ETSI_20260220.Vdef2-1.png
END:VEVENT
BEGIN:VEVENT
DTSTART;TZID=Europe/Madrid:20260220T140000
DTEND;TZID=Europe/Madrid:20260220T160000
DTSTAMP:20260422T043942
CREATED:20260210T100908Z
LAST-MODIFIED:20260210T100908Z
UID:10001313-1771596000-1771603200@www.industriales.upm.es
SUMMARY:Charla de la Asociación de estudiantes MotoStudent
DESCRIPTION:Charla de reclutamiento: información general sobre la asociación para captar nuevos miembros para el equipo.
URL:https://www.industriales.upm.es/info-evento/charla-de-la-asociacion-de-estudiantes-motostudent/
END:VEVENT
BEGIN:VEVENT
DTSTART;TZID=Europe/Madrid:20260223T083000
DTEND;TZID=Europe/Madrid:20260226T210000
DTSTAMP:20260422T043942
CREATED:20260115T082511Z
LAST-MODIFIED:20260115T082511Z
UID:10001280-1771835400-1772139600@www.industriales.upm.es
SUMMARY:Defensas TFG/TFM
DESCRIPTION:
URL:https://www.industriales.upm.es/info-evento/defensas-tfg-tfm-13-2/
END:VEVENT
BEGIN:VEVENT
DTSTART;TZID=Europe/Madrid:20260224T133000
DTEND;TZID=Europe/Madrid:20260224T150000
DTSTAMP:20260422T043942
CREATED:20251218T075420Z
LAST-MODIFIED:20260220T110807Z
UID:10001270-1771939800-1771945200@www.industriales.upm.es
SUMMARY:Talgo Day
DESCRIPTION:Estudiantes de la UPM\, ¡no dejéis pasar este tren! \nTalgo vuelve un año más a la Escuela Técnica Superior de Ingenieros Industriales y queremos aprovechar esta parada para conocerte. \nCelebramos una nueva edición del Talgo Day\, una jornada pensada para acercaros al mundo de la ingeniería ferroviaria desde dentro: cómo trabajamos\, qué tecnologías están impulsando el sector y qué retos nos esperan en los próximos años.\nNo es solo un evento: es una oportunidad para descubrir cómo Talgo impacta en la movilidad de millones de personas en todo el mundo\, conocer a nuestro equipo y explorar posibles caminos profesionales. \n¿Cuándo y dónde? \n📅   ¿Cuándo? Martes\, 24 de febrero \n⏰   ¿Horario?  10:00 a 16:00 \n📍   ¿Dónde?   La Sala de la Máquina\, Escuela Superior de Ingenieros Técnicos Industriales (ETSII – UPM) \n¿Qué podrás encontrar en el Talgo Day? \nDurante la jornada podrás participar en distintas actividades y experiencias diseñadas para acercarte a nuestra tecnología y a nuestro día a día: \n\n\nMini charlas con profesionales: Tecnología Talgo\, nuestro proyecto en Alemania\, aerodinámica y acústica en trenes\, mantenimiento predictivo\n\n\nRealidad Virtual: explora el interior de nuestros trenes gracias a la VR. ¡Atrévete a soldar con nuestra maqueta de RV!\n\nExposición de maquetas\nConsulta con expert@: resuelve tus dudas sobre entrevistas\, CV\, procesos de selección y desarrollo profesional.\n\nEspacio de Mantenimiento Inteligente: conoce a T-bot y los proyectos de IA aplicado a trenes\n\n\nPodrás disfrutar de todas las actividades\, charlas y stands para descubrir de primera mano por qué somos líderes en el sector ferroviario. Y además… ¡llévate un recuerdo del día en nuestro fotomatón! \n¿Cómo participar? \nSolo tienes que acercarte el martes 24\, entre las 10:00 y las 16:00\, a La Sala de la Máquina. La entrada es libre y puedes unirte a las actividades en cualquier momento. \n\n\n\n  \n\n\n\n\n\n¡Prepárate para vivir una experiencia única con Talgo y la ETSII!
URL:https://www.industriales.upm.es/info-evento/talgo-day-3/
ATTACH;FMTTYPE=image/jpeg:https://www.industriales.upm.es/wp-content/uploads/2025/12/Save-the-date-2026-A3-scaled.jpg
END:VEVENT
BEGIN:VEVENT
DTSTART;TZID=Europe/Madrid:20260225T083000
DTEND;TZID=Europe/Madrid:20260227T210000
DTSTAMP:20260422T043942
CREATED:20260115T082610Z
LAST-MODIFIED:20260115T082610Z
UID:10001281-1772008200-1772226000@www.industriales.upm.es
SUMMARY:Defensa TFG/TFM
DESCRIPTION:
URL:https://www.industriales.upm.es/info-evento/defensa-tfg-tfm/
END:VEVENT
BEGIN:VEVENT
DTSTART;TZID=Europe/Madrid:20260225T100000
DTEND;TZID=Europe/Madrid:20260225T140000
DTSTAMP:20260422T043942
CREATED:20260202T073120Z
LAST-MODIFIED:20260219T103937Z
UID:10001300-1772013600-1772028000@www.industriales.upm.es
SUMMARY:Jornada de difusión de buenas prácticas de DOCENTIA
DESCRIPTION:Jornada de difusión de buenas prácticas de DOCENTIA\nDesde su nacimiento en 2007\, el programa DOCENTIA ha experimentado una evolución continua\, permitiendo a numerosas universidades españolas dotarse de una herramienta práctica para la evaluación de la calidad docente de su personal académico.\nCon esta Jornada\, las agencias de evaluación de la calidad universitaria desean acercar a las instituciones de educación superior las últimas novedades surgidas en el Modelo\, así como compartir ejemplos de experiencias positivas desarrolladas por éstas. \nAgenda Sesión DOCENTIA Feb. 2026 V05
URL:https://www.industriales.upm.es/info-evento/jornada-de-difusion-de-buenas-practicas-de-docentia/
ATTACH;FMTTYPE=image/png:https://www.industriales.upm.es/wp-content/uploads/2026/02/DOCENTIA.png
END:VEVENT
BEGIN:VEVENT
DTSTART;TZID=Europe/Madrid:20260226T093000
DTEND;TZID=Europe/Madrid:20260226T133000
DTSTAMP:20260422T043942
CREATED:20251126T104339Z
LAST-MODIFIED:20260224T092033Z
UID:10001249-1772098200-1772112600@www.industriales.upm.es
SUMMARY:Jornada anual de la Cátedra  ACCIONA Innovación Hidrógeno Verde
DESCRIPTION:26 de febrero de 2026. Salón de actos \n9:30 – 9:45h Apertura del Acto: Sergio Domínguez Cabrerizo\, Director ETSII UPM \n9:45 -10:15h Recorrido por las actividades de las catedra 2023-2026: Raquel González Arrabal\, Directora de la Cátedra ETSII UPM. \n10:15 -11:10h Presentación de resultados:\n• Optimización del modelo logístico de suministro por tube-trailer: Claudia Palomo Iturbe\, ETSI Industriales UPM.\n• Análisis del potencial del SAF como producto final. Producción de SAF vía e-MeOH VS vía Fischer-Tropsch: Javier Baza Polo\, ETSI Industriales UPM.\n• Alternativas logísticas de transporte de e-metanol para exportación hasta un destino final por tren y barco: Ana Sancho Miranda\, ETSI Navales/UPM.\n• Sistemas de Cold-ironing para generación eléctrica en puerto empleando pilas de combustible alimentadas con hidrógeno y su influencia en el diseño del buque: Jaime Ruigómez Rodrigo\, ETSI Navales/UPM\n• Viabilidad técnica y comercial del aprovechamiento del oxígeno producido en la electrólisis: Gonzalo de la Hoz López\, ETSI Industriales UPM. \n11:10 -11:15h Proyección del reto ganador:\n• Descarbonizando la industria siderúrgica: Iñigo Baraia-Etxaburu Astigarraga\, Marina Isasi Gómez\, Jaime López Espada\, Pablo Hernández Vargas y Marta Martí Sánchez. \n11:15 – 11:45h Pausa café. \n12:15 – 13:00h  Mesa Redonda: Presente y futuro del hidrógeno renovable\n• Moderadora: Teresa Leo Mena\, Catedrática Escuela Técnica Superior de Ingenieros Navales\n• Alberto Abánades Velasco\, Catedrático Ingeniería Energética\, ETSII UPM\n• Elena Verdú\, Gerente Hidrógeno y Sintéticos\, Repsol Technology Lab\n• Teresa Sanchís\, Green Hydrogen Business Development Manager\, Iberdrola\n• Isabel Pascual García\, Responsable Estrategia de Hidrógeno\, ACCIONAPLUG \n13:00h Cierre de la Jornada: Juan Manuel Muñoz Guijosa\, Vicerrector de Innovación\, Emprendimiento y Transferencia de la Universidad Politécnica de Madrid.
URL:https://www.industriales.upm.es/info-evento/jornada-anual-de-la-catedra-acciona-innovacion-hidrogeno-verde/
ATTACH;FMTTYPE=image/jpeg:https://www.industriales.upm.es/wp-content/uploads/2025/11/images.jpg
END:VEVENT
BEGIN:VEVENT
DTSTART;TZID=Europe/Madrid:20260227T083000
DTEND;TZID=Europe/Madrid:20260227T210000
DTSTAMP:20260422T043942
CREATED:20260115T082732Z
LAST-MODIFIED:20260115T082732Z
UID:10001284-1772181000-1772226000@www.industriales.upm.es
SUMMARY:Defensas TFG/TFM
DESCRIPTION:
URL:https://www.industriales.upm.es/info-evento/defensas-tfg-tfm-15/
END:VEVENT
BEGIN:VEVENT
DTSTART;TZID=Europe/Madrid:20260302T120000
DTEND;TZID=Europe/Madrid:20260302T140000
DTSTAMP:20260422T043942
CREATED:20251126T104409Z
LAST-MODIFIED:20260223T075814Z
UID:10001250-1772452800-1772460000@www.industriales.upm.es
SUMMARY:Aplicación de la IA en proyectos de ingeniería
DESCRIPTION:La ETSII-UPM acogerá el próximo lunes 2 de marzo\, de 12:00 a 14:00\, la charla “IA aplicada a la Ingeniería”\, impartida por Nicolás Franco\, profesor de la Universidad Politécnica de Madrid y experto en Inteligencia Artificial. \nLa sesión abordará el papel actual de la IA en la práctica de la Ingeniería\, con especial atención a su aplicación real en entornos industriales y empresariales. Charla impulsada por la Fundación Elecnor\, que colabora con nuestras escuelas desde hace años\, y que contará con la participación del CEO del grupo Elecnor\, Alberto García de los Ángeles\, quien intervendrá al inicio de la sesión. \nNicolás Franco es profesor del módulo de Inteligencia Artificial en distintos másteres y programas avanzados\, y cuenta con una amplia trayectoria investigadora internacional en centros como Berkeley\, París\, Berlín\, Grenoble o Stanford. Hace casi 25 años cofundó la empresa tecnológica mrHouston\, donde dirige actualmente el área de Inteligencia Artificial\, desarrollando algoritmos avanzados de procesamiento del lenguaje natural y análisis de datos complejos. Destaca además por su intensa labor divulgadora\, con una participación constante en conferencias\, medios de comunicación y foros especializados. \nPrograma \n12:00 – Bienvenida del Director de la Escuela\, Sergio Domínguez \n12:10 – Intervención del CEO del Grupo Elecnor \n12:20 – Vídeo corporativo \n12:22 – Charla: IA aplicada a la Ingeniería\, por Nicolás Franco \n13:22 – Turno de preguntas \nLa charla está abierta a todo el profesorado\, personal \,estudiantado de la Escuela y de la UPM y empresas colaboradoras y resulta de especial interés para estudiantes de la asignatura INGENIA. \n  \n 
URL:https://www.industriales.upm.es/info-evento/aplicacion-de-la-ia-en-proyectos-energeticos/
ATTACH;FMTTYPE=image/jpeg:https://www.industriales.upm.es/wp-content/uploads/2025/11/WhatsApp-Image-2026-02-23-at-08.52.49.jpeg
END:VEVENT
BEGIN:VEVENT
DTSTART;TZID=Europe/Madrid:20260303T190000
DTEND;TZID=Europe/Madrid:20260303T203000
DTSTAMP:20260422T043942
CREATED:20260206T125652Z
LAST-MODIFIED:20260208T124940Z
UID:10001309-1772564400-1772569800@www.industriales.upm.es
SUMMARY:AniMa DUO en la ETSII. Piano y saxofón en un concierto único
DESCRIPTION:CONCIERTO DE PIANO y SAXOFÓN ORGANIZADO POR LA ASOCIACIÓN DE ANTIGUOS ALUMNOS DE LA ESCUELA
URL:https://www.industriales.upm.es/info-evento/anima-duo-en-la-etsii-piano-y-saxofon-en-un-concierto-unico/
ATTACH;FMTTYPE=image/jpeg:https://www.industriales.upm.es/wp-content/uploads/2026/02/3-marzo.jpg
END:VEVENT
BEGIN:VEVENT
DTSTART;TZID=Europe/Madrid:20260305T080000
DTEND;TZID=Europe/Madrid:20260305T190000
DTSTAMP:20260422T043942
CREATED:20260206T075841Z
LAST-MODIFIED:20260206T075841Z
UID:10001306-1772697600-1772737200@www.industriales.upm.es
SUMMARY:Jornada de Experiencias Operativas Sociedad Nuclear Española
DESCRIPTION:Apertura  Conferencia invitada  Presentaciones sobre funcionamiento de las centrales nucleares en 2025  Conclusiones y clausura  Entrega de premios y distinciones de la SNE  Asamblea general de la SNE
URL:https://www.industriales.upm.es/info-evento/jornada-de-experiencias-operativas-sociedad-nuclear-espanola-2/
END:VEVENT
BEGIN:VEVENT
DTSTART;TZID=Europe/Madrid:20260305T160000
DTEND;TZID=Europe/Madrid:20260305T203000
DTSTAMP:20260422T043942
CREATED:20251002T064040Z
LAST-MODIFIED:20251002T064040Z
UID:10001152-1772726400-1772742600@www.industriales.upm.es
SUMMARY:Reunión de paso de Ecuador del Programa de Mentoring MEET de la WN de Airbus
DESCRIPTION:
URL:https://www.industriales.upm.es/info-evento/reunion-de-paso-de-ecuador-del-programa-de-mentoring-meet-de-la-wn-de-airbus/
END:VEVENT
BEGIN:VEVENT
DTSTART;TZID=Europe/Madrid:20260306T090000
DTEND;TZID=Europe/Madrid:20260306T100000
DTSTAMP:20260422T043942
CREATED:20260303T080234Z
LAST-MODIFIED:20260303T080234Z
UID:10001332-1772787600-1772791200@www.industriales.upm.es
SUMMARY:Bienvenida nuevo personal
DESCRIPTION:
URL:https://www.industriales.upm.es/info-evento/bienvenida-nuevo-personal/
END:VEVENT
END:VCALENDAR