BEGIN:VCALENDAR
VERSION:2.0
PRODID:-//Escuela Técnica Superior Ingenieros Industriales - ECPv6.15.20//NONSGML v1.0//EN
CALSCALE:GREGORIAN
METHOD:PUBLISH
X-WR-CALNAME:Escuela Técnica Superior Ingenieros Industriales
X-ORIGINAL-URL:https://www.industriales.upm.es
X-WR-CALDESC:Eventos para Escuela Técnica Superior Ingenieros Industriales
REFRESH-INTERVAL;VALUE=DURATION:PT1H
X-Robots-Tag:noindex
X-PUBLISHED-TTL:PT1H
BEGIN:VTIMEZONE
TZID:Europe/Madrid
BEGIN:DAYLIGHT
TZOFFSETFROM:+0100
TZOFFSETTO:+0200
TZNAME:CEST
DTSTART:20240331T010000
END:DAYLIGHT
BEGIN:STANDARD
TZOFFSETFROM:+0200
TZOFFSETTO:+0100
TZNAME:CET
DTSTART:20241027T010000
END:STANDARD
BEGIN:DAYLIGHT
TZOFFSETFROM:+0100
TZOFFSETTO:+0200
TZNAME:CEST
DTSTART:20250330T010000
END:DAYLIGHT
BEGIN:STANDARD
TZOFFSETFROM:+0200
TZOFFSETTO:+0100
TZNAME:CET
DTSTART:20251026T010000
END:STANDARD
BEGIN:DAYLIGHT
TZOFFSETFROM:+0100
TZOFFSETTO:+0200
TZNAME:CEST
DTSTART:20260329T010000
END:DAYLIGHT
BEGIN:STANDARD
TZOFFSETFROM:+0200
TZOFFSETTO:+0100
TZNAME:CET
DTSTART:20261025T010000
END:STANDARD
END:VTIMEZONE
BEGIN:VEVENT
DTSTART;TZID=Europe/Madrid:20250424T083000
DTEND;TZID=Europe/Madrid:20250424T150000
DTSTAMP:20260422T035433
CREATED:20250304T084857Z
LAST-MODIFIED:20250304T084857Z
UID:10000864-1745483400-1745506800@www.industriales.upm.es
SUMMARY:La Protección Radiológica en 2024. Jornada anual de la Sociedad Española de Protección Radiológica
DESCRIPTION:Resultados de los programas reguladores en Protección Radiológica en 2024. Proyectos para 2025.   Presentaciones de resultados de investigación destacables de 2024.
URL:https://www.industriales.upm.es/info-evento/la-proteccion-radiologica-en-2024-jornada-anual-de-la-sociedad-espanola-de-proteccion-radiologica/
END:VEVENT
BEGIN:VEVENT
DTSTART;TZID=Europe/Madrid:20250424T080000
DTEND;TZID=Europe/Madrid:20250425T170000
DTSTAMP:20260422T035433
CREATED:20250305T113027Z
LAST-MODIFIED:20250306T082614Z
UID:10000870-1745481600-1745600400@www.industriales.upm.es
SUMMARY:II Torneo de Magic Commander
DESCRIPTION: II Torneo de Magic Commander en la ETSI Industriales. ⚔️🔥\n24 y 25 de abril\n\nEste año\, el torneo vuelve con más emoción\, estrategia enfrentamientos épicos. 🃏 Ya seas un mago experimentado o un nuevo planeswalker\, este torneo es para ti. ¡Afila tus estrategias y prepárate para el desafío! \n🏆 Detalles del torneo: \n·Formato: Commander con límite de 50€ por mazo (¡Proxies permitidos!)\n·Premios en función del número de inscritos\n·Abierto a jugadores de dentro y fuera de la UPM\n·Apto para novatos y veteranos \n📅 Fechas: 24 y 25 de abril\n📍 Lugar: ETSI Industriales (UPM)\n✏️ Inscripciones abiertas hasta el 14 de abril\n📝 Formulario de inscripción: https://forms.gle/ZBYF5MGBm4qUfLqm8\n📄 Bases del torneo: https://short.upm.es/4chef \n\n\n\n🎉 Si te apasiona Magic y quieres disfrutar del evento\, conocer nuevos jugadores y sumergirte en el mejor ambiente del juego\, este torneo es el lugar perfecto para ti. \n📩 Para cualquier duda\, contáctanos en: aceii.kw@gmail.com\n📷 Síguenos en Instagram: @aceii.kw \n\nOrganiza:\n🎩 ACEII – Kilowatio
URL:https://www.industriales.upm.es/info-evento/ii-torneo-de-magic-commander/
ATTACH;FMTTYPE=image/jpeg:https://www.industriales.upm.es/wp-content/uploads/2025/03/Commander.jpg
END:VEVENT
BEGIN:VEVENT
DTSTART;TZID=Europe/Madrid:20250423T133000
DTEND;TZID=Europe/Madrid:20250423T153000
DTSTAMP:20260422T035433
CREATED:20250328T105236Z
LAST-MODIFIED:20250328T105236Z
UID:10000938-1745415000-1745422200@www.industriales.upm.es
SUMMARY:Seminario Finanzas Personales
DESCRIPTION:
URL:https://www.industriales.upm.es/info-evento/seminario-finanzas-personales/
END:VEVENT
BEGIN:VEVENT
DTSTART;TZID=Europe/Madrid:20250423T123000
DTEND;TZID=Europe/Madrid:20250423T153000
DTSTAMP:20260422T035433
CREATED:20250213T104152Z
LAST-MODIFIED:20250318T151003Z
UID:10000889-1745411400-1745422200@www.industriales.upm.es
SUMMARY:Talleres Programa ImportaTE
DESCRIPTION:Programa de Salud y Bienestar ETSII – Programa ImportaTE \nAula D
URL:https://www.industriales.upm.es/info-evento/talleres-programa-importate/2025-04-23/
END:VEVENT
BEGIN:VEVENT
DTSTART;TZID=Europe/Madrid:20250422T153000
DTEND;TZID=Europe/Madrid:20250422T193000
DTSTAMP:20260422T035433
CREATED:20250409T080119Z
LAST-MODIFIED:20250409T080119Z
UID:10000960-1745335800-1745350200@www.industriales.upm.es
SUMMARY:Defensa de la tesis doctoral Three-port Electrical Energy Converters Integrated with Storage for Photovoltaic Systems with Partial Power Regulation? por Donghui Ye
DESCRIPTION:
URL:https://www.industriales.upm.es/info-evento/defensa-de-la-tesis-doctoral-three-port-electrical-energy-converters-integrated-with-storage-for-photovoltaic-systems-with-partial-power-regulation-por-donghui-ye/
END:VEVENT
BEGIN:VEVENT
DTSTART;TZID=Europe/Madrid:20250422T143000
DTEND;TZID=Europe/Madrid:20250422T170000
DTSTAMP:20260422T035433
CREATED:20250404T072819Z
LAST-MODIFIED:20250404T072819Z
UID:10000953-1745332200-1745341200@www.industriales.upm.es
SUMMARY:Reunión club literario UPM
DESCRIPTION:Reunión club literario UPM
URL:https://www.industriales.upm.es/info-evento/reunion-club-literario-upm-2/
END:VEVENT
BEGIN:VEVENT
DTSTART;TZID=Europe/Madrid:20250411T130000
DTEND;TZID=Europe/Madrid:20250411T143000
DTSTAMP:20260422T035433
CREATED:20250403T100131Z
LAST-MODIFIED:20250403T100131Z
UID:10000947-1744376400-1744381800@www.industriales.upm.es
SUMMARY:Presentación Retos Cátedra ACCIONA
DESCRIPTION:
URL:https://www.industriales.upm.es/info-evento/presentacion-retos-catedra-acciona/
END:VEVENT
BEGIN:VEVENT
DTSTART;TZID=Europe/Madrid:20250411T090000
DTEND;TZID=Europe/Madrid:20250411T150000
DTSTAMP:20260422T035433
CREATED:20250303T112810Z
LAST-MODIFIED:20250303T112810Z
UID:10000861-1744362000-1744383600@www.industriales.upm.es
SUMMARY:Concurso Plaza de Titular de Universidad
DESCRIPTION:
URL:https://www.industriales.upm.es/info-evento/concurso-plaza-de-titular-de-universidad/
END:VEVENT
BEGIN:VEVENT
DTSTART;TZID=Europe/Madrid:20250411T083000
DTEND;TZID=Europe/Madrid:20250411T213000
DTSTAMP:20260422T035433
CREATED:20250121T090429Z
LAST-MODIFIED:20250121T090429Z
UID:10000795-1744360200-1744407000@www.industriales.upm.es
SUMMARY:FINAL CONCURSO CYBERTECH
DESCRIPTION:Final del concurso Cybertech organizado por la Asociación de Estudiantes RESET
URL:https://www.industriales.upm.es/info-evento/final-concurso-cybertech/
END:VEVENT
BEGIN:VEVENT
DTSTART;TZID=Europe/Madrid:20250410T090000
DTEND;TZID=Europe/Madrid:20250410T183000
DTSTAMP:20260422T035433
CREATED:20250218T111305Z
LAST-MODIFIED:20250218T111305Z
UID:10000845-1744275600-1744309800@www.industriales.upm.es
SUMMARY:Reunión Conferencia Directores Ingeniería Industrial
DESCRIPTION:
URL:https://www.industriales.upm.es/info-evento/reunion-conferencia-directores-ingenieria-industrial/
END:VEVENT
BEGIN:VEVENT
DTSTART;TZID=Europe/Madrid:20250408T110000
DTEND;TZID=Europe/Madrid:20250408T180000
DTSTAMP:20260422T035433
CREATED:20250403T113016Z
LAST-MODIFIED:20250403T113108Z
UID:10000950-1744110000-1744135200@www.industriales.upm.es
SUMMARY:Campaña de Donación de Médula
DESCRIPTION:08 de abril en el Aulario Sur\, de 11 a 16h \n 
URL:https://www.industriales.upm.es/info-evento/campana-de-donacion-de-medula-2/
ATTACH;FMTTYPE=image/jpeg:https://www.industriales.upm.es/wp-content/uploads/2025/04/SFS27786.jpg
END:VEVENT
BEGIN:VEVENT
DTSTART;TZID=Europe/Madrid:20250408T080000
DTEND;TZID=Europe/Madrid:20250409T170000
DTSTAMP:20260422T035433
CREATED:20250331T114356Z
LAST-MODIFIED:20250403T112227Z
UID:10000941-1744099200-1744218000@www.industriales.upm.es
SUMMARY:Feria de empleo 2025
DESCRIPTION:Induforum 2025
URL:https://www.industriales.upm.es/info-evento/feria-de-empleo-2025/
ATTACH;FMTTYPE=image/jpeg:https://www.industriales.upm.es/wp-content/uploads/2025/03/Invitacion-Acto-de-Inauguracion.jpg
END:VEVENT
BEGIN:VEVENT
DTSTART;TZID=Europe/Madrid:20250407T123000
DTEND;TZID=Europe/Madrid:20250407T153000
DTSTAMP:20260422T035433
CREATED:20250213T104152Z
LAST-MODIFIED:20250318T151003Z
UID:10000888-1744029000-1744039800@www.industriales.upm.es
SUMMARY:Talleres Programa ImportaTE
DESCRIPTION:Programa de Salud y Bienestar ETSII – Programa ImportaTE \nAula D
URL:https://www.industriales.upm.es/info-evento/talleres-programa-importate/2025-04-07/
END:VEVENT
BEGIN:VEVENT
DTSTART;TZID=Europe/Madrid:20250404T203000
DTEND;TZID=Europe/Madrid:20250406T213000
DTSTAMP:20260422T035433
CREATED:20250115T160013Z
LAST-MODIFIED:20250328T104203Z
UID:10000923-1743798600-1743975000@www.industriales.upm.es
SUMMARY:Representación obra de teatro Certamen UPM
DESCRIPTION:Representación obra de teatro Certamen UPM \nVenta de entradas
URL:https://www.industriales.upm.es/info-evento/representacion-obra-de-teatro-certamen-upm/
ATTACH;FMTTYPE=image/webp:https://www.industriales.upm.es/wp-content/uploads/2025/01/424781741089025_1.webp
END:VEVENT
BEGIN:VEVENT
DTSTART;TZID=Europe/Madrid:20250402T173000
DTEND;TZID=Europe/Madrid:20250402T190000
DTSTAMP:20260422T035433
CREATED:20250312T085738Z
LAST-MODIFIED:20250312T085738Z
UID:10000883-1743615000-1743620400@www.industriales.upm.es
SUMMARY:Reunión con la delegación de la Embajada de El Salvador
DESCRIPTION:Reunión con la delegación de la Embajada de El Salvador
URL:https://www.industriales.upm.es/info-evento/reunion-con-la-delegacion-de-la-embajada-de-el-salvador/
END:VEVENT
BEGIN:VEVENT
DTSTART;TZID=Europe/Madrid:20250402T123000
DTEND;TZID=Europe/Madrid:20250402T153000
DTSTAMP:20260422T035433
CREATED:20250328T103155Z
LAST-MODIFIED:20250328T103223Z
UID:10000836-1743597000-1743607800@www.industriales.upm.es
SUMMARY:Talleres Programa ImportaTE
DESCRIPTION:Programa de Salud y Bienestar ETSII – Programa ImportaTE \nAula D
URL:https://www.industriales.upm.es/info-evento/talleres-programa-importate-2/
ATTACH;FMTTYPE=image/jpeg:https://www.industriales.upm.es/wp-content/uploads/2025/02/Taller-Tecnicas-de-automotivacion-1.jpg
END:VEVENT
BEGIN:VEVENT
DTSTART;TZID=Europe/Madrid:20250402T080000
DTEND;TZID=Europe/Madrid:20250403T170000
DTSTAMP:20260422T035433
CREATED:20250319T075251Z
LAST-MODIFIED:20250327T103444Z
UID:10000913-1743580800-1743699600@www.industriales.upm.es
SUMMARY:Industriales Research Meeting (IRM25).
DESCRIPTION:Los próximos días 2 y 3 de abril se va a celebrar en la Escuela la octava edición de Industriales Research Meeting (IRM25).\nEste evento tiene el objetivo de intentar presentar al estudiantado el mundo de la investigación e innovación desde diversos ámbitos y sectores. \nAdjuntamos el programa\, animándote a asistir a algunas de las actividades programadas. \nDipticoIRM2025 \nCREDITOS COMPETENCIAS IRM2025
URL:https://www.industriales.upm.es/info-evento/industriales-research-meeting-irm25/
ATTACH;FMTTYPE=image/jpeg:https://www.industriales.upm.es/wp-content/uploads/2025/03/Cartel-definitivo-IRM2025-scaled.jpg
END:VEVENT
BEGIN:VEVENT
DTSTART;TZID=Europe/Madrid:20250401T143000
DTEND;TZID=Europe/Madrid:20250401T170000
DTSTAMP:20260422T035433
CREATED:20250319T121907Z
LAST-MODIFIED:20250319T121907Z
UID:10000920-1743517800-1743526800@www.industriales.upm.es
SUMMARY:Reunion club literario UPM
DESCRIPTION:Reunion club literario UPM
URL:https://www.industriales.upm.es/info-evento/reunion-club-literario-upm/
END:VEVENT
BEGIN:VEVENT
DTSTART;TZID=Europe/Madrid:20250401T143000
DTEND;TZID=Europe/Madrid:20250401T170000
DTSTAMP:20260422T035433
CREATED:20250305T090853Z
LAST-MODIFIED:20250314T083101Z
UID:10000887-1743517800-1743526800@www.industriales.upm.es
SUMMARY:Reunión club literario
DESCRIPTION:Reunión club literario
URL:https://www.industriales.upm.es/info-evento/reunion-club-literario/2025-04-01/
END:VEVENT
BEGIN:VEVENT
DTSTART;TZID=Europe/Madrid:20250401T090000
DTEND;TZID=Europe/Madrid:20250401T150000
DTSTAMP:20260422T035433
CREATED:20250206T121100Z
LAST-MODIFIED:20250206T121100Z
UID:10000822-1743498000-1743519600@www.industriales.upm.es
SUMMARY:Taller de autores - IEEE
DESCRIPTION:Taller dirigido a doctorandos y personal investigador que publica en el campo de la ingeniería eléctrica y electrónica. Impartido por personal de la plataforma IEEE (Institute of Electrical and Electronics Engieers).
URL:https://www.industriales.upm.es/info-evento/taller-de-autores-ieee/
END:VEVENT
BEGIN:VEVENT
DTSTART;TZID=Europe/Madrid:20250401T090000
DTEND;TZID=Europe/Madrid:20250401T123000
DTSTAMP:20260422T035433
CREATED:20250328T084820Z
LAST-MODIFIED:20250328T084820Z
UID:10000934-1743498000-1743510600@www.industriales.upm.es
SUMMARY:Taller de Autores IEEE: Desarrolla tu Curriculum de Investigación
DESCRIPTION:
URL:https://www.industriales.upm.es/info-evento/taller-de-autores-ieee-desarrolla-tu-curriculum-de-investigacion/
END:VEVENT
BEGIN:VEVENT
DTSTART;TZID=Europe/Madrid:20250401T080000
DTEND;TZID=Europe/Madrid:20250401T170000
DTSTAMP:20260422T035433
CREATED:20250310T122849Z
LAST-MODIFIED:20250310T122849Z
UID:10000880-1743494400-1743526800@www.industriales.upm.es
SUMMARY:Master iMPA\, 4 edición | Face to Face Week
DESCRIPTION:Master iMPA\, 4 edición | Face to Face Week
URL:https://www.industriales.upm.es/info-evento/master-impa-4-edicion-face-to-face-week/
END:VEVENT
BEGIN:VEVENT
DTSTART;TZID=Europe/Madrid:20250331T190000
DTEND;TZID=Europe/Madrid:20250331T213000
DTSTAMP:20260422T035433
CREATED:20250213T155851Z
LAST-MODIFIED:20250213T155851Z
UID:10000841-1743447600-1743456600@www.industriales.upm.es
SUMMARY:Seminario de Reactores Avanzados (UPM y Sociedad Nuclear Española)
DESCRIPTION:
URL:https://www.industriales.upm.es/info-evento/seminario-de-reactores-avanzados-upm-y-sociedad-nuclear-espanola-2/
END:VEVENT
BEGIN:VEVENT
DTSTART;TZID=Europe/Madrid:20250331T160000
DTEND;TZID=Europe/Madrid:20250401T183000
DTSTAMP:20260422T035433
CREATED:20241129T115438Z
LAST-MODIFIED:20250328T104044Z
UID:10000743-1743436800-1743532200@www.industriales.upm.es
SUMMARY:Jornada de Puertas Abiertas para estudiantes de bachillerato
DESCRIPTION:INSCRIPCIONES:\n\n31 de marzo de 2025. 17:00h. PRESENCIAL\n31 de marzo de 2025. 17:00h. ONLINE\n1 de abril de 2025. 17:00h. PRESENCIAL\n\nEscuela Técnica Superior de Ingenieros Industriales. Universidad Politécnica de Madrid. Calle José Gutiérrez Abascal\, 2. 28006 Madrid. \nJornada dedicada a los estudiantes de bachillerato interesados en el mundo de la ingeniería en general y del ámbito industrial en particular. Explicaremos con detalle los grados que se imparten en nuestra Escuela y resolveremos todas las dudas que se planteen a lo largo de la visita. \nGRADO EN INGENIERÍA EN TECNOLOGÍAS INDUSTRIALES \nGRADO EN INGENIERÍA DE ORGANIZACIÓN \nGRADO EN INGENIERIA QUIMICA \nPROGRAMA ACADEMICO EN INGENIERIA INDUSTRIAL una forma de acceso a la carrera de Ingeniería Industrial que incluye el Grado y el Máster habilitante en un solo plan de estudios. \nTambién hablaremos de las posibilidades de estudiar en universidades de todo el mundo\, aspecto en el que nuestra Escuela es un centro destacadísimo\, así como la empleabilidad de este tipo de profesiones. Para terminar la jornada visitaremos diferentes laboratorios de nuestro centro. \nPara asistir a la sesión presencial\, cada persona (estudiantes\, padres\, madres u orientadores) debe rellenar el formulario de inscripción de forma individual. 
URL:https://www.industriales.upm.es/info-evento/jornada-de-puertas-abiertas-para-estudiantes-de-bachillerato/
ATTACH;FMTTYPE=image/jpeg:https://www.industriales.upm.es/wp-content/uploads/2025/03/Gk3UsiRXIAA3q1y.jpg
END:VEVENT
BEGIN:VEVENT
DTSTART;TZID=Europe/Madrid:20250331T100000
DTEND;TZID=Europe/Madrid:20250331T180000
DTSTAMP:20260422T035433
CREATED:20250319T125857Z
LAST-MODIFIED:20250319T125857Z
UID:10000922-1743415200-1743444000@www.industriales.upm.es
SUMMARY:Jornada de votación
DESCRIPTION:
URL:https://www.industriales.upm.es/info-evento/jornada-de-votacion/
ATTACH;FMTTYPE=image/jpeg:https://www.industriales.upm.es/wp-content/uploads/2025/03/Presentacion-votacion.jpg
END:VEVENT
BEGIN:VEVENT
DTSTART;TZID=Europe/Madrid:20250331T080000
DTEND;TZID=Europe/Madrid:20250331T213000
DTSTAMP:20260422T035433
CREATED:20250307T085434Z
LAST-MODIFIED:20250307T085434Z
UID:10000876-1743408000-1743456600@www.industriales.upm.es
SUMMARY:Jornada Electoral
DESCRIPTION:Jornada Electoral votaciones Director
URL:https://www.industriales.upm.es/info-evento/jornada-electoral/
END:VEVENT
BEGIN:VEVENT
DTSTART;TZID=Europe/Madrid:20250331T080000
DTEND;TZID=Europe/Madrid:20250331T210000
DTSTAMP:20260422T035433
CREATED:20250310T122837Z
LAST-MODIFIED:20250310T122837Z
UID:10000879-1743408000-1743454800@www.industriales.upm.es
SUMMARY:Master iMPA\, 2024-25
DESCRIPTION:Master iMPA (ACCIONA UPM)
URL:https://www.industriales.upm.es/info-evento/master-impa-2024-25/
END:VEVENT
BEGIN:VEVENT
DTSTART;TZID=Europe/Madrid:20250328T190000
DTEND;TZID=Europe/Madrid:20250328T210000
DTSTAMP:20260422T035433
CREATED:20250214T073642Z
LAST-MODIFIED:20250214T073642Z
UID:10000842-1743188400-1743195600@www.industriales.upm.es
SUMMARY:MASTER CLASS RICHARD VAUGHAN
DESCRIPTION:MASTER CLASS RICHARD VAUGHAN
URL:https://www.industriales.upm.es/info-evento/master-class-richard-vaughan/
END:VEVENT
BEGIN:VEVENT
DTSTART;TZID=Europe/Madrid:20250328T190000
DTEND;TZID=Europe/Madrid:20250328T203000
DTSTAMP:20260422T035433
CREATED:20250306T103504Z
LAST-MODIFIED:20250306T123656Z
UID:10000874-1743188400-1743193800@www.industriales.upm.es
SUMMARY:Concierto especial de piano
DESCRIPTION:La Asociación de Antiguos Alumnos de la ETSII trae a la Escuela a dos jóvenes promesas del Real Conservatorio Superior de Música de Madrid con un concierto muy especial.\nSe pueden comprar las entradas online o el día del concierto.\nMás información en: https://alumnietsiim.com/eventos-noticias/ \nPuedes ver el programa detallado en VENTA DE ENTRADAS
URL:https://www.industriales.upm.es/info-evento/concierto-especial-de-piano/
ATTACH;FMTTYPE=image/jpeg:https://www.industriales.upm.es/wp-content/uploads/2025/03/para-web-ETSII.jpg
END:VEVENT
BEGIN:VEVENT
DTSTART;TZID=Europe/Madrid:20250328T090000
DTEND;TZID=Europe/Madrid:20250328T150000
DTSTAMP:20260422T035433
CREATED:20250305T121058Z
LAST-MODIFIED:20250305T121058Z
UID:10000871-1743152400-1743174000@www.industriales.upm.es
SUMMARY:Lectura de tesis doctoral de Gustavo Javier Caiza Guanochanga: Arquitecturas para el diseño de sistemas basados en Digital Twin inmersivos aplicados al monitoreo y control de procesos industriales
DESCRIPTION:
URL:https://www.industriales.upm.es/info-evento/lectura-de-tesis-doctoral-de-gustavo-javier-caiza-guanochanga-arquitecturas-para-el-diseno-de-sistemas-basados-en-digital-twin-inmersivos-aplicados-al-monitoreo-y-control-de-procesos-industriales/
END:VEVENT
END:VCALENDAR