BEGIN:VCALENDAR
VERSION:2.0
PRODID:-//Escuela Técnica Superior Ingenieros Industriales - ECPv6.15.20//NONSGML v1.0//EN
CALSCALE:GREGORIAN
METHOD:PUBLISH
X-ORIGINAL-URL:https://www.industriales.upm.es
X-WR-CALDESC:Eventos para Escuela Técnica Superior Ingenieros Industriales
REFRESH-INTERVAL;VALUE=DURATION:PT1H
X-Robots-Tag:noindex
X-PUBLISHED-TTL:PT1H
BEGIN:VTIMEZONE
TZID:Europe/Madrid
BEGIN:DAYLIGHT
TZOFFSETFROM:+0100
TZOFFSETTO:+0200
TZNAME:CEST
DTSTART:20240331T010000
END:DAYLIGHT
BEGIN:STANDARD
TZOFFSETFROM:+0200
TZOFFSETTO:+0100
TZNAME:CET
DTSTART:20241027T010000
END:STANDARD
BEGIN:DAYLIGHT
TZOFFSETFROM:+0100
TZOFFSETTO:+0200
TZNAME:CEST
DTSTART:20250330T010000
END:DAYLIGHT
BEGIN:STANDARD
TZOFFSETFROM:+0200
TZOFFSETTO:+0100
TZNAME:CET
DTSTART:20251026T010000
END:STANDARD
BEGIN:DAYLIGHT
TZOFFSETFROM:+0100
TZOFFSETTO:+0200
TZNAME:CEST
DTSTART:20260329T010000
END:DAYLIGHT
BEGIN:STANDARD
TZOFFSETFROM:+0200
TZOFFSETTO:+0100
TZNAME:CET
DTSTART:20261025T010000
END:STANDARD
BEGIN:DAYLIGHT
TZOFFSETFROM:+0100
TZOFFSETTO:+0200
TZNAME:CEST
DTSTART:20270328T010000
END:DAYLIGHT
BEGIN:STANDARD
TZOFFSETFROM:+0200
TZOFFSETTO:+0100
TZNAME:CET
DTSTART:20271031T010000
END:STANDARD
END:VTIMEZONE
BEGIN:VEVENT
DTSTART;TZID=Europe/Madrid:20251030T080000
DTEND;TZID=Europe/Madrid:20251030T203000
DTSTAMP:20260422T035428
CREATED:20250917T102956Z
LAST-MODIFIED:20250922T103113Z
UID:10001124-1761811200-1761856200@www.industriales.upm.es
SUMMARY:Taller de Bienvenida Concurso Escolar LA INGENIERIA EN TUS MANOS
DESCRIPTION:Taller de Bienvenida Concurso Escolar «La ingeniería en tus manos»
URL:https://www.industriales.upm.es/info-evento/taller-de-bienvenida-concurso-escolar-la-ingenieria-en-tus-manos/
END:VEVENT
BEGIN:VEVENT
DTSTART;TZID=Europe/Madrid:20251030T173000
DTEND;TZID=Europe/Madrid:20251030T210000
DTSTAMP:20260422T035428
CREATED:20251020T074515Z
LAST-MODIFIED:20251020T074515Z
UID:10001190-1761845400-1761858000@www.industriales.upm.es
SUMMARY:Conferencia con el instituto de filosofía del CSIC (Arte y transferencia del conocimiento)
DESCRIPTION:Se trata de una conferencia organizada con el CSIC sobre nuevas formas de transferencia del conocimiento a través del arte
URL:https://www.industriales.upm.es/info-evento/conferencia-con-el-instituto-de-filosofia-del-csic-arte-y-transferencia-del-conocimiento/
END:VEVENT
BEGIN:VEVENT
DTSTART;TZID=Europe/Madrid:20251030T180000
DTEND;TZID=Europe/Madrid:20251030T210000
DTSTAMP:20260422T035428
CREATED:20250919T082010Z
LAST-MODIFIED:20251020T094734Z
UID:10001132-1761847200-1761858000@www.industriales.upm.es
SUMMARY:Acto Apertura Oficial Curso IEN UPM
DESCRIPTION:
URL:https://www.industriales.upm.es/info-evento/acto-apertura-oficial-curso-ien-upm-2/
ATTACH;FMTTYPE=image/jpeg:https://www.industriales.upm.es/wp-content/uploads/2025/09/WhatsApp-Image-2025-10-15-at-11.41.03-1-1-1.jpeg
END:VEVENT
BEGIN:VEVENT
DTSTART;TZID=Europe/Madrid:20251103T120000
DTEND;TZID=Europe/Madrid:20251103T203000
DTSTAMP:20260422T035428
CREATED:20251015T141459Z
LAST-MODIFIED:20251015T141459Z
UID:10001188-1762171200-1762201800@www.industriales.upm.es
SUMMARY:Congreso de redes inteligentes 2025
DESCRIPTION:el evento se desarrolla durante la tarde del día 4 y la mañana del día 5. incluye mesas redondas y ponencias\, así como una zona de exposición de poster. está dirigido a empresas\, start-ups y universidades.  hay sesiones de presentación oral y también una zona de exposición de posters.
URL:https://www.industriales.upm.es/info-evento/congreso-de-redes-inteligentes-2025-4/
END:VEVENT
BEGIN:VEVENT
DTSTART;TZID=Europe/Madrid:20251104T080000
DTEND;TZID=Europe/Madrid:20251105T200000
DTSTAMP:20260422T035428
CREATED:20251020T063128Z
LAST-MODIFIED:20251020T063128Z
UID:10001189-1762243200-1762372800@www.industriales.upm.es
SUMMARY:Reunión Proyecto Europeo DynReAct_PDP
DESCRIPTION:Reunión periódica de los 4 socios del proyecto europeo DynReAct_PDP.  Exposición de avances de cada socio en cada paquete de trabajo.  Comentario de resultados.  Discusión sobre puntos a resolver de cara a las siguientes tareas.  Recogida de conclusiones y documentación
URL:https://www.industriales.upm.es/info-evento/reunion-proyecto-europeo-dynreact_pdp/
END:VEVENT
BEGIN:VEVENT
DTSTART;TZID=Europe/Madrid:20251104T083000
DTEND;TZID=Europe/Madrid:20251104T210000
DTSTAMP:20260422T035428
CREATED:20251015T141445Z
LAST-MODIFIED:20251015T141445Z
UID:10001186-1762245000-1762290000@www.industriales.upm.es
SUMMARY:Congreso de redes inteligentes 2025
DESCRIPTION:El evento se desarrolla durante la tarde del día 4 y la mañana del día 5. incluye mesas redondas y ponencias\, así como una zona de exposición de poster. está dirigido a empresas\, start-ups y universidades.  hay sesiones de presentación oral y también una zona de exposición de posters.
URL:https://www.industriales.upm.es/info-evento/congreso-de-redes-inteligentes-2025-2/
END:VEVENT
BEGIN:VEVENT
DTSTART;TZID=Europe/Madrid:20251105T080000
DTEND;TZID=Europe/Madrid:20251105T170000
DTSTAMP:20260422T035428
CREATED:20251020T082125Z
LAST-MODIFIED:20251020T082125Z
UID:10001192-1762329600-1762362000@www.industriales.upm.es
SUMMARY:Reunión Proyecto Europeo DynReAct_PDP
DESCRIPTION:Reunión periódica de los 4 socios del proyecto europeo DynReAct_PDP.  Exposición de avances de cada socio en cada paquete de trabajo.  Comentario de resultados.  Discusión sobre puntos a resolver de cara a las siguientes tareas.  Recogida de conclusiones y documentación
URL:https://www.industriales.upm.es/info-evento/reunion-proyecto-europeo-dynreact_pdp-2/
END:VEVENT
BEGIN:VEVENT
DTSTART;TZID=Europe/Madrid:20251105T190000
DTEND;TZID=Europe/Madrid:20251105T210000
DTSTAMP:20260422T035428
CREATED:20251104T081736Z
LAST-MODIFIED:20251104T081736Z
UID:10001213-1762369200-1762376400@www.industriales.upm.es
SUMMARY:Creación de Empresas Actúa UPM. Puesta en marcha de la empresa Jesús de Benito
DESCRIPTION:Creación de Empresas Actúa UPM. Puesta en marcha de la empresa Jesús de Benito
URL:https://www.industriales.upm.es/info-evento/creacion-de-empresas-actua-upm-puesta-en-marcha-de-la-empresa-jesus-de-benito/
END:VEVENT
BEGIN:VEVENT
DTSTART;TZID=Europe/Madrid:20251106T130000
DTEND;TZID=Europe/Madrid:20251203T153000
DTSTAMP:20260422T035428
CREATED:20251024T062922Z
LAST-MODIFIED:20251028T113720Z
UID:10001200-1762434000-1764775800@www.industriales.upm.es
SUMMARY:Sesión formativa Programa Mentor
DESCRIPTION:
URL:https://www.industriales.upm.es/info-evento/sesion-formativa-programa-mentor/
END:VEVENT
BEGIN:VEVENT
DTSTART;TZID=Europe/Madrid:20251106T190000
DTEND;TZID=Europe/Madrid:20251106T210000
DTSTAMP:20260422T035428
CREATED:20251023T103549Z
LAST-MODIFIED:20251023T103549Z
UID:10001197-1762455600-1762462800@www.industriales.upm.es
SUMMARY:Creación de Empresas Actúa UPM
DESCRIPTION:Creación de Empresas Actúa UPM
URL:https://www.industriales.upm.es/info-evento/creacion-de-empresas-actua-upm/
END:VEVENT
BEGIN:VEVENT
DTSTART;TZID=Europe/Madrid:20251107T083000
DTEND;TZID=Europe/Madrid:20251107T150000
DTSTAMP:20260422T035428
CREATED:20251003T104342Z
LAST-MODIFIED:20251003T104342Z
UID:10001157-1762504200-1762527600@www.industriales.upm.es
SUMMARY:Semana de la Ciencia - Representación CAR
DESCRIPTION:Por definir
URL:https://www.industriales.upm.es/info-evento/semana-de-la-ciencia-representacion-car/
END:VEVENT
BEGIN:VEVENT
DTSTART;TZID=Europe/Madrid:20251107T083000
DTEND;TZID=Europe/Madrid:20251107T173000
DTSTAMP:20260422T035428
CREATED:20251027T120441Z
LAST-MODIFIED:20251027T120441Z
UID:10001207-1762504200-1762536600@www.industriales.upm.es
SUMMARY:Actividad Semana de la Ciencia: El círculo perfecto
DESCRIPTION:
URL:https://www.industriales.upm.es/info-evento/actividad-semana-de-la-ciencia-el-circulo-perfecto-2/
END:VEVENT
BEGIN:VEVENT
DTSTART;TZID=Europe/Madrid:20251107T153000
DTEND;TZID=Europe/Madrid:20251107T183000
DTSTAMP:20260422T035428
CREATED:20251027T110134Z
LAST-MODIFIED:20251103T082816Z
UID:10001203-1762529400-1762540200@www.industriales.upm.es
SUMMARY:Acústica de los instrumentos musicales: una mirada desde la ingeniería
DESCRIPTION:«Acústica de los instrumentos musicales: una mirada desde la ingeniería» \nLos instrumentos musicales son sofisticadas máquinas donde la vibración de placas o cuerdas y las resonancias se combinan para transmitir sensaciones fascinantes. En esta charla repasaremos la acústica de algunos instrumentos tradicionales y veremos cómo la ingeniería puede ayudarnos a analizarlos\, modelarlos e incluso mejorar su diseño. La charla está organizada por la Unidad Docente de Acústica del Departamento de Ingeniería Mecánica en colaboración con el profesor Manuel Sobreira de la Universidad de Vigo\, y está abierta a cualquier estudiante de la Escuela interesado en profundizar en los vínculos entre la música y la ingeniería. \nDónde: ETSI Industriales Aula D \nCuándo: 7 de noviembre 15.30-18.30 \nRegistro necesario en https://forms.office.com/e/QM5kp4QKK6
URL:https://www.industriales.upm.es/info-evento/acustica-de-los-instrumentos-musicales-una-mirada-desde-la-ingenieria/
ATTACH;FMTTYPE=image/webp:https://www.industriales.upm.es/wp-content/uploads/2025/10/DALL·E-2025-11-03-09.26.17-A-still-life-composition-featuring-five-classical-musical-instruments-arranged-elegantly-on-a-dark-velvet-surface.-The-instruments-include-a-grand-pia.webp
END:VEVENT
BEGIN:VEVENT
DTSTART;TZID=Europe/Madrid:20251111T180000
DTEND;TZID=Europe/Madrid:20251111T210000
DTSTAMP:20260422T035428
CREATED:20250714T062957Z
LAST-MODIFIED:20250714T062957Z
UID:10001068-1762884000-1762894800@www.industriales.upm.es
SUMMARY:Entre la Ilustración y la Edad de Plata: Huellas de Ciencia y Cultura en Madrid.
DESCRIPTION:Esta conferencia se imparte en el contexto de la Semana de la Ciencia de Madrid. La idea es presentar dos rutas\, desarrolladas en los últimos años\, en las que se tratan dos temas de ciencia contextualizada: La ilustración Española (siglo XVIII)  y el descubrimiento de tres elementos químicos\, y el desarrollo cultural de la conocida como Edad de Plata (finales del siglo XIX y principios del siglo XX).
URL:https://www.industriales.upm.es/info-evento/entre-la-ilustracion-y-la-edad-de-plata-huellas-de-ciencia-y-cultura-en-madrid/
END:VEVENT
BEGIN:VEVENT
DTSTART;TZID=Europe/Madrid:20251112T090000
DTEND;TZID=Europe/Madrid:20251112T210000
DTSTAMP:20260422T035428
CREATED:20250610T132440Z
LAST-MODIFIED:20250610T132440Z
UID:10001024-1762938000-1762981200@www.industriales.upm.es
SUMMARY:175 años de Ingeniería Industrial. Pasado\, presente y futuro del ferrocarril
DESCRIPTION:A determinar
URL:https://www.industriales.upm.es/info-evento/175-anos-de-ingenieria-industrial-pasado-presente-y-futuro-del-ferrocarril-4/
END:VEVENT
BEGIN:VEVENT
DTSTART;TZID=Europe/Madrid:20251112T100000
DTEND;TZID=Europe/Madrid:20251112T123000
DTSTAMP:20260422T035428
CREATED:20251015T095417Z
LAST-MODIFIED:20251015T095417Z
UID:10001183-1762941600-1762950600@www.industriales.upm.es
SUMMARY:Sesión procesos selección con REPSOL para asignatura RHOT
DESCRIPTION:Sesión común a grupos M1 y M2 del MII para asignatura RHOT con persona responsable de procesos de selección de Repsol
URL:https://www.industriales.upm.es/info-evento/sesion-procesos-seleccion-con-repsol-para-asignatura-rhot/
END:VEVENT
BEGIN:VEVENT
DTSTART;TZID=Europe/Madrid:20251112T150000
DTEND;TZID=Europe/Madrid:20251112T180000
DTSTAMP:20260422T035428
CREATED:20251030T072007Z
LAST-MODIFIED:20251030T072007Z
UID:10001211-1762959600-1762970400@www.industriales.upm.es
SUMMARY:Seminario: Inteligencia Artificial para el aprendizaje activo en Matemática Industrial
DESCRIPTION:15:30-16:15 Charla a cargo de Miguel Aparicio  16:15-17:30 Mesa redonda: Experiencias de aplicación de la IA en asignaturas de Matemáticas
URL:https://www.industriales.upm.es/info-evento/seminario-inteligencia-artificial-para-el-aprendizaje-activo-en-matematica-industrial/
END:VEVENT
BEGIN:VEVENT
DTSTART;TZID=Europe/Madrid:20251113T113000
DTEND;TZID=Europe/Madrid:20251113T130000
DTSTAMP:20260422T035428
CREATED:20251010T092658Z
LAST-MODIFIED:20251010T092658Z
UID:10001167-1763033400-1763038800@www.industriales.upm.es
SUMMARY:Visita GEC francesas programas de movilidad y Doble Titulación
DESCRIPTION:Visita GEC francesas programas de movilidad y Doble Titulación
URL:https://www.industriales.upm.es/info-evento/visita-gec-francesas-programas-de-movilidad-y-doble-titulacion/
END:VEVENT
BEGIN:VEVENT
DTSTART;TZID=Europe/Madrid:20251113T183000
DTEND;TZID=Europe/Madrid:20251113T210000
DTSTAMP:20260422T035428
CREATED:20251013T082725Z
LAST-MODIFIED:20251013T082725Z
UID:10001173-1763058600-1763067600@www.industriales.upm.es
SUMMARY:Reunión MIO alumni
DESCRIPTION:
URL:https://www.industriales.upm.es/info-evento/reunion-mio-alumni/
END:VEVENT
BEGIN:VEVENT
DTSTART;TZID=Europe/Madrid:20251114T080000
DTEND;TZID=Europe/Madrid:20260129T143000
DTSTAMP:20260422T035428
CREATED:20260121T120617Z
LAST-MODIFIED:20260121T120617Z
UID:10001290-1763107200-1769697000@www.industriales.upm.es
SUMMARY:CONSEJO DE GOBIERNO UPM
DESCRIPTION:Consejo de Gobierno UPM
URL:https://www.industriales.upm.es/info-evento/consejo-de-gobierno-upm/
END:VEVENT
BEGIN:VEVENT
DTSTART;TZID=Europe/Madrid:20251114T170000
DTEND;TZID=Europe/Madrid:20251114T190000
DTSTAMP:20260422T035428
CREATED:20250916T105326Z
LAST-MODIFIED:20250916T105326Z
UID:10001121-1763139600-1763146800@www.industriales.upm.es
SUMMARY:Reunión de profesorado de Física y Química
DESCRIPTION:Reunión de profesorado de Física y Química\, tanto de la UPM como de otras instituciones y etapas educativas
URL:https://www.industriales.upm.es/info-evento/reunion-de-profesorado-de-fisica-y-quimica-2/
END:VEVENT
BEGIN:VEVENT
DTSTART;TZID=Europe/Madrid:20251118T083000
DTEND;TZID=Europe/Madrid:20251118T210000
DTSTAMP:20260422T035428
CREATED:20251106T084238Z
LAST-MODIFIED:20251106T084238Z
UID:10001214-1763454600-1763499600@www.industriales.upm.es
SUMMARY:DEFENSAS TFG
DESCRIPTION:
URL:https://www.industriales.upm.es/info-evento/defensas-tfg/
END:VEVENT
BEGIN:VEVENT
DTSTART;TZID=Europe/Madrid:20251118T083000
DTEND;TZID=Europe/Madrid:20251119T213000
DTSTAMP:20260422T035428
CREATED:20250328T112754Z
LAST-MODIFIED:20250328T112754Z
UID:10000939-1763454600-1763587800@www.industriales.upm.es
SUMMARY:2º Foro sobre Patrimonio de la Industria de Defensa Española
DESCRIPTION:
URL:https://www.industriales.upm.es/info-evento/2o-foro-sobre-patrimonio-de-la-industria-de-defensa-espanola/
END:VEVENT
BEGIN:VEVENT
DTSTART;TZID=Europe/Madrid:20251118T173000
DTEND;TZID=Europe/Madrid:20251118T190000
DTSTAMP:20260422T035428
CREATED:20251003T075339Z
LAST-MODIFIED:20251003T075339Z
UID:10001156-1763487000-1763492400@www.industriales.upm.es
SUMMARY:UPM Conecta (Charla asociada al evento)
DESCRIPTION:Charla dentro de las actividades de UPM conecta: LÁSER\, LA LUZ QUE CAMBIA EL MUNDO
URL:https://www.industriales.upm.es/info-evento/upm-conecta-charla-asociada-al-evento/
END:VEVENT
BEGIN:VEVENT
DTSTART;TZID=Europe/Madrid:20251119T090000
DTEND;TZID=Europe/Madrid:20251119T150000
DTSTAMP:20260422T035428
CREATED:20251010T105736Z
LAST-MODIFIED:20251010T105736Z
UID:10001168-1763542800-1763564400@www.industriales.upm.es
SUMMARY:Lectura tesis doctoral de RUBÉN ALONSO HERNÁNDEZ con titulo Convergencia de Arquitecturas Software\, Robótica Colaborativa y Aprendizaje Automático en la Industria 5.0. Métodos y Aplicación
DESCRIPTION:
URL:https://www.industriales.upm.es/info-evento/lectura-tesis-doctoral-de-ruben-alonso-hernandez-con-titulo-convergencia-de-arquitecturas-software-robotica-colaborativa-y-aprendizaje-automatico-en-la-industria-5-0-metodos-y-aplicacion/
END:VEVENT
BEGIN:VEVENT
DTSTART;TZID=Europe/Madrid:20251119T160000
DTEND;TZID=Europe/Madrid:20251119T190000
DTSTAMP:20260422T035428
CREATED:20251013T065954Z
LAST-MODIFIED:20251013T065954Z
UID:10001171-1763568000-1763578800@www.industriales.upm.es
SUMMARY:UPM Conecta
DESCRIPTION:
URL:https://www.industriales.upm.es/info-evento/upm-conecta/
END:VEVENT
BEGIN:VEVENT
DTSTART;TZID=Europe/Madrid:20251119T200000
DTEND;TZID=Europe/Madrid:20251119T210000
DTSTAMP:20260422T035428
CREATED:20251111T150033Z
LAST-MODIFIED:20251111T150033Z
UID:10001216-1763582400-1763586000@www.industriales.upm.es
SUMMARY:Charla ciclo de Ágora ?Nosce?
DESCRIPTION:Primera charla del nuevo ciclo de Ágora\, titulado ?Nosce? (Conócete)\, dedicado a explorar la filosofía moderna a través de distintos pensadores y las raíces filosóficas de muchas ideas contemporáneas.
URL:https://www.industriales.upm.es/info-evento/charla-ciclo-de-agora-nosce/
END:VEVENT
BEGIN:VEVENT
DTSTART;TZID=Europe/Madrid:20251120T093000
DTEND;TZID=Europe/Madrid:20251120T143000
DTSTAMP:20260422T035428
CREATED:20251028T104219Z
LAST-MODIFIED:20251028T104219Z
UID:10001209-1763631000-1763649000@www.industriales.upm.es
SUMMARY:Defensa de tesis doctoral: ?Formalismo de la función de onda estocástica en la difusión de átomos sobre superficies?. Elena Esther Torres Miyares
DESCRIPTION:Acto de defensa
URL:https://www.industriales.upm.es/info-evento/defensa-de-tesis-doctoral-formalismo-de-la-funcion-de-onda-estocastica-en-la-difusion-de-atomos-sobre-superficies-elena-esther-torres-miyares/
END:VEVENT
BEGIN:VEVENT
DTSTART;TZID=Europe/Madrid:20251120T190000
DTEND;TZID=Europe/Madrid:20251120T210000
DTSTAMP:20260422T035428
CREATED:20251023T111000Z
LAST-MODIFIED:20251023T111000Z
UID:10001199-1763665200-1763672400@www.industriales.upm.es
SUMMARY:Creación de Empresas Actúa UPM
DESCRIPTION:
URL:https://www.industriales.upm.es/info-evento/creacion-de-empresas-actua-upm-2/
END:VEVENT
BEGIN:VEVENT
DTSTART;TZID=Europe/Madrid:20251121T090000
DTEND;TZID=Europe/Madrid:20251121T143000
DTSTAMP:20260422T035428
CREATED:20251028T092036Z
LAST-MODIFIED:20251028T092036Z
UID:10001208-1763715600-1763735400@www.industriales.upm.es
SUMMARY:Defensa de tesis de Ana Correa: Towards Urban Transformations: A Spatial Approach to the Implementation of Household Energy Retrofit Policies and the Role of Intermediaries in Bridging Policy and Climate Action
DESCRIPTION:
URL:https://www.industriales.upm.es/info-evento/defensa-de-tesis-de-ana-correa-towards-urban-transformations-a-spatial-approach-to-the-implementation-of-household-energy-retrofit-policies-and-the-role-of-intermediaries-in-bridging-policy-and-clim/
END:VEVENT
END:VCALENDAR