BEGIN:VCALENDAR
VERSION:2.0
PRODID:-//Escuela Técnica Superior Ingenieros Industriales - ECPv6.15.20//NONSGML v1.0//EN
CALSCALE:GREGORIAN
METHOD:PUBLISH
X-WR-CALNAME:Escuela Técnica Superior Ingenieros Industriales
X-ORIGINAL-URL:https://www.industriales.upm.es
X-WR-CALDESC:Eventos para Escuela Técnica Superior Ingenieros Industriales
REFRESH-INTERVAL;VALUE=DURATION:PT1H
X-Robots-Tag:noindex
X-PUBLISHED-TTL:PT1H
BEGIN:VTIMEZONE
TZID:Europe/Madrid
BEGIN:DAYLIGHT
TZOFFSETFROM:+0100
TZOFFSETTO:+0200
TZNAME:CEST
DTSTART:20240331T010000
END:DAYLIGHT
BEGIN:STANDARD
TZOFFSETFROM:+0200
TZOFFSETTO:+0100
TZNAME:CET
DTSTART:20241027T010000
END:STANDARD
BEGIN:DAYLIGHT
TZOFFSETFROM:+0100
TZOFFSETTO:+0200
TZNAME:CEST
DTSTART:20250330T010000
END:DAYLIGHT
BEGIN:STANDARD
TZOFFSETFROM:+0200
TZOFFSETTO:+0100
TZNAME:CET
DTSTART:20251026T010000
END:STANDARD
BEGIN:DAYLIGHT
TZOFFSETFROM:+0100
TZOFFSETTO:+0200
TZNAME:CEST
DTSTART:20260329T010000
END:DAYLIGHT
BEGIN:STANDARD
TZOFFSETFROM:+0200
TZOFFSETTO:+0100
TZNAME:CET
DTSTART:20261025T010000
END:STANDARD
END:VTIMEZONE
BEGIN:VEVENT
DTSTART;TZID=Europe/Madrid:20250221T103000
DTEND;TZID=Europe/Madrid:20250221T150000
DTSTAMP:20260422T043942
CREATED:20250129T082159Z
LAST-MODIFIED:20250129T125443Z
UID:10000804-1740133800-1740150000@www.industriales.upm.es
SUMMARY:Defensa de tesis doctoral: Application of Probabilistic Safety Assessment to FLEX Strategies\, Advanced Technology Fuels and Design Extension\, de Sergio Courtin
DESCRIPTION:
URL:https://www.industriales.upm.es/info-evento/defensa-tesis-doctoral-sergio-courtin/
END:VEVENT
BEGIN:VEVENT
DTSTART;TZID=Europe/Madrid:20250221T190000
DTEND;TZID=Europe/Madrid:20250221T210000
DTSTAMP:20260422T043942
CREATED:20241126T085024Z
LAST-MODIFIED:20250219T070746Z
UID:10000733-1740164400-1740171600@www.industriales.upm.es
SUMMARY:Recital de piano a cuatro manos
DESCRIPTION:Recital organizado por la ETSII y su ASOCIACIÓN DE ANTIGUOS ALUMNOS
URL:https://www.industriales.upm.es/info-evento/recital-de-piano-a-cuatro-manos/
CATEGORIES:Actuaciones (Música, Teatro, Cine)
ATTACH;FMTTYPE=image/png:https://www.industriales.upm.es/wp-content/uploads/2024/11/Cartel-CONCIERTO-5-para-CULPASS.png
END:VEVENT
BEGIN:VEVENT
DTSTART;TZID=Europe/Madrid:20250224T133000
DTEND;TZID=Europe/Madrid:20250224T153000
DTSTAMP:20260422T043942
CREATED:20250205T090124Z
LAST-MODIFIED:20250219T121429Z
UID:10000813-1740403800-1740411000@www.industriales.upm.es
SUMMARY:Plenaria PDI/PTGAS modelo de evaluación y ordenación académica
DESCRIPTION:
URL:https://www.industriales.upm.es/info-evento/plenaria-estudiantes-modelo-evaluacion-y-ordenacion-academica/
END:VEVENT
BEGIN:VEVENT
DTSTART;TZID=Europe/Madrid:20250226T080000
DTEND;TZID=Europe/Madrid:20250228T180000
DTSTAMP:20260422T043942
CREATED:20250121T080615Z
LAST-MODIFIED:20250123T071334Z
UID:10000792-1740556800-1740765600@www.industriales.upm.es
SUMMARY:Workshop del proyecto europeo AMHYCO
DESCRIPTION:
URL:https://www.industriales.upm.es/info-evento/workshop-del-proyecto-europeo-amhyco-2/
END:VEVENT
BEGIN:VEVENT
DTSTART;TZID=Europe/Madrid:20250227T180000
DTEND;TZID=Europe/Madrid:20250227T203000
DTSTAMP:20260422T043942
CREATED:20250127T075826Z
LAST-MODIFIED:20250220T090313Z
UID:10000802-1740679200-1740688200@www.industriales.upm.es
SUMMARY:Lanzamiento del Conversatorio de la Asociación El Día Después con Remedios Zafra y Astrid Wagner
DESCRIPTION:La Escuela Técnica Superior de Ingenieros Industriales de la UPM acoge el próximo 27 de febrero a las 18:00h en el Aula C la conferencia inaugural del Conversatorio de la Asociación El Día Después. Esta iniciativa cuenta con una fuerte vinculación con la UPM\, ya que el itdUPM fue parte de su creación y varios profesores de la universidad\, especialmente de Industriales\, siguen participando activamente\, entre ellos Carlos Mataix. \nEn este primer conversatorio\, titulado «El Diálogo y la Verdad»\, se contará con la presencia de Remedios Zafra y Astrid Wagner\, investigadoras principales del Instituto de Filosofía del CSIC y reconocidas ensayistas. Ambas expertas conversarán con los asistentes sobre la relevancia del diálogo en la búsqueda de la verdad en el contexto actual\, ofreciendo una reflexión abierta y participativa. \nLa actividad es abierta a todo el público y está dirigida tanto al alumnado como al profesorado\, siendo una oportunidad única para reflexionar y debatir sobre cuestiones clave del pensamiento contemporáneo. Inscripciones aquí. \n¡Participa en este espacio de encuentro y conocimiento compartido! \n***\nFecha: 27 de febrero\nHora: 18:00h\nLugar: Aula C\, ETSII UPM\nTema: «El Diálogo y la Verdad»\nPonentes: Remedios Zafra y Astrid Wagner\, investigadoras del CSIC \n 
URL:https://www.industriales.upm.es/info-evento/dialogo-y-verdad-influencia-de-las-tecnologias-en-la-conversacion-publica/
ATTACH;FMTTYPE=image/png:https://www.industriales.upm.es/wp-content/uploads/2025/01/Evento-Conversatori-Dia-Despues.png
END:VEVENT
BEGIN:VEVENT
DTSTART;TZID=Europe/Madrid:20250303T180000
DTEND;TZID=Europe/Madrid:20250303T210000
DTSTAMP:20260422T043942
CREATED:20250225T112846Z
LAST-MODIFIED:20250225T112846Z
UID:10000857-1741024800-1741035600@www.industriales.upm.es
SUMMARY:Conferencia Tecnología y el futuro del trabajo
DESCRIPTION:Conferencia dentro del programa MBA sobre el futuro del trabajo y como la tecnología afectará a  la forma de trabajar
URL:https://www.industriales.upm.es/info-evento/conferencia-tecnologia-y-el-futuro-del-trabajo/
END:VEVENT
BEGIN:VEVENT
DTSTART;TZID=Europe/Madrid:20250304T143000
DTEND;TZID=Europe/Madrid:20250304T170000
DTSTAMP:20260422T043942
CREATED:20250219T104700Z
LAST-MODIFIED:20250219T104700Z
UID:10000849-1741098600-1741107600@www.industriales.upm.es
SUMMARY:Reunión club escritura UPM
DESCRIPTION:Reunión club escritura UPM
URL:https://www.industriales.upm.es/info-evento/reunion-club-escritura-upm/
END:VEVENT
BEGIN:VEVENT
DTSTART;TZID=Europe/Madrid:20250305T153000
DTEND;TZID=Europe/Madrid:20250305T170000
DTSTAMP:20260422T043942
CREATED:20250220T090851Z
LAST-MODIFIED:20250220T090958Z
UID:10000853-1741188600-1741194000@www.industriales.upm.es
SUMMARY:Mesa redonda: desafíos y oportunidades para la descarbonización industrial en España. Q-Cero Studio
DESCRIPTION:Segunda sesión de Q-Cero Studio\, dedicada a explorar los desafíos y oportunidades para la descarbonización industrial en España. En esta sesión\, se discutirán las diversas perspectivas sobre este proceso\, incluyendo el papel de la Alianza Q-Cero\, la visión de las empresas y el enfoque académico. (CONFIRMA TU ASISTENCIA AQUÍ) \n📅 Fecha: Miércoles 5 de marzo\n📍 Lugar: Sala C – Escuela Técnica de Ingenieros Industriales UPM (C. de José Gutiérrez Abascal 2\, Madrid)\n⏰ Hora: 15:30 PM – 17:00 PM \nContaremos con la moderación de:\n🔹 María Suárez – itdUPM y coordinadora de Alianza Q-Cero \nY los siguientes panelistas:\n🔹 Asier Maiztegi – Director de Estrategia y Desarrollo de Negocio para la Descarbonización de Tecnalia\n🔹 Gonzalo Sáenz – Director de Cambio Climático y Alianzas en el Área de Presidencia de Iberdrola y Presidente del Grupo Español de Crecimiento Verde\n🔹 Luis Francisco Gonzáles Portillo – Profesor UPM del Departamento de Ingeniería Energética e investigador visitante en el MIT\n🔹 Panelista por confirmar \n💻 Si no puedes asistir en persona o no estarás en Madrid\, este es el enlace de Zoom. \nContacto coordinacion@alianzaqcero.es.
URL:https://www.industriales.upm.es/info-evento/mesa-redonda-desafios-y-oportunidades-para-la-descarbonizacion-industrial-en-espana-q-cero-studio/
ATTACH;FMTTYPE=image/png:https://www.industriales.upm.es/wp-content/uploads/2025/02/descarga.png
END:VEVENT
BEGIN:VEVENT
DTSTART;TZID=Europe/Madrid:20250306T080000
DTEND;TZID=Europe/Madrid:20250306T203000
DTSTAMP:20260422T043942
CREATED:20250120T084524Z
LAST-MODIFIED:20250120T084524Z
UID:10000778-1741248000-1741293000@www.industriales.upm.es
SUMMARY:Jornada de las centrales y Asamblea de la SNE
DESCRIPTION:Jornada de las centrales y Asamblea de la SNE
URL:https://www.industriales.upm.es/info-evento/jornada-de-las-centrales-y-asamblea-de-la-sne/
END:VEVENT
BEGIN:VEVENT
DTSTART;TZID=Europe/Madrid:20250307T123000
DTEND;TZID=Europe/Madrid:20250307T150000
DTSTAMP:20260422T043942
CREATED:20250224T120446Z
LAST-MODIFIED:20250225T075536Z
UID:10000856-1741350600-1741359600@www.industriales.upm.es
SUMMARY:IIEC: La escuela de cine de los ingenieros. El caso de Manuel Summers
DESCRIPTION:
URL:https://www.industriales.upm.es/info-evento/iiec-la-escuela-de-cine-de-los-ingenieros-el-caso-de-manuel-summers/
ATTACH;FMTTYPE=image/jpeg:https://www.industriales.upm.es/wp-content/uploads/2025/02/summers-1-scaled.jpg
END:VEVENT
BEGIN:VEVENT
DTSTART;TZID=Europe/Madrid:20250308T080000
DTEND;TZID=Europe/Madrid:20250308T233000
DTSTAMP:20260422T043942
CREATED:20250307T082138Z
LAST-MODIFIED:20250307T082418Z
UID:10000875-1741420800-1741476600@www.industriales.upm.es
SUMMARY:8 de marzo: Un día especial para la universidad española
DESCRIPTION:El 8 de marzo es una fecha con un significado especial en la historia de la universidad española. Fue en 1910 cuando se aprobó la Real Orden que permitió\, por primera vez\, que mujeres y hombres pudieran acceder en igualdad de condiciones a la enseñanza superior. Un avance decisivo en el que Emilia Pardo Bazán\, como consejera de Instrucción Pública\, tuvo un papel clave. Hoy\, más de un siglo después\, el 59% de los graduados en España son mujeres. \nEn la ETSI Industriales UPM avanzamos hacia una ingeniería abierta\, diversa e igualitaria\, porque sabemos que así hacemos una mejor ingeniería. Actualmente\, el 37% de nuestras estudiantes de grado y el 24% de nuestro profesorado son mujeres\, una cifra que sigue creciendo gracias al talento y esfuerzo de muchas pioneras. \nEste año\, además\, celebramos 175 años del nacimiento de la Ingeniería Industrial (septiembre de 1850). Para conmemorar esta trayectoria\, hemos preparado una exposición que rinde homenaje a las primeras mujeres en la ETSII: desde la primera egresada hasta las primeras profesoras y profesionales que han dejado su huella en la ingeniería. \nA todas ellas\, GRACIAS. Gracias por abrir camino\, por su dedicación y por inspirar a quienes hoy siguen sus pasos. \n¡Feliz 8 de marzo! \nSeguro que conoces a más mujeres que han marcado la diferencia en la ingeniería. Ayúdanos a visibilizarlas y comparte sus nombres AQUÍ. \n#8M #IgualdadDeGénero
URL:https://www.industriales.upm.es/info-evento/8-de-marzo-un-dia-especial-para-la-universidad-espanola/
ATTACH;FMTTYPE=image/jpeg:https://www.industriales.upm.es/wp-content/uploads/2025/03/8M_Imagen_QR-1.jpg
END:VEVENT
BEGIN:VEVENT
DTSTART;TZID=Europe/Madrid:20250311T110000
DTEND;TZID=Europe/Madrid:20250311T140000
DTSTAMP:20260422T043942
CREATED:20250306T075953Z
LAST-MODIFIED:20250306T080141Z
UID:10000872-1741690800-1741701600@www.industriales.upm.es
SUMMARY:Lectura de Tesis. GEMA DEL RIO CASTRO. "A taxonomy for the digital\, environmental\, and socially just transition".
DESCRIPTION:Lectura de Tesis. GEMA DEL RIO CASTRO. «A taxonomy for the digital\, environmental\, and socially just transition». \nDirectores: Mª Camino González Fernández y Ángel Uruburu Colsa. \nAula D
URL:https://www.industriales.upm.es/info-evento/37660/
END:VEVENT
BEGIN:VEVENT
DTSTART;TZID=Europe/Madrid:20250312T080000
DTEND;TZID=Europe/Madrid:20250312T160000
DTSTAMP:20260422T043942
CREATED:20250214T082124Z
LAST-MODIFIED:20250214T082124Z
UID:10000844-1741766400-1741795200@www.industriales.upm.es
SUMMARY:Concurso de selección de Profesor Permanente Laboral: Tecnología Electrónica
DESCRIPTION:
URL:https://www.industriales.upm.es/info-evento/concurso-de-seleccion-de-profesor-permanente-laboral-tecnologia-electronica/
END:VEVENT
BEGIN:VEVENT
DTSTART;TZID=Europe/Madrid:20250313T080000
DTEND;TZID=Europe/Madrid:20250313T170000
DTSTAMP:20260422T043942
CREATED:20250307T090237Z
LAST-MODIFIED:20250307T091453Z
UID:10000877-1741852800-1741885200@www.industriales.upm.es
SUMMARY:Seminario sobre motores eléctricos
DESCRIPTION:AULA 23
URL:https://www.industriales.upm.es/info-evento/seminario-sobre-motores-electricos/
ATTACH;FMTTYPE=image/png:https://www.industriales.upm.es/wp-content/uploads/2025/03/image.png
END:VEVENT
BEGIN:VEVENT
DTSTART;TZID=Europe/Madrid:20250313T130000
DTEND;TZID=Europe/Madrid:20250313T150000
DTSTAMP:20260422T043942
CREATED:20250304T130158Z
LAST-MODIFIED:20250304T130420Z
UID:10000868-1741870800-1741878000@www.industriales.upm.es
SUMMARY:Seminario del DMAII: Curvas planas\, del teorema de la función implícita a la teoría de nudos. Ponente: Prof. Pablo Portilla.
DESCRIPTION:13:40 – 14:30. Seminario: Curvas planas: del teorema de la función implícita a la teoría de nudos. Ponente Prof. Pablo Portilla 14:30 – 14:40. Preguntas
URL:https://www.industriales.upm.es/info-evento/seminario-del-dmaii-curvas-planas-del-teorema-de-la-funcion-implicita-a-la-teoria-de-nudos-ponente-prof-pablo-portilla/
END:VEVENT
BEGIN:VEVENT
DTSTART;TZID=Europe/Madrid:20250314T090000
DTEND;TZID=Europe/Madrid:20250316T210000
DTSTAMP:20260422T043942
CREATED:20250121T090814Z
LAST-MODIFIED:20250310T111725Z
UID:10000797-1741942800-1742158800@www.industriales.upm.es
SUMMARY:Magia por Benín celebra su 15ª edición: un festival solidario que transforma vidas a través de la magia
DESCRIPTION:GANADORES DEL SORTEO DE 40 ENTRADAS PARA TRES PERSONAS.  Viernes 14 de marzo. \n\n\n\nErnesto Moreno Sabroso\n\n\nNikolaos Karagiannis\n\n\nPatricia García Muñoz\n\n\nM. Elena Domínguez Jiménez\n\n\nSANTIAGO SERI SERRANO\n\n\nLISA CULOT\n\n\nVICTORIA WEINER RODRIGUEZ\n\n\nMARTA TALENS REVILLA\n\n\nJUAN FRANCISCO GARCÍA QUIJANO\n\n\nEMMA PALAZÓN ANES\n\n\nAndrea Fernández Gorgojo\n\n\nJorge Francisco García Samartín\n\n\nMaría Yolanda Bernabé Peña\n\n\nAlfredo Marín Lázaro\n\n\nALBERTO ESPINAR PARTAL\n\n\nLAURA SANZ MEGINO\n\n\nINÉS SALAZAR PLAZA\n\n\nLUCÍA VARONA VIDAURRAZAGA\n\n\nINÉS SÁNCHEZ IDOY\n\n\nMARÍA ARAQUE GONZÁLEZ\n\n\nSilvia Villalgordo Ramos\n\n\nMaría Elena Zapatero Rodríguez\n\n\nMaría Encarnación Gil Cerro\n\n\nVíctor Marín Serrano\n\n\nMERELL LYSTRA RECTA LEDESMA\n\n\nCARMEN GÓMEZ ANDÚJAR\n\n\nÍÑIGO ARREYTUNANDÍA USABIAGA\n\n\nCARLOS OLMOS ALONSO\n\n\nJON GARCINUÑO SESAR\n\n\nJESÚS GABRIEL YARLEQUÉ IPANAQUÉ\n\n\nAikaterini Foteinopoulou\n\n\nLino Sánchez Ibarzábal\n\n\nAlejandro Zarzo Altarejos\n\n\nAlfredo Antonio Balbuena Osuna\n\n\nALMUDENA HERNANDO DUCE\n\n\nCRISTINA SANZ CUADRADO\n\n\nIÑIGO EGAÑA BASTARRICA\n\n\nFRANCISCO LÓPEZ MANSILLA\n\n\nMARTA VICTORIA LIMON LOPEZ\n\n\nJAVIER LATORRE ALONSO\n\n\n\n  \nLa Escuela Técnica Superior de Ingenieros Industriales de la Universidad Politécnica de Madrid (ETSII UPM) y Mensajeros de la Paz presentan la 15ª edición de Magia por Benín\, un festival de magia solidaria que tendrá lugar los días 14\, 15 y 16 de marzo de 2025 en Madrid. Un evento para todos los públicos cuyo objetivo es recaudar fondos destinados a la escolarización y apoyo educativo de niños en situación de vulnerabilidad en Cotonou (Benín). \nTras 14 ediciones de éxito\, con más de 14.000 espectadores y una recaudación que supera los 200.000 €\, Magia por Benín regresa con un programa que promete ilusión y solidaridad. Durante un fin de semana mágico\, se ofrecerán cinco galas con actuaciones de reconocidos magos como Adrián Carratalá y Katerina\, Gonzalo Albiñana\, David Dían y Dani Polo. Las galas estarán presentadas por destacadas personalidades de la comunicación: Marta Reyero\, Fernando Guallar\, Hilario Pino y Mónica Sanz. Como en cada edición\, todos los artistas y presentadores participan de manera altruista. \n🎩 Fechas y horarios de las galas:\n\nViernes 14 de marzo: 20:00 h\nSábado 15 de marzo: 17:00 h y 20:00 h\nDomingo 16 de marzo: 12:00 h y 17:00 h\n\nLas actuaciones tienen una duración aproximada de 90 minutos y están dirigidas a todos los públicos. Las entradas están disponibles por 16 € en www.magiaporbenin.com. \nAdemás\, quienes deseen colaborar sin asistir pueden hacer una aportación a través de la Fila Cero en la misma web. Los fondos obtenidos permitirán financiar la educación de 50 niños cada año en el Centro de la Alegría de Cotonou y garantizar apoyo escolar a quienes han sido reintegrados en familias tras haber pasado por el centro. \n🌟 Magia que cambia el futuro\nLos niños beneficiarios de esta iniciativa son huérfanos\, abandonados\, rescatados de redes esclavistas o víctimas de maltrato. Desde 1996\, Mensajeros de la Paz\, organización presidida por el Padre Ángel y galardonada con el Premio Príncipe de Asturias\, trabaja en Benín para ofrecer asistencia\, protección y oportunidades educativas a estos menores. \nCon Magia por Benín\, la ETSII UPM y Mensajeros de la Paz vuelven a demostrar que la magia no solo se encuentra en los escenarios\, sino también en la solidaridad que construye un futuro mejor. \n🎟️ Entradas y Fila Cero: www.magiaporbenin.com \n✨ ¡No te pierdas este festival donde la magia y la solidaridad se unen para transformar vidas! ✨ \n  \n  \n 
URL:https://www.industriales.upm.es/info-evento/xv-magia-por-benin/
ATTACH;FMTTYPE=image/jpeg:https://www.industriales.upm.es/wp-content/uploads/2025/01/474081485_18150986857344614_1512791820514437428_n.jpg
END:VEVENT
BEGIN:VEVENT
DTSTART;TZID=Europe/Madrid:20250318T143000
DTEND;TZID=Europe/Madrid:20250318T170000
DTSTAMP:20260422T043942
CREATED:20250305T090853Z
LAST-MODIFIED:20250314T083101Z
UID:10000869-1742308200-1742317200@www.industriales.upm.es
SUMMARY:Reunión club literario
DESCRIPTION:Reunión club literario
URL:https://www.industriales.upm.es/info-evento/reunion-club-literario/2025-03-18/
END:VEVENT
BEGIN:VEVENT
DTSTART;VALUE=DATE:20250319
DTEND;VALUE=DATE:20250328
DTSTAMP:20260422T043942
CREATED:20250319T124229Z
LAST-MODIFIED:20250324T121202Z
UID:10000921-1742342400-1743119999@www.industriales.upm.es
SUMMARY:Elecciones a Director
DESCRIPTION:Programa de actos actualizado
URL:https://www.industriales.upm.es/info-evento/elecciones-a-director/
ATTACH;FMTTYPE=image/jpeg:https://www.industriales.upm.es/wp-content/uploads/2025/03/Presentacion1-1.jpg
END:VEVENT
BEGIN:VEVENT
DTSTART;TZID=Europe/Madrid:20250319T080000
DTEND;TZID=Europe/Madrid:20250320T170000
DTSTAMP:20260422T043942
CREATED:20241209T083752Z
LAST-MODIFIED:20250314T083550Z
UID:10000754-1742371200-1742490000@www.industriales.upm.es
SUMMARY:Madrid Tech 2025 Artificial Intelligence\, Optimization & Digitalization International Workshop
DESCRIPTION:
URL:https://www.industriales.upm.es/info-evento/madrid-tech-2025-artificial-intelligence-optimization-digitalization-international-workshop-2/
END:VEVENT
BEGIN:VEVENT
DTSTART;TZID=Europe/Madrid:20250320T120000
DTEND;TZID=Europe/Madrid:20250320T133000
DTSTAMP:20260422T043942
CREATED:20250318T160945Z
LAST-MODIFIED:20250318T160945Z
UID:10000894-1742472000-1742477400@www.industriales.upm.es
SUMMARY:Acto de campaña del candidato Sergio Dominguez Cabrerizo
DESCRIPTION:Reunión del candidato Sergio Domínguez Cabrerizo con los departamentos de Matemática aplicada a la Ingeniería Industrial + Ingeniería de Organización\, Administración de Empresas y Estadística.
URL:https://www.industriales.upm.es/info-evento/acto-de-campana-del-candidato-sergio-dominguez-cabrerizo/
LOCATION:Salón de ACTOS
END:VEVENT
BEGIN:VEVENT
DTSTART;TZID=Europe/Madrid:20250320T120000
DTEND;TZID=Europe/Madrid:20250320T133000
DTSTAMP:20260422T043942
CREATED:20250318T161118Z
LAST-MODIFIED:20250320T090849Z
UID:10000895-1742472000-1742477400@www.industriales.upm.es
SUMMARY:Acto de campaña del candidato Dionisio Ramírez Prieto
DESCRIPTION:Reunión del candidato Dionisio Ramírez Prieto con los departamentos de Física Aplicada e Ingeniería de Materiales + Lingüística aplicada a la Ciencia y a la Tecnología. \nPrograma Dionisio Ramírez \nCarta de presentación a Estudiantes \nCarta de presentación a Personal
URL:https://www.industriales.upm.es/info-evento/acto-de-campana-del-candidato-dionisio-ramirez-prieto/
LOCATION:Aula D
ATTACH;FMTTYPE=image/gif:https://www.industriales.upm.es/wp-content/uploads/2025/03/cartel.gif
END:VEVENT
BEGIN:VEVENT
DTSTART;TZID=Europe/Madrid:20250320T133000
DTEND;TZID=Europe/Madrid:20250320T150000
DTSTAMP:20260422T043942
CREATED:20250318T155843Z
LAST-MODIFIED:20250320T091315Z
UID:10000893-1742477400-1742482800@www.industriales.upm.es
SUMMARY:Acto de campaña electoral del candidato Sergio Dominguez Cabrerizo
DESCRIPTION:Reunión del candidato Sergio Dominguez Cabrerizo @sergioetsii con los departamentos de Física Aplicada e Ingeniería de Materiales + Lingüística aplicada a la Ciencia y a la Tecnología. \nPrograma electoral Sergio Domínguez \nCarta de presentación
URL:https://www.industriales.upm.es/info-evento/acto-de-campana-electoral-del-candidato-sergio-dominguez-cabrerizo/
LOCATION:Salón de ACTOS
ATTACH;FMTTYPE=image/jpeg:https://www.industriales.upm.es/wp-content/uploads/2025/03/cartel-acto.jpg
END:VEVENT
BEGIN:VEVENT
DTSTART;TZID=Europe/Madrid:20250320T133000
DTEND;TZID=Europe/Madrid:20250320T150000
DTSTAMP:20260422T043942
CREATED:20250318T161228Z
LAST-MODIFIED:20250318T161228Z
UID:10000896-1742477400-1742482800@www.industriales.upm.es
SUMMARY:Acto de campaña del candidato Dionisio Ramírez Prieto
DESCRIPTION:Reunión del candidato Dionisio Ramírez Prieto con los departamentos de Matemática aplicada a la Ingeniería Industrial + Ingeniería de Organización\, Administración de Empresas y Estadística.
URL:https://www.industriales.upm.es/info-evento/acto-de-campana-del-candidato-dionisio-ramirez-prieto-2/
LOCATION:Aula D
END:VEVENT
BEGIN:VEVENT
DTSTART;TZID=Europe/Madrid:20250320T190000
DTEND;TZID=Europe/Madrid:20250320T201500
DTSTAMP:20260422T043942
CREATED:20250306T102451Z
LAST-MODIFIED:20250306T123532Z
UID:10000873-1742497200-1742501700@www.industriales.upm.es
SUMMARY:Conferencia sobre el Códice Madrid\, de Leonardo da Vinci
DESCRIPTION:Conferencia – presentación del Códice Madrid\, de Leonardo da Vinci de la mano de Raquel Bernardos\, autora del libro «El ´Códice invisible» \nSalón de Actos \nPuedes confirmar asistencia en INSCRIPCIÓN
URL:https://www.industriales.upm.es/info-evento/conferencia-sobre-el-codice-madrid-de-leonardo-da-vinci/
ATTACH;FMTTYPE=image/jpeg:https://www.industriales.upm.es/wp-content/uploads/2025/03/Conferencia_-20mar25_web-ETSII.jpg
END:VEVENT
BEGIN:VEVENT
DTSTART;TZID=Europe/Madrid:20250321T120000
DTEND;TZID=Europe/Madrid:20250321T133000
DTSTAMP:20260422T043942
CREATED:20250318T161329Z
LAST-MODIFIED:20250320T091645Z
UID:10000897-1742558400-1742563800@www.industriales.upm.es
SUMMARY:Acto de campaña del candidato Dionisio Ramírez Prieto
DESCRIPTION:Reunión del candidato Dionisio Ramírez Prieto con los departamentos de Ingeniería Química Industrial y del Medio Ambiente + Automática\, Ingeniería Eléctrica y Electrónica. \nPrograma Dionisio Ramírez \nCarta de presentación a Estudiantes \nCarta de presentación a Personal
URL:https://www.industriales.upm.es/info-evento/acto-de-campana-del-candidato-dionisio-ramirez-prieto-3/
LOCATION:Aula C
ATTACH;FMTTYPE=image/gif:https://www.industriales.upm.es/wp-content/uploads/2025/03/cartel.gif
END:VEVENT
BEGIN:VEVENT
DTSTART;TZID=Europe/Madrid:20250321T133000
DTEND;TZID=Europe/Madrid:20250321T150000
DTSTAMP:20260422T043942
CREATED:20250318T161428Z
LAST-MODIFIED:20250318T161428Z
UID:10000898-1742563800-1742569200@www.industriales.upm.es
SUMMARY:Acto de campaña del candidato Dionisio Ramírez Prieto
DESCRIPTION:Reunión del candidato Dionisio Ramírez Prieto con los departamentos de Ingeniería Energética + Ingeniería mecánica.
URL:https://www.industriales.upm.es/info-evento/acto-de-campana-del-candidato-dionisio-ramirez-prieto-4/
LOCATION:Aula C
END:VEVENT
BEGIN:VEVENT
DTSTART;TZID=Europe/Madrid:20250324T080000
DTEND;TZID=Europe/Madrid:20250324T170000
DTSTAMP:20260422T043942
CREATED:20250324T121052Z
LAST-MODIFIED:20250324T121052Z
UID:10000928-1742803200-1742835600@www.industriales.upm.es
SUMMARY:Campaña electoral del candidato Dionisio Ramírez Prieto
DESCRIPTION:Reunión del candidato Dionisio Ramírez Prieto con RED (Red de Estudiantes de Doctorado). \nCarta de presentación a Estudiantes \nPrograma Dionisio Ramírez
URL:https://www.industriales.upm.es/info-evento/campana-electoral-del-candidato-dionisio-ramirez-prieto-2/
ATTACH;FMTTYPE=image/gif:https://www.industriales.upm.es/wp-content/uploads/2025/03/cartel.gif
END:VEVENT
BEGIN:VEVENT
DTSTART;TZID=Europe/Madrid:20250324T083000
DTEND;TZID=Europe/Madrid:20250324T200000
DTSTAMP:20260422T043942
CREATED:20250116T112426Z
LAST-MODIFIED:20250120T090626Z
UID:10000772-1742805000-1742846400@www.industriales.upm.es
SUMMARY:Entrega de premios periodista y medios de comunicación
DESCRIPTION:Entrega premio periodista y medio de comunicación
URL:https://www.industriales.upm.es/info-evento/entrega-premio-periodista-y-medio-de-comunicacion/
END:VEVENT
BEGIN:VEVENT
DTSTART;TZID=Europe/Madrid:20250324T120000
DTEND;TZID=Europe/Madrid:20250324T133000
DTSTAMP:20260422T043942
CREATED:20250318T161801Z
LAST-MODIFIED:20250324T121339Z
UID:10000901-1742817600-1742823000@www.industriales.upm.es
SUMMARY:Acto de campaña del candidato Sergio Domínguez Cabrerizo
DESCRIPTION:Reunión del candidato Sergio Domínguez Cabrerizo @sergioetsii con El Centro de Automatización y Robótica (CAR) + Centro de Electrónica Industrial + Centro Láser UPM + Instituto de Fusión Nuclear «Guillermo Velarde» + Instituto Universitario de Investigación del Automóvil Francisco Aparicio Izquierdo. \nPrograma electoral Sergio Domínguez \nCarta de presentación
URL:https://www.industriales.upm.es/info-evento/acto-de-campana-del-candidato-sergio-dominguez-cabrerizo-4/
LOCATION:Aula Puig Adam
ATTACH;FMTTYPE=image/jpeg:https://www.industriales.upm.es/wp-content/uploads/2025/03/VOTA.jpg
END:VEVENT
BEGIN:VEVENT
DTSTART;TZID=Europe/Madrid:20250324T130000
DTEND;TZID=Europe/Madrid:20250324T153000
DTSTAMP:20260422T043942
CREATED:20250312T110916Z
LAST-MODIFIED:20250312T110916Z
UID:10000884-1742821200-1742830200@www.industriales.upm.es
SUMMARY:Taller de técnicas de negociación - Itaca/Unidad de Psicoterapia y Formación
DESCRIPTION:
URL:https://www.industriales.upm.es/info-evento/taller-de-tecnicas-de-negociacion-itaca-unidad-de-psicoterapia-y-formacion/
END:VEVENT
END:VCALENDAR