BEGIN:VCALENDAR
VERSION:2.0
PRODID:-//Escuela Técnica Superior Ingenieros Industriales - ECPv6.15.20//NONSGML v1.0//EN
CALSCALE:GREGORIAN
METHOD:PUBLISH
X-WR-CALNAME:Escuela Técnica Superior Ingenieros Industriales
X-ORIGINAL-URL:https://www.industriales.upm.es
X-WR-CALDESC:Eventos para Escuela Técnica Superior Ingenieros Industriales
REFRESH-INTERVAL;VALUE=DURATION:PT1H
X-Robots-Tag:noindex
X-PUBLISHED-TTL:PT1H
BEGIN:VTIMEZONE
TZID:Europe/Madrid
BEGIN:DAYLIGHT
TZOFFSETFROM:+0100
TZOFFSETTO:+0200
TZNAME:CEST
DTSTART:20230326T010000
END:DAYLIGHT
BEGIN:STANDARD
TZOFFSETFROM:+0200
TZOFFSETTO:+0100
TZNAME:CET
DTSTART:20231029T010000
END:STANDARD
BEGIN:DAYLIGHT
TZOFFSETFROM:+0100
TZOFFSETTO:+0200
TZNAME:CEST
DTSTART:20240331T010000
END:DAYLIGHT
BEGIN:STANDARD
TZOFFSETFROM:+0200
TZOFFSETTO:+0100
TZNAME:CET
DTSTART:20241027T010000
END:STANDARD
BEGIN:DAYLIGHT
TZOFFSETFROM:+0100
TZOFFSETTO:+0200
TZNAME:CEST
DTSTART:20250330T010000
END:DAYLIGHT
BEGIN:STANDARD
TZOFFSETFROM:+0200
TZOFFSETTO:+0100
TZNAME:CET
DTSTART:20251026T010000
END:STANDARD
END:VTIMEZONE
BEGIN:VEVENT
DTSTART;TZID=Europe/Madrid:20240403T120000
DTEND;TZID=Europe/Madrid:20240403T140000
DTSTAMP:20260422T035452
CREATED:20240403T100045Z
LAST-MODIFIED:20240404T104342Z
UID:10000550-1712145600-1712152800@www.industriales.upm.es
SUMMARY:Challenging constructions in Poland  - an overview of interesting structures and recent outstanding projects
DESCRIPTION:Charla impartida por la profesora Marta Lutomirska de la Universidad de Tecnología de Varsovia (Polonia)\, que visitará nuestra escuela durante una estancia corta de una semana enmarcada en el programa de intercambio de profesorado erasmus+.\nLa charla versará sobre construcciones y estructuras recientes y destacadas realizadas en Polonia\, edificación y puentes\, para darlos a conocer.
URL:https://www.industriales.upm.es/info-evento/challenging-constructions-in-poland-an-overview-of-interesting-structures-and-recent-outstanding-projects/
ATTACH;FMTTYPE=image/jpeg:https://www.industriales.upm.es/wp-content/uploads/2024/02/Erasmus-for-UPM-poster_ML-v2-1.jpg
END:VEVENT
BEGIN:VEVENT
DTSTART;TZID=Europe/Madrid:20240403T190000
DTEND;TZID=Europe/Madrid:20240403T213000
DTSTAMP:20260422T035452
CREATED:20240129T121731Z
LAST-MODIFIED:20240319T121008Z
UID:10000565-1712170800-1712179800@www.industriales.upm.es
SUMMARY:Seminario reactores avanzados
DESCRIPTION:Seminario del Máster Ciencia y Tecnología Nuclear. \nAula D: días 3\, 8\, 15 y 22 de abril de 19:00 a 21:30.
URL:https://www.industriales.upm.es/info-evento/seminario-reactores-avanzados/2024-04-03/
LOCATION:Aula D
END:VEVENT
BEGIN:VEVENT
DTSTART;TZID=Europe/Madrid:20240404T100000
DTEND;TZID=Europe/Madrid:20240404T200000
DTSTAMP:20260422T035452
CREATED:20240318T072622Z
LAST-MODIFIED:20240403T115348Z
UID:10000564-1712224800-1712260800@www.industriales.upm.es
SUMMARY:PRESENTACIÓN INICIATIVA MICROELECTRÓNICA UPM
DESCRIPTION:PRESENTACIÓN INCIATIVA MICROELECTRÓNCA UPM \nAgenda presentación µe-UPM 4 4 2024
URL:https://www.industriales.upm.es/info-evento/presentacion-iniciativa-microelectronica-upm/
END:VEVENT
BEGIN:VEVENT
DTSTART;TZID=Europe/Madrid:20240405T113000
DTEND;TZID=Europe/Madrid:20240405T140000
DTSTAMP:20260422T035452
CREATED:20240401T094817Z
LAST-MODIFIED:20240401T094817Z
UID:10000571-1712316600-1712325600@www.industriales.upm.es
SUMMARY:Biomimetic design and additive manufacturing strategies for multi-scale and multi-material tissue engineering
DESCRIPTION:Defensa de la tesis doctoral de Adrián Martínez Cendrero
URL:https://www.industriales.upm.es/info-evento/biomimetic-design-and-additive-manufacturing-strategies-for-multi-scale-and-multi-material-tissue-engineering/
END:VEVENT
BEGIN:VEVENT
DTSTART;TZID=Europe/Madrid:20240408T123000
DTEND;TZID=Europe/Madrid:20240408T140000
DTSTAMP:20260422T035452
CREATED:20240215T090730Z
LAST-MODIFIED:20240215T090730Z
UID:10000538-1712579400-1712584800@www.industriales.upm.es
SUMMARY:Ruta guiada por la Escuela
DESCRIPTION:Ruta de aproximadamente una hora de duración por lugares que normalmente no están accesibles a todos y durante la cual se conocerán datos de la historia de este edificio singular y sucesos ocurridos desde su construcción. Punto de encuentro: puerta principal-conserjería.
URL:https://www.industriales.upm.es/info-evento/ruta-guiada-por-la-escuela-8-2/
END:VEVENT
BEGIN:VEVENT
DTSTART;TZID=Europe/Madrid:20240408T190000
DTEND;TZID=Europe/Madrid:20240408T213000
DTSTAMP:20260422T035452
CREATED:20240129T121731Z
LAST-MODIFIED:20240319T121008Z
UID:10000566-1712602800-1712611800@www.industriales.upm.es
SUMMARY:Seminario reactores avanzados
DESCRIPTION:Seminario del Máster Ciencia y Tecnología Nuclear. \nAula D: días 3\, 8\, 15 y 22 de abril de 19:00 a 21:30.
URL:https://www.industriales.upm.es/info-evento/seminario-reactores-avanzados/2024-04-08/
LOCATION:Aula D
END:VEVENT
BEGIN:VEVENT
DTSTART;TZID=Europe/Madrid:20240410T080000
DTEND;TZID=Europe/Madrid:20240411T150000
DTSTAMP:20260422T035452
CREATED:20240201T072016Z
LAST-MODIFIED:20240314T104404Z
UID:10000524-1712736000-1712847600@www.industriales.upm.es
SUMMARY:Industriales Research Meeting 2024
DESCRIPTION:IRM24 \nMás info.
URL:https://www.industriales.upm.es/info-evento/industriales-research-meeting-2024/
ATTACH;FMTTYPE=image/jpeg:https://www.industriales.upm.es/wp-content/uploads/2024/03/Cartel-IRM2024-1.jpg
END:VEVENT
BEGIN:VEVENT
DTSTART;TZID=Europe/Madrid:20240411T090000
DTEND;TZID=Europe/Madrid:20240411T143000
DTSTAMP:20260422T035452
CREATED:20240129T094831Z
LAST-MODIFIED:20240129T125850Z
UID:10000517-1712826000-1712845800@www.industriales.upm.es
SUMMARY:La colaboración público-privada para la descarbonización
DESCRIPTION:Reunir experiencias europeas\, autonómicas y locales en torno a tres pilares clave: la descarbonización del sector sanitario\, la contratación pública y la colaboración público-privada entre instituciones locales y compañías privadas. El foro contará con la presencia de líderes del sector\, representantes gubernamentales y expertos en sostenibilidad.
URL:https://www.industriales.upm.es/info-evento/la-colaboracion-publico-privada-para-la-descarbonizacion/
LOCATION:Salón de ACTOS
CATEGORIES:Conferencias
ORGANIZER;CN="Julio Lumbreras":MAILTO:julio.lumbreras@upm.es
END:VEVENT
BEGIN:VEVENT
DTSTART;TZID=Europe/Madrid:20240411T090000
DTEND;TZID=Europe/Madrid:20240411T150000
DTSTAMP:20260422T035452
CREATED:20240322T101118Z
LAST-MODIFIED:20240322T101118Z
UID:10000570-1712826000-1712847600@www.industriales.upm.es
SUMMARY:Reconfiguración y supervisión automática de sistemas ciberfísicos basada en gemelos digitales e Inteligencia Artificial. Aplicación a una línea piloto de Industria 4.0
DESCRIPTION:Lectura tesis doctoral YARENS JOAQUÍN CRUZ HERNÁNDEZ
URL:https://www.industriales.upm.es/info-evento/reconfiguracion-y-supervision-automatica-de-sistemas-ciberfisicos-basada-en-gemelos-digitales-e-inteligencia-artificial-aplicacion-a-una-linea-piloto-de-industria-4-0-2/
END:VEVENT
BEGIN:VEVENT
DTSTART;TZID=Europe/Madrid:20240411T160000
DTEND;TZID=Europe/Madrid:20240411T200000
DTSTAMP:20260422T035452
CREATED:20240411T063308Z
LAST-MODIFIED:20240411T063308Z
UID:10000577-1712851200-1712865600@www.industriales.upm.es
SUMMARY:Taller "La ingeniería en tus manos". ILUMÍNAME O ELIMÍNAME
DESCRIPTION:TALLER P2 – ILUMÍNAME O ELIMÍNAME\n\n ¿Quieres saber cómo sacarle la máxima potencia a tu panel y cómo medirla? Trabajaremos de forma muy práctica con un panel\, con Arduino y con un módulo para medir potencia. Podréis comprobar cómo afectan la fuente de luz y las sombras a la potencia que da el panel.\nDos turnos de 16:00h a 17:30h y de 18:00 a 19:30h.\nAula F5 y F6
URL:https://www.industriales.upm.es/info-evento/taller-la-ingenieria-en-tus-manos-iluminame-o-eliminame/
ATTACH;FMTTYPE=image/jpeg:https://www.industriales.upm.es/wp-content/uploads/2024/04/51oc0YmcWUL.jpg
END:VEVENT
BEGIN:VEVENT
DTSTART;TZID=Europe/Madrid:20240412T111500
DTEND;TZID=Europe/Madrid:20240412T150000
DTSTAMP:20260422T035452
CREATED:20240411T080958Z
LAST-MODIFIED:20240411T082610Z
UID:10000580-1712920500-1712934000@www.industriales.upm.es
SUMMARY:sesiones de pilates ergonómico
DESCRIPTION:sesiones de pilates ergonómico para la comunidad universitaria \n 
URL:https://www.industriales.upm.es/info-evento/sesiones-de-pilates-ergonomico/
ATTACH;FMTTYPE=image/jpeg:https://www.industriales.upm.es/wp-content/uploads/2024/04/Sesiones-de-pilates.jpg
END:VEVENT
BEGIN:VEVENT
DTSTART;TZID=Europe/Madrid:20240415T133000
DTEND;TZID=Europe/Madrid:20240415T150000
DTSTAMP:20260422T035452
CREATED:20240411T080917Z
LAST-MODIFIED:20240411T083814Z
UID:10000579-1713187800-1713193200@www.industriales.upm.es
SUMMARY:Taller de gestión del estrés
DESCRIPTION:Taller de gestión del estrés para la comunidad universitaria \n 
URL:https://www.industriales.upm.es/info-evento/taller-de-gestion-del-estres/
ATTACH;FMTTYPE=image/jpeg:https://www.industriales.upm.es/wp-content/uploads/2024/04/Taller-Gestion-del-Estres.jpg
END:VEVENT
BEGIN:VEVENT
DTSTART;TZID=Europe/Madrid:20240415T190000
DTEND;TZID=Europe/Madrid:20240415T213000
DTSTAMP:20260422T035452
CREATED:20240129T121731Z
LAST-MODIFIED:20240319T121008Z
UID:10000567-1713207600-1713216600@www.industriales.upm.es
SUMMARY:Seminario reactores avanzados
DESCRIPTION:Seminario del Máster Ciencia y Tecnología Nuclear. \nAula D: días 3\, 8\, 15 y 22 de abril de 19:00 a 21:30.
URL:https://www.industriales.upm.es/info-evento/seminario-reactores-avanzados/2024-04-15/
LOCATION:Aula D
END:VEVENT
BEGIN:VEVENT
DTSTART;TZID=Europe/Madrid:20240416T080000
DTEND;TZID=Europe/Madrid:20240417T220000
DTSTAMP:20260422T035452
CREATED:20240402T080717Z
LAST-MODIFIED:20240405T085338Z
UID:10000572-1713254400-1713391200@www.industriales.upm.es
SUMMARY:Feria de Empleo - INDUForum 2024
DESCRIPTION:Feria de Empleo 2024. https://www.induforum2024.com/ \nTríptico induforum 2024
URL:https://www.industriales.upm.es/info-evento/feria-de-eempleo-induforum-2024/
LOCATION:Salón de ACTOS
ATTACH;FMTTYPE=image/jpeg:https://www.industriales.upm.es/wp-content/uploads/2024/04/Triptico-induforum-2024_Pagina_2.jpg
ORGANIZER;CN="InduEmpleo":MAILTO:induempleo@etsii.upm.es
END:VEVENT
BEGIN:VEVENT
DTSTART;TZID=Europe/Madrid:20240417T160000
DTEND;TZID=Europe/Madrid:20240417T180000
DTSTAMP:20260422T035452
CREATED:20240215T090840Z
LAST-MODIFIED:20240215T090840Z
UID:10000539-1713369600-1713376800@www.industriales.upm.es
SUMMARY:Ruta guiada por la Escuela
DESCRIPTION:Ruta de aproximadamente una hora de duración por lugares que normalmente no están accesibles a todos y durante la cual se conocerán datos de la historia de este edificio singular y sucesos ocurridos desde su construcción. Punto de encuentro: puerta principal-conserjería.
URL:https://www.industriales.upm.es/info-evento/ruta-guiada-por-la-escuela-8-2-2/
END:VEVENT
BEGIN:VEVENT
DTSTART;TZID=Europe/Madrid:20240418T080000
DTEND;TZID=Europe/Madrid:20240418T200000
DTSTAMP:20260422T035452
CREATED:20240416T162822Z
LAST-MODIFIED:20240416T163012Z
UID:10000582-1713427200-1713470400@www.industriales.upm.es
SUMMARY:XI Seminario Patrimonio Industrial Aula G+I_Pai
DESCRIPTION:
URL:https://www.industriales.upm.es/info-evento/xi-seminario-patrimonio-industrial-aula-gi_pai/
LOCATION:Salón de ACTOS
CATEGORIES:Congreso / Workshop
ATTACH;FMTTYPE=image/jpeg:https://www.industriales.upm.es/wp-content/uploads/2024/04/Banner_03B-984x1024-1.jpg
END:VEVENT
BEGIN:VEVENT
DTSTART;TZID=Europe/Madrid:20240419T183000
DTEND;TZID=Europe/Madrid:20240419T200000
DTSTAMP:20260422T035452
CREATED:20240405T060249Z
LAST-MODIFIED:20240405T101353Z
UID:10000575-1713551400-1713556800@www.industriales.upm.es
SUMMARY:CONCIERTO de CANTO Y PIANO
DESCRIPTION:La Asociación de Antiguos Alumnos organiza un memorable concierto de voz y piano el próximo viernes 19 de abril\, a las 18:30 h en su Salón de Actos. Se trata del primer concierto que dedica a intérpretes jóvenes excepcionales. \nLa joven soprano Viviana Lopresti\, acompañada al piano por Jacopo Salvatori\, interpretará una selección de piezas de Fauré\, Haendel\, Mozart\, Puccini\, Guridi y Schubert\, y concluirán el recital con la extraordinaria «Je suis Titania la blonde» de Ambroise Thomas. \nPueden comprar las entradas en VENTA DE ENTRADAS \nToda la información en: CONCIERTO DE CANTO Y PIANO \n 
URL:https://www.industriales.upm.es/info-evento/concierto-de-canto-y-piano/
LOCATION:Salón de ACTOS
ATTACH;FMTTYPE=image/jpeg:https://www.industriales.upm.es/wp-content/uploads/2024/04/19abr24_Web-scaled.jpg
END:VEVENT
BEGIN:VEVENT
DTSTART;TZID=Europe/Madrid:20240422T133000
DTEND;TZID=Europe/Madrid:20240422T150000
DTSTAMP:20260422T035452
CREATED:20240411T075633Z
LAST-MODIFIED:20240417T060454Z
UID:10000578-1713792600-1713798000@www.industriales.upm.es
SUMMARY:TALLER DE SUEÑO SALUDABLE
DESCRIPTION:TALLER DE SUEÑO SALUDABLE PARA LA COMUNIDAD UNIVERSITARIA \n13:30h. Aula C.
URL:https://www.industriales.upm.es/info-evento/taller-de-sueno-saludable/
ATTACH;FMTTYPE=image/jpeg:https://www.industriales.upm.es/wp-content/uploads/2024/04/Taller-Sueno-Saludable-L.22-abril.jpg
END:VEVENT
BEGIN:VEVENT
DTSTART;TZID=Europe/Madrid:20240422T190000
DTEND;TZID=Europe/Madrid:20240422T213000
DTSTAMP:20260422T035452
CREATED:20240129T121731Z
LAST-MODIFIED:20240319T121008Z
UID:10000568-1713812400-1713821400@www.industriales.upm.es
SUMMARY:Seminario reactores avanzados
DESCRIPTION:Seminario del Máster Ciencia y Tecnología Nuclear. \nAula D: días 3\, 8\, 15 y 22 de abril de 19:00 a 21:30.
URL:https://www.industriales.upm.es/info-evento/seminario-reactores-avanzados/2024-04-22/
LOCATION:Aula D
END:VEVENT
BEGIN:VEVENT
DTSTART;TZID=Europe/Madrid:20240423T080000
DTEND;TZID=Europe/Madrid:20240424T200000
DTSTAMP:20260422T035452
CREATED:20240313T161951Z
LAST-MODIFIED:20240314T102125Z
UID:10000559-1713859200-1713988800@www.industriales.upm.es
SUMMARY:Congreso Iberoamericano de Ingeniería y Tecnología CIBITEC 2024
DESCRIPTION:El Congreso Iberoamericano de Ingeniería y Tecnología\, CIBITEC24\, organizado por el Colegio y la Asociación de Ingenieros Industriales de Madrid\, abre de nuevo sus puertas los próximos días 23 y 24 de abril de 2024 en la Escuela Técnica Superior de Ingenieros Industriales de la Universidad Politécnica de Madrid. \nEn su VI edición\, el Congreso tiene el honor de presentar a más de 50 expertos de nivel internacional\, cuyas visiones y experiencias abordarán las oportunidades más significativas que tiene el mundo de la ingeniería y la tecnología a día de hoy. \nPrometemos dos días de intensa inmersión en temas cruciales como los combustibles renovables\, la descarbonización\, la energía nuclear\, la construcción sostenible\, las materias primas estratégicas\, la inteligencia artificial y la gestión del talento\, entre otros\, reflejando las megatendencias que están modelando el futuro de nuestra sociedad.\nEste evento es una oportunidad única para compartir experiencias\, conocimientos y proyectos con otros profesionales del sector\, así como para establecer contactos y colaboraciones\, por lo que te invitamos a que formes parte de él y participes con tu asistencia. \nLa inscripción es gratuita y ya está abierta. Se puede realizar a través de la página web oficial: www.cibitec.com . Os recomendamos que os inscribáis cuanto antes\, ya que el aforo es limitado. \nPrograma
URL:https://www.industriales.upm.es/info-evento/congreso-iberoamericano-de-ingenieria-y-tecnologia-cibitec-2024/
LOCATION:Salón de ACTOS
ATTACH;FMTTYPE=image/jpeg:https://www.industriales.upm.es/wp-content/uploads/2024/03/ponentes-cibitec24-845x475-1.jpg
END:VEVENT
BEGIN:VEVENT
DTSTART;TZID=Europe/Madrid:20240423T090000
DTEND;TZID=Europe/Madrid:20240423T203000
DTSTAMP:20260422T035452
CREATED:20240422T110126Z
LAST-MODIFIED:20240423T082928Z
UID:10000585-1713862800-1713904200@www.industriales.upm.es
SUMMARY:Los Orígenes. Primeros ejemplares registrados en la biblioteca de la ETSII
DESCRIPTION:Este año\, con motivo de la celebración del Día del Libro\, hemos organizado la exposición LOS ORÍGENES. Primeros libros registrados en la Biblioteca\, que recoge los primeros ejemplares incluidos en el Libro de Registro más antiguo que conservamos cuya adquisición estimamos que fue entre 1909 y 1914.\nLas obras que se exponen abarcan desde 1894 a 1912 y son un reflejo de los intereses académicos en la entonces Escuela Central de Ingenieros Industriales: matemáticas\, industria química\, cristalería\, procesado industrial de alimentos\, fabricación de papel\, elaboración de sustancias tintóreas\, entre otras.
URL:https://www.industriales.upm.es/info-evento/los-origenes-primeros-ejemplares-registrados-en-la-biblioteca-de-la-etsii/
LOCATION:Biblioteca
CATEGORIES:Ferias y Exposiciones
ATTACH;FMTTYPE=image/png:https://www.industriales.upm.es/wp-content/uploads/2024/04/Cartel_libroRegistro.png
END:VEVENT
BEGIN:VEVENT
DTSTART;TZID=Europe/Madrid:20240423T103000
DTEND;TZID=Europe/Madrid:20240427T213000
DTSTAMP:20260422T035452
CREATED:20240422T064242Z
LAST-MODIFIED:20240422T072331Z
UID:10000515-1713868200-1714253400@www.industriales.upm.es
SUMMARY:CYBERTECH 2024: GRAN PREMIO DE LA ROTONDA
DESCRIPTION:LLEGA CYBERTECH 2024: FÓRMULA RESET!\n\nOtro año más\, llega la mayor competición de robótica de la UPM\, a la que te invitamos a venir para presenciar en todo su esplendor.\n\nEste año traemos una gran novedad: ¡FÓRMULA RESET! Pásate el jueves 25 por la Sala de la Máquina a las 13:30 para ver la nueva modalidad de carreras\, en la que los robots competirán en el Gran Premio de la Rotonda.\n\n¡Pero no se queda ahí! también tenemos otras modalidades que podrás disfrutar en el pabellón deportivo\, al lado del campo de fútbol:\n\n    – Robots siguelíneas y resuelve-laberintos: del martes 23 al viernes 26.\n    – Peleas a muerte en el súper escenario de sumo: viernes 26 a partir de las 12:30.\n\nRecuerda\, pabellón deportivo del 23 al 26 de abril. ¡Ven\, y presencia la robotización industrial!\n\nMás información en Cybertech 2024 – Reset (upm.es)
URL:https://www.industriales.upm.es/info-evento/cybertech-2024-gran-premio-de-la-rotonda-2/
LOCATION:Sala de la Máquina
CATEGORIES:Otros
ATTACH;FMTTYPE=image/jpeg:https://www.industriales.upm.es/wp-content/uploads/2024/04/CYBERTECH-2024-scaled.jpg
END:VEVENT
BEGIN:VEVENT
DTSTART;TZID=Europe/Madrid:20240425T100000
DTEND;TZID=Europe/Madrid:20240425T130000
DTSTAMP:20260422T035452
CREATED:20240417T062401Z
LAST-MODIFIED:20240422T072342Z
UID:10000583-1714039200-1714050000@www.industriales.upm.es
SUMMARY:El papel de la energía nuclear en el marco de la transición energética
DESCRIPTION:Jornada Energía y Sociedad «El papel de la energía nuclear en el marco de la transición energética» \nEl próximo 25 de abril a las 10.00 a.m en la Sala C de la Escuela tendrá lugar la jornada “El papel de la energía nuclear en el marco de la transición energética”\, co-organizada por Energía y Sociedad y la ETSI Industriales de la UPM. \nToda la comunidad académica de la Escuela: alumnado\, profesorado e investigadores\, y personal\, está invitada a asistir a esta jornada. La inscripción es gratuita\, pero es necesario registrarse antes en este enlace. \nEn esta jornada se debatirá el papel de la energía nuclear para alcanzar los objetivos de la política energética a nivel nacional y comunitario. Para ello\, contará con la participación de: \n\nSama Bilbao y León\, Directora General de World Nuclear Association\, dará una visión del papel de la energía nuclear a nivel mundial;\nMiguel Arias Cañete\, Ex Comisario europeo de Energía\, expondrá la situación de la nuclear en Europa.\nOscar Barrero\, socio de la división de consultoría de PwC\, expondrá las principales conclusiones del informe de PwC recientemente publicado y pondrá de manifiesto el problema de viabilidad económica por elevada carga fiscal al que se enfrenta el parque nuclear en España y posibles soluciones.\n\nPara debatir todos estos temas y las implicaciones del cumplimiento del plan de cierre de las nucleares en términos de precios energéticos\, nivel de competitividad y niveles de emisiones de CO2 nacionales contaremos de una mesa redonda moderada por Laura Ojea\, Redactora Jefa de Energía en El Español-Invertia\, y compuesta por: Ignacio Araluce\, Presidente de Foro Nuclear; Víctor del Moral\, Secretario General de Desarrollo Sostenible de la Junta de Extremadura; Javier Santacruz\, vocal de la Asociación de Transición Energética (ATE)\, y Manuel Cotelo\, Secretario del Instituto de Fusión Nuclear «Guillermo Velarde» de la UPM. \nLa inauguración y cierre de la jornada estarán a cargo\, respectivamente\, de los profesores Ricardo Perera\, Subdirector de Investigación y Doctorado ETSII-UPM\, y Raquel González\, Delegada del Director para Empresas de la ETSII-UPM y Subdirectora del Instituto de Fusión Nuclear «Guillermo Velarde». El profesor Eduardo Oliva actuará como conductor de la jornada. \nEl evento se podrá seguir tanto presencialmente como por streaming. \nEyS_EnergiaNuclear_Agenda_actualizada
URL:https://www.industriales.upm.es/info-evento/el-papel-de-la-energia-nuclear-en-el-marco-de-la-transicion-energetica/
CATEGORIES:Conferencias
ATTACH;FMTTYPE=image/png:https://www.industriales.upm.es/wp-content/uploads/2024/04/EyS_EnergiaNuclear_Cartel.png
END:VEVENT
BEGIN:VEVENT
DTSTART;TZID=Europe/Madrid:20240425T103000
DTEND;TZID=Europe/Madrid:20240425T213000
DTSTAMP:20260422T035452
CREATED:20240129T085636Z
LAST-MODIFIED:20240129T093635Z
UID:10000584-1714041000-1714080600@www.industriales.upm.es
SUMMARY:CYBERTECH 2024: GRAN PREMIO DE LA ROTONDA
DESCRIPTION:
URL:https://www.industriales.upm.es/info-evento/cybertech-2024-gran-premio-de-la-rotonda/
LOCATION:Sala de la Máquina
CATEGORIES:Otros
END:VEVENT
BEGIN:VEVENT
DTSTART;TZID=Europe/Madrid:20240425T144300
DTEND;TZID=Europe/Madrid:20240425T144300
DTSTAMP:20260422T035452
CREATED:20240416T064820Z
LAST-MODIFIED:20240416T064820Z
UID:10000581-1714056180-1714056180@www.industriales.upm.es
SUMMARY:El lenguaje del éxito: tecnología como catalizador del futuro empresarial
DESCRIPTION:¿Qué papel tienen las nuevas tecnologías y la ia en el mundo empresarial?
URL:https://www.industriales.upm.es/info-evento/el-lenguaje-del-exito-tecnologia-como-catalizador-del-futuro-empresarial/
END:VEVENT
BEGIN:VEVENT
DTSTART;TZID=Europe/Madrid:20240429T123000
DTEND;TZID=Europe/Madrid:20240429T140000
DTSTAMP:20260422T035452
CREATED:20240215T091001Z
LAST-MODIFIED:20240215T091001Z
UID:10000540-1714393800-1714399200@www.industriales.upm.es
SUMMARY:Ruta guiada por la Escuela
DESCRIPTION:Ruta de aproximadamente una hora de duración por lugares que normalmente no están accesibles a todos y durante la cual se conocerán datos de la historia de este edificio singular y sucesos ocurridos desde su construcción. Punto de encuentro: puerta principal-conserjería.
URL:https://www.industriales.upm.es/info-evento/ruta-guiada-por-la-escuela-8-2-2-2/
END:VEVENT
BEGIN:VEVENT
DTSTART;TZID=Europe/Madrid:20240506T123000
DTEND;TZID=Europe/Madrid:20240506T140000
DTSTAMP:20260422T035452
CREATED:20240628T112348Z
LAST-MODIFIED:20240628T112349Z
UID:10000617-1714998600-1715004000@www.industriales.upm.es
SUMMARY:Ruta guiada por la Escuela
DESCRIPTION:Ruta de aproximadamente una hora de duración por lugares que normalmente no están accesibles a todos y durante la cual se conocerán datos de la historia de este edificio singular y sucesos ocurridos desde su construcción. Punto de encuentro: puerta principal-conserjería.
URL:https://www.industriales.upm.es/info-evento/ruta-guiada-por-la-escuela-8-2-2-2-2-2-2/2024-05-06/
END:VEVENT
BEGIN:VEVENT
DTSTART;TZID=Europe/Madrid:20240507T133000
DTEND;TZID=Europe/Madrid:20240507T153000
DTSTAMP:20260422T035452
CREATED:20240403T100846Z
LAST-MODIFIED:20240429T110212Z
UID:10000574-1715088600-1715095800@www.industriales.upm.es
SUMMARY:CÓMO LOGRAR UNA PERSONALIDAD IMBATIBLE PARA HABLAR EN PÚBLICO CON PLACER ESCÉNICO”
DESCRIPTION:Charla para estudiantes sobre comunicación con Ángel Lafuente Zorrilla
URL:https://www.industriales.upm.es/info-evento/como-lograr-una-personalidad-imbatible-para-hablar-en-publico-con-placer-escenico/
LOCATION:Aula D
END:VEVENT
BEGIN:VEVENT
DTSTART;TZID=Europe/Madrid:20240508T123000
DTEND;TZID=Europe/Madrid:20240508T140000
DTSTAMP:20260422T035452
CREATED:20240215T091102Z
LAST-MODIFIED:20240215T091102Z
UID:10000541-1715171400-1715176800@www.industriales.upm.es
SUMMARY:Ruta guiada por la Escuela
DESCRIPTION:Ruta de aproximadamente una hora de duración por lugares que normalmente no están accesibles a todos y durante la cual se conocerán datos de la historia de este edificio singular y sucesos ocurridos desde su construcción. Punto de encuentro: puerta principal-conserjería.
URL:https://www.industriales.upm.es/info-evento/ruta-guiada-por-la-escuela-8-2-2-2-2/
END:VEVENT
BEGIN:VEVENT
DTSTART;TZID=Europe/Madrid:20240508T200000
DTEND;TZID=Europe/Madrid:20240512T183000
DTSTAMP:20260422T035452
CREATED:20240424T074439Z
LAST-MODIFIED:20240506T091723Z
UID:10000588-1715198400-1715538600@www.industriales.upm.es
SUMMARY:Teatro "Cómo ser más guay"
DESCRIPTION:¿Alguna vez has sentido que no encajas? 🤔 ¿O que eres invisible? ¿Querrías ser más popular? Tenemos el método definitivo para reprogramarte\, a un solo trago de distancia. Ponte en manos del mayor avance de la nanotecnología japonesa de la historia: Tómate un *S Q U I P*\, una píldora digital que te asesorará en todo momento. \nHazlo y verás… \n💊👾 💊👾💊👾💊👾\nCÓMO SER MÁS GUAY\n👾💊👾💊👾💊👾💊 \nLa Cuarta Pared Teatro Universitario os trae un musical lleno de comedia\, drama y ciencia ficción. \n🍘8 de mayo – 20:00 h \n🍘9 de mayo – 20:00 h \n🍘11 de mayo – 17:30 h \n🍘12 de mayo – 12:00 h y 18:30 h \n📍En la Escuela Técnica Superior de Ingenieros Industriales 🏫 \nC/José Gutiérrez Abascal\, n°2 \n📷 @4ptu \n🎟️Consigue tus entradas en: \nhttps://entrapol.is/uLhqo
URL:https://www.industriales.upm.es/info-evento/teatro-como-ser-mas-guay/
CATEGORIES:Actuaciones (Música, Teatro, Cine)
ATTACH;FMTTYPE=image/jpeg:https://www.industriales.upm.es/wp-content/uploads/2024/04/cartel1.jpg
END:VEVENT
END:VCALENDAR