BEGIN:VCALENDAR
VERSION:2.0
PRODID:-//Escuela Técnica Superior Ingenieros Industriales - ECPv6.15.20//NONSGML v1.0//EN
CALSCALE:GREGORIAN
METHOD:PUBLISH
X-WR-CALNAME:Escuela Técnica Superior Ingenieros Industriales
X-ORIGINAL-URL:https://www.industriales.upm.es
X-WR-CALDESC:Eventos para Escuela Técnica Superior Ingenieros Industriales
REFRESH-INTERVAL;VALUE=DURATION:PT1H
X-Robots-Tag:noindex
X-PUBLISHED-TTL:PT1H
BEGIN:VTIMEZONE
TZID:Europe/Madrid
BEGIN:DAYLIGHT
TZOFFSETFROM:+0100
TZOFFSETTO:+0200
TZNAME:CEST
DTSTART:20240331T010000
END:DAYLIGHT
BEGIN:STANDARD
TZOFFSETFROM:+0200
TZOFFSETTO:+0100
TZNAME:CET
DTSTART:20241027T010000
END:STANDARD
BEGIN:DAYLIGHT
TZOFFSETFROM:+0100
TZOFFSETTO:+0200
TZNAME:CEST
DTSTART:20250330T010000
END:DAYLIGHT
BEGIN:STANDARD
TZOFFSETFROM:+0200
TZOFFSETTO:+0100
TZNAME:CET
DTSTART:20251026T010000
END:STANDARD
BEGIN:DAYLIGHT
TZOFFSETFROM:+0100
TZOFFSETTO:+0200
TZNAME:CEST
DTSTART:20260329T010000
END:DAYLIGHT
BEGIN:STANDARD
TZOFFSETFROM:+0200
TZOFFSETTO:+0100
TZNAME:CET
DTSTART:20261025T010000
END:STANDARD
END:VTIMEZONE
BEGIN:VEVENT
DTSTART;TZID=Europe/Madrid:20251105T190000
DTEND;TZID=Europe/Madrid:20251105T210000
DTSTAMP:20260422T035429
CREATED:20251104T081736Z
LAST-MODIFIED:20251104T081736Z
UID:10001213-1762369200-1762376400@www.industriales.upm.es
SUMMARY:Creación de Empresas Actúa UPM. Puesta en marcha de la empresa Jesús de Benito
DESCRIPTION:Creación de Empresas Actúa UPM. Puesta en marcha de la empresa Jesús de Benito
URL:https://www.industriales.upm.es/info-evento/creacion-de-empresas-actua-upm-puesta-en-marcha-de-la-empresa-jesus-de-benito/
END:VEVENT
BEGIN:VEVENT
DTSTART;TZID=Europe/Madrid:20251105T080000
DTEND;TZID=Europe/Madrid:20251105T170000
DTSTAMP:20260422T035429
CREATED:20251020T082125Z
LAST-MODIFIED:20251020T082125Z
UID:10001192-1762329600-1762362000@www.industriales.upm.es
SUMMARY:Reunión Proyecto Europeo DynReAct_PDP
DESCRIPTION:Reunión periódica de los 4 socios del proyecto europeo DynReAct_PDP.  Exposición de avances de cada socio en cada paquete de trabajo.  Comentario de resultados.  Discusión sobre puntos a resolver de cara a las siguientes tareas.  Recogida de conclusiones y documentación
URL:https://www.industriales.upm.es/info-evento/reunion-proyecto-europeo-dynreact_pdp-2/
END:VEVENT
BEGIN:VEVENT
DTSTART;TZID=Europe/Madrid:20251104T083000
DTEND;TZID=Europe/Madrid:20251104T210000
DTSTAMP:20260422T035429
CREATED:20251015T141445Z
LAST-MODIFIED:20251015T141445Z
UID:10001186-1762245000-1762290000@www.industriales.upm.es
SUMMARY:Congreso de redes inteligentes 2025
DESCRIPTION:El evento se desarrolla durante la tarde del día 4 y la mañana del día 5. incluye mesas redondas y ponencias\, así como una zona de exposición de poster. está dirigido a empresas\, start-ups y universidades.  hay sesiones de presentación oral y también una zona de exposición de posters.
URL:https://www.industriales.upm.es/info-evento/congreso-de-redes-inteligentes-2025-2/
END:VEVENT
BEGIN:VEVENT
DTSTART;TZID=Europe/Madrid:20251104T080000
DTEND;TZID=Europe/Madrid:20251105T200000
DTSTAMP:20260422T035429
CREATED:20251020T063128Z
LAST-MODIFIED:20251020T063128Z
UID:10001189-1762243200-1762372800@www.industriales.upm.es
SUMMARY:Reunión Proyecto Europeo DynReAct_PDP
DESCRIPTION:Reunión periódica de los 4 socios del proyecto europeo DynReAct_PDP.  Exposición de avances de cada socio en cada paquete de trabajo.  Comentario de resultados.  Discusión sobre puntos a resolver de cara a las siguientes tareas.  Recogida de conclusiones y documentación
URL:https://www.industriales.upm.es/info-evento/reunion-proyecto-europeo-dynreact_pdp/
END:VEVENT
BEGIN:VEVENT
DTSTART;TZID=Europe/Madrid:20251103T120000
DTEND;TZID=Europe/Madrid:20251103T203000
DTSTAMP:20260422T035429
CREATED:20251015T141459Z
LAST-MODIFIED:20251015T141459Z
UID:10001188-1762171200-1762201800@www.industriales.upm.es
SUMMARY:Congreso de redes inteligentes 2025
DESCRIPTION:el evento se desarrolla durante la tarde del día 4 y la mañana del día 5. incluye mesas redondas y ponencias\, así como una zona de exposición de poster. está dirigido a empresas\, start-ups y universidades.  hay sesiones de presentación oral y también una zona de exposición de posters.
URL:https://www.industriales.upm.es/info-evento/congreso-de-redes-inteligentes-2025-4/
END:VEVENT
BEGIN:VEVENT
DTSTART;TZID=Europe/Madrid:20251030T180000
DTEND;TZID=Europe/Madrid:20251030T210000
DTSTAMP:20260422T035429
CREATED:20250919T082010Z
LAST-MODIFIED:20251020T094734Z
UID:10001132-1761847200-1761858000@www.industriales.upm.es
SUMMARY:Acto Apertura Oficial Curso IEN UPM
DESCRIPTION:
URL:https://www.industriales.upm.es/info-evento/acto-apertura-oficial-curso-ien-upm-2/
ATTACH;FMTTYPE=image/jpeg:https://www.industriales.upm.es/wp-content/uploads/2025/09/WhatsApp-Image-2025-10-15-at-11.41.03-1-1-1.jpeg
END:VEVENT
BEGIN:VEVENT
DTSTART;TZID=Europe/Madrid:20251030T173000
DTEND;TZID=Europe/Madrid:20251030T210000
DTSTAMP:20260422T035429
CREATED:20251020T074515Z
LAST-MODIFIED:20251020T074515Z
UID:10001190-1761845400-1761858000@www.industriales.upm.es
SUMMARY:Conferencia con el instituto de filosofía del CSIC (Arte y transferencia del conocimiento)
DESCRIPTION:Se trata de una conferencia organizada con el CSIC sobre nuevas formas de transferencia del conocimiento a través del arte
URL:https://www.industriales.upm.es/info-evento/conferencia-con-el-instituto-de-filosofia-del-csic-arte-y-transferencia-del-conocimiento/
END:VEVENT
BEGIN:VEVENT
DTSTART;TZID=Europe/Madrid:20251030T080000
DTEND;TZID=Europe/Madrid:20251030T203000
DTSTAMP:20260422T035429
CREATED:20250917T102956Z
LAST-MODIFIED:20250922T103113Z
UID:10001124-1761811200-1761856200@www.industriales.upm.es
SUMMARY:Taller de Bienvenida Concurso Escolar LA INGENIERIA EN TUS MANOS
DESCRIPTION:Taller de Bienvenida Concurso Escolar «La ingeniería en tus manos»
URL:https://www.industriales.upm.es/info-evento/taller-de-bienvenida-concurso-escolar-la-ingenieria-en-tus-manos/
END:VEVENT
BEGIN:VEVENT
DTSTART;TZID=Europe/Madrid:20251029T190000
DTEND;TZID=Europe/Madrid:20251029T210000
DTSTAMP:20260422T035429
CREATED:20251023T103608Z
LAST-MODIFIED:20251023T103608Z
UID:10001198-1761764400-1761771600@www.industriales.upm.es
SUMMARY:Creación de Empresas UPM
DESCRIPTION:Creación de Empresas UPM
URL:https://www.industriales.upm.es/info-evento/creacion-de-empresas-upm/
END:VEVENT
BEGIN:VEVENT
DTSTART;TZID=Europe/Madrid:20251028T183000
DTEND;TZID=Europe/Madrid:20251028T200000
DTSTAMP:20260422T035429
CREATED:20251015T095944Z
LAST-MODIFIED:20251015T095944Z
UID:10001184-1761676200-1761681600@www.industriales.upm.es
SUMMARY:Reunión MIO alumni
DESCRIPTION:
URL:https://www.industriales.upm.es/info-evento/reunion-mio-alumni-2/
END:VEVENT
BEGIN:VEVENT
DTSTART;TZID=Europe/Madrid:20251028T080000
DTEND;TZID=Europe/Madrid:20251028T170000
DTSTAMP:20260422T035429
CREATED:20251013T102557Z
LAST-MODIFIED:20251013T105125Z
UID:10001176-1761638400-1761670800@www.industriales.upm.es
SUMMARY:SIMBIOSIS INDUSTRIAL: DISEÑO BIO-INSPIRADO PARA CONECTAR INDUSTRIAS Y REDES DE VALOR. Pensar en sistemas para regenerar.”
DESCRIPTION:“Transformar juntos para circular mejor: conocimiento\, colaboración y acción para un futuro sostenible.”  \nSIMBIOSIS INDUSTRIAL: DISEÑO BIO-INSPIRADO PARA CONECTAR INDUSTRIAS Y REDES DE VALOR  \n28 DE OCTUBRE DE 2025  \nLa Cátedra de Economía Circular de la Universidad Politécnica de Madrid (UPM) convoca a empresas\, instituciones públicas y comunidad académica a un evento de encuentro y colaboración en torno a los desafíos y oportunidades de la economía circular en la Comunidad de Madrid. \nEste foro nace con el propósito de tejer alianzas estratégicas entre los distintos actores del ecosistema regional madrileño\, fomentando la innovación colaborativa\, la transferencia de conocimiento y el desarrollo de proyectos transformadores que impulsen la simbiosis industrial como motor de sostenibilidad y competitividad. \nObjetivos del Evento  \n\nCompartir casos de éxito de simbiosis industrial en la Comunidad de Madrid.\n\n\nMostrar y poner en valor los beneficios de la colaboración entre la Empresa privada\, la Universidad y los organismos públicos\, como red aceleradora y facilitadora de la Simbiosis Industrial.\n\n\nIdentificar nuevas oportunidades e inspirar al tejido económico madrileño\, nacional y europeo a crear las redes para la simbiosis.\n\n\nPotenciar las conexiones con nuestros socios (empresas\, administraciones públicas y tercer sector) y entre ellos para multiplicar nuestro impacto.\n\nEstructura del encuentro  \n1. Sesión Plenaria de Apertura:  \n\nBienvenida institucional. Palabras Representante CM\nPresentación de la Cátedra de Economía Circular UPM.\nProyectos en economía circular en colaboración con UPM.\n\n2. Mesas Sectoriales de Trabajo (Textil\, Energía y Data Centers) \n\nParticipación de empresas\, Comunidad de Madrid y universidad.\nIdentificación de retos comunes y oportunidades de colaboración.\nPropuestas de acción conjunta.\n\n3. Cierre y conclusiones  \n\nConclusiones de las diferentes mesas\nCierre\n\nSede  \nETS Ingenieros Industriales. AULA C \nC/José Gutiérrez Abascal\, 2 \n28006 Madrid \nHorario  \n9:00 h-15:00 h. \nAl finalizar tendremos una comida ligera de networking
URL:https://www.industriales.upm.es/info-evento/simbiosis-industrial-diseno-bio-inspirado-para-conectar-industrias-y-redes-de-valor-pensar-en-sistemas-para-regenerar/
END:VEVENT
BEGIN:VEVENT
DTSTART;TZID=Europe/Madrid:20251027T150000
DTEND;TZID=Europe/Madrid:20251027T203000
DTSTAMP:20260422T035429
CREATED:20251014T061638Z
LAST-MODIFIED:20251014T105241Z
UID:10001177-1761577200-1761597000@www.industriales.upm.es
SUMMARY:Defensa Tesis Doctoral de JESÚS FERRANDIS MUÑOZ
DESCRIPTION:Defensa Tesis Doctoral de JESÚS FERRANDIS MUÑOZ . «HIGH-SPEED BROADBAND NETWORKS IN THE EUROPEAN UNION: A MODEL FOR ESTIMATING INVESTMENT GAPS TO ACHIEVE CONNECTIVITY OBJECTIVES» Directores: Dr. Claudio Feijóo González y Dr. Sergio Ramos Villaverde
URL:https://www.industriales.upm.es/info-evento/defensa-tesis-doctoral/
END:VEVENT
BEGIN:VEVENT
DTSTART;TZID=Europe/Madrid:20251027T130000
DTEND;TZID=Europe/Madrid:20251027T150000
DTSTAMP:20260422T035429
CREATED:20250919T081921Z
LAST-MODIFIED:20250919T081921Z
UID:10001131-1761570000-1761577200@www.industriales.upm.es
SUMMARY:Movilidad internacional
DESCRIPTION:Visita de. Vanita Misquita Director for everseas de Illinois Institute of Technology
URL:https://www.industriales.upm.es/info-evento/movilidad-internacional/
END:VEVENT
BEGIN:VEVENT
DTSTART;TZID=Europe/Madrid:20251023T180000
DTEND;TZID=Europe/Madrid:20251023T210000
DTSTAMP:20260422T035429
CREATED:20251014T154049Z
LAST-MODIFIED:20251014T154049Z
UID:10001181-1761242400-1761253200@www.industriales.upm.es
SUMMARY:Sesión de Creación de Empresas UPM
DESCRIPTION:Sesión de Creación de Empresas UPM
URL:https://www.industriales.upm.es/info-evento/sesion-de-creacion-de-empresas-upm/
END:VEVENT
BEGIN:VEVENT
DTSTART;TZID=Europe/Madrid:20251023T150000
DTEND;TZID=Europe/Madrid:20251023T210000
DTSTAMP:20260422T035429
CREATED:20250916T141340Z
LAST-MODIFIED:20250916T141340Z
UID:10001123-1761231600-1761253200@www.industriales.upm.es
SUMMARY:Curso Básico de Ciencia y Tecnología Nuclear - Jóvenes Nucleares (SNE)
DESCRIPTION:Curso Básico de Ciencia y Tecnología Nuclear – organizado por Jóvenes Nucleares (SNE)
URL:https://www.industriales.upm.es/info-evento/curso-basico-de-ciencia-y-tecnologia-nuclear-jovenes-nucleares-sne/
END:VEVENT
BEGIN:VEVENT
DTSTART;TZID=Europe/Madrid:20251022T160000
DTEND;TZID=Europe/Madrid:20251022T200000
DTSTAMP:20260422T035429
CREATED:20250905T075202Z
LAST-MODIFIED:20250910T111238Z
UID:10001090-1761148800-1761163200@www.industriales.upm.es
SUMMARY:Compra pública y sostenibilidad
DESCRIPTION:Introducción Presentación del documento sobre compra pública y sostenibilidad empresarial. Debate Conclusiones
URL:https://www.industriales.upm.es/info-evento/compra-publica-y-sostenibilidad/
END:VEVENT
BEGIN:VEVENT
DTSTART;TZID=Europe/Madrid:20251022T120000
DTEND;TZID=Europe/Madrid:20251022T153000
DTSTAMP:20260422T035429
CREATED:20250905T075157Z
LAST-MODIFIED:20251016T103717Z
UID:10001089-1761134400-1761147000@www.industriales.upm.es
SUMMARY:Programa ImportaTE
DESCRIPTION:
URL:https://www.industriales.upm.es/info-evento/programa-importate/
ATTACH;FMTTYPE=image/jpeg:https://www.industriales.upm.es/wp-content/uploads/2025/09/Tallerdecomunicacionsana.jpg
END:VEVENT
BEGIN:VEVENT
DTSTART;TZID=Europe/Madrid:20251022T080000
DTEND;TZID=Europe/Madrid:20251024T180000
DTSTAMP:20260422T035429
CREATED:20251009T071806Z
LAST-MODIFIED:20251009T071806Z
UID:10001160-1761120000-1761328800@www.industriales.upm.es
SUMMARY:Jornadas Bioinformática 2025
DESCRIPTION:Organizacion de las jornadas de bioinformatica 2025 que tendran lugar en Madrid el proximo 22 – 24 de octubre de 2025
URL:https://www.industriales.upm.es/info-evento/jornadas-bioinformatica-2025-2/
END:VEVENT
BEGIN:VEVENT
DTSTART;TZID=Europe/Madrid:20251021T153000
DTEND;TZID=Europe/Madrid:20251021T193000
DTSTAMP:20260422T035429
CREATED:20250930T080518Z
LAST-MODIFIED:20250930T080518Z
UID:10001150-1761060600-1761075000@www.industriales.upm.es
SUMMARY:Reunión del grupo de trabajo Digital Maintenance and Asset Digitalization (DMAD) de ESReDA
DESCRIPTION:
URL:https://www.industriales.upm.es/info-evento/reunion-del-grupo-de-trabajo-digital-maintenance-and-asset-digitalization-dmad-de-esreda-2/
END:VEVENT
BEGIN:VEVENT
DTSTART;TZID=Europe/Madrid:20251021T100000
DTEND;TZID=Europe/Madrid:20251021T183000
DTSTAMP:20260422T035429
CREATED:20251013T092723Z
LAST-MODIFIED:20251013T092723Z
UID:10001174-1761040800-1761071400@www.industriales.upm.es
SUMMARY:Jornada de votación para cubrir vacantes para el Claustro
DESCRIPTION:
URL:https://www.industriales.upm.es/info-evento/jornada-de-votacion-para-cubrir-vacantes-para-el-claustro/
END:VEVENT
BEGIN:VEVENT
DTSTART;TZID=Europe/Madrid:20251021T100000
DTEND;TZID=Europe/Madrid:20251021T110000
DTSTAMP:20260422T035429
CREATED:20251014T093651Z
LAST-MODIFIED:20251014T093651Z
UID:10001178-1761040800-1761044400@www.industriales.upm.es
SUMMARY:Sorteo de mesas electorales para cubrir vacantes del Consejo de Escuela
DESCRIPTION:
URL:https://www.industriales.upm.es/info-evento/sorteo-de-mesas-electorales-para-cubrir-vacantes-del-consejo-de-escuela/
END:VEVENT
BEGIN:VEVENT
DTSTART;TZID=Europe/Madrid:20251021T090000
DTEND;TZID=Europe/Madrid:20251021T143000
DTSTAMP:20260422T035429
CREATED:20250925T104941Z
LAST-MODIFIED:20250925T104941Z
UID:10001139-1761037200-1761057000@www.industriales.upm.es
SUMMARY:Jornada Técnica Camino al WCEAM/Congrega 2026.
DESCRIPTION:
URL:https://www.industriales.upm.es/info-evento/jornada-tecnica-camino-al-wceam-congrega-2026/
END:VEVENT
BEGIN:VEVENT
DTSTART;TZID=Europe/Madrid:20251016T133000
DTEND;TZID=Europe/Madrid:20251016T150000
DTSTAMP:20260422T035429
CREATED:20250929T110645Z
LAST-MODIFIED:20250929T110645Z
UID:10001147-1760621400-1760626800@www.industriales.upm.es
SUMMARY:Presentación Cybertech 2026
DESCRIPTION:
URL:https://www.industriales.upm.es/info-evento/presentacion-cybertech-2026-3/
END:VEVENT
BEGIN:VEVENT
DTSTART;TZID=Europe/Madrid:20251016T123808
DTEND;TZID=Europe/Madrid:20251016T123808
DTSTAMP:20260422T035429
CREATED:20251009T071756Z
LAST-MODIFIED:20251016T103808Z
UID:10001159-1760618288-1760618288@www.industriales.upm.es
SUMMARY:CSIC JORNADAS BIOINFORMATICAS
DESCRIPTION:CSIC JORNADAS BIOINFORMATICAS
URL:https://www.industriales.upm.es/info-evento/csic-jornadas-bioinformaticas/
END:VEVENT
BEGIN:VEVENT
DTSTART;TZID=Europe/Madrid:20251016T103000
DTEND;TZID=Europe/Madrid:20251016T133000
DTSTAMP:20260422T035429
CREATED:20251013T071451Z
LAST-MODIFIED:20251013T071451Z
UID:10001172-1760610600-1760621400@www.industriales.upm.es
SUMMARY:Research at Tsinghua University on UAVs
DESCRIPTION:
URL:https://www.industriales.upm.es/info-evento/research-at-tsinghua-university-on-uavs/
END:VEVENT
BEGIN:VEVENT
DTSTART;TZID=Europe/Madrid:20251016T093000
DTEND;TZID=Europe/Madrid:20251016T133000
DTSTAMP:20260422T035429
CREATED:20251009T105737Z
LAST-MODIFIED:20251009T105737Z
UID:10001163-1760607000-1760621400@www.industriales.upm.es
SUMMARY:Combustibles renovables
DESCRIPTION:
URL:https://www.industriales.upm.es/info-evento/combustibles-renovables/
END:VEVENT
BEGIN:VEVENT
DTSTART;TZID=Europe/Madrid:20251015T133000
DTEND;TZID=Europe/Madrid:20251015T150000
DTSTAMP:20260422T035429
CREATED:20251002T100348Z
LAST-MODIFIED:20251002T104630Z
UID:10001154-1760535000-1760540400@www.industriales.upm.es
SUMMARY:Programa ImportaTE
DESCRIPTION:¿Alimentación saludable? ¿Microbiota intestinal? ¿Inflamación? ¿Mitos alimenticios? ¿Impacto de nuestros hábitos en nuestra salud? ¿Relación emocional con la comida? ¿Alimentación consciente? \nApúntate a este taller gratuito de «NUTRICIÓN REAL PARA VIDAS REALES» de nuestro Programa ImportaTE y responderemos a estas preguntas y muchas más. \nSi estás interesada/o\, puedes inscribirte en: https://forms.office.com/e/AzzrBJCBDN
URL:https://www.industriales.upm.es/info-evento/programa-importate-3/
CATEGORIES:Otros
ATTACH;FMTTYPE=image/jpeg:https://www.industriales.upm.es/wp-content/uploads/2025/10/Taller-de-Nutricion-Programa-ImportaTE.jpg
END:VEVENT
BEGIN:VEVENT
DTSTART;TZID=Europe/Madrid:20251015T133000
DTEND;TZID=Europe/Madrid:20251015T143000
DTSTAMP:20260422T035429
CREATED:20250925T064022Z
LAST-MODIFIED:20250925T064022Z
UID:10001138-1760535000-1760538600@www.industriales.upm.es
SUMMARY:Elecciones a Delegado/a y Subdelegado/a de curso
DESCRIPTION:
URL:https://www.industriales.upm.es/info-evento/elecciones-a-delegado-a-y-subdelegado-a-de-curso/
END:VEVENT
BEGIN:VEVENT
DTSTART;TZID=Europe/Madrid:20251015T080000
DTEND;TZID=Europe/Madrid:20251015T153000
DTSTAMP:20260422T035429
CREATED:20250905T155905Z
LAST-MODIFIED:20251010T085711Z
UID:10001097-1760515200-1760542200@www.industriales.upm.es
SUMMARY:Jornada Los sistemas ADAS en la conducción
DESCRIPTION:10:30 – 11:00 · Recepción de asistentes y café de bienvenida \n11:00 – 11:45 · Inauguración del Encuentro por parte de: \n\nD. Pere Navarro. Director de la Dirección General de Tráfico (DGT)\nD. Ignacio Lijarcio. Presidente de la Fundación Española para la Seguridad Vial (FESVIAL)\nD. Francisco Javier Páez. Director del Instituto de Investigación del Automóvil (INSIA)\nD. Sergio Domínguez. Director de la Escuela Técnica Superior de Ingenieros Industriales de Madrid.\n\n  \n11:45 – 12:30 Primer Encuentro. Desarrollando tecnología para la seguridad vial presente y futuro. \nModera: Ignacio Lijarcio (FESVIAL) \nCon la participación de: \n\nD. Ricardo Olalla. Vice-President Sales Quality Mobility Solutions de Bosch España\nD. José María Galofré. Consejero Delegado/CEO de Volvo Car España\, Vicepresidente de Fesvial\nD. Francisco Aparicio. Presidente del Instituto de Investigación del Automóvil (INSIA)\nD. Eduardo Mayoral. Director de Seguridad de ALSA\n\n  \n12:30 – 13:15 · Segundo Encuentro: Acercando la tecnología vial al ciudadano. \nModera:  Juan José Arriola (DGT) \nCon la participación de: \n\nD. Enrique Lorca. Presidente de la Confederación Nacional de Autoescuelas (CNAE)\nDª. Silvia Ubago. Responsable de Formación e Investigación de Fundación RACE (Real Automóvil Club de España)\nDª. Paula Gómez. Directora Business Transformation & Customer Experience de Arval España\nD. Roberto Hernández. Director de Siniestros de Zurich España\n\n13:15 – 13:30 · Clausura del Encuentro \n13:30 – 14:30 · Vino español \nPuedes descargar el programa en este enlace: PROGRAMA MOVITEC 15 DE OCTUBRE DE 2025 \n 
URL:https://www.industriales.upm.es/info-evento/jornada-sobre-adas-8/
ATTACH;FMTTYPE=image/png:https://www.industriales.upm.es/wp-content/uploads/2025/09/Captura-de-pantalla-2025-10-10-105220.png
END:VEVENT
BEGIN:VEVENT
DTSTART;TZID=Europe/Madrid:20251014T150000
DTEND;TZID=Europe/Madrid:20251015T200000
DTSTAMP:20260422T035429
CREATED:20250916T120501Z
LAST-MODIFIED:20250916T120501Z
UID:10001122-1760454000-1760558400@www.industriales.upm.es
SUMMARY:Jornadas Anuales del Doctorado de Ingeniería de Organización
DESCRIPTION:
URL:https://www.industriales.upm.es/info-evento/jornadas-anuales-del-doctorado-de-ingenieria-de-organizacion/
END:VEVENT
END:VCALENDAR