BEGIN:VCALENDAR
VERSION:2.0
PRODID:-//Escuela Técnica Superior Ingenieros Industriales - ECPv6.15.20//NONSGML v1.0//EN
CALSCALE:GREGORIAN
METHOD:PUBLISH
X-WR-CALNAME:Escuela Técnica Superior Ingenieros Industriales
X-ORIGINAL-URL:https://www.industriales.upm.es
X-WR-CALDESC:Eventos para Escuela Técnica Superior Ingenieros Industriales
REFRESH-INTERVAL;VALUE=DURATION:PT1H
X-Robots-Tag:noindex
X-PUBLISHED-TTL:PT1H
BEGIN:VTIMEZONE
TZID:Europe/Madrid
BEGIN:DAYLIGHT
TZOFFSETFROM:+0100
TZOFFSETTO:+0200
TZNAME:CEST
DTSTART:20230326T010000
END:DAYLIGHT
BEGIN:STANDARD
TZOFFSETFROM:+0200
TZOFFSETTO:+0100
TZNAME:CET
DTSTART:20231029T010000
END:STANDARD
BEGIN:DAYLIGHT
TZOFFSETFROM:+0100
TZOFFSETTO:+0200
TZNAME:CEST
DTSTART:20240331T010000
END:DAYLIGHT
BEGIN:STANDARD
TZOFFSETFROM:+0200
TZOFFSETTO:+0100
TZNAME:CET
DTSTART:20241027T010000
END:STANDARD
BEGIN:DAYLIGHT
TZOFFSETFROM:+0100
TZOFFSETTO:+0200
TZNAME:CEST
DTSTART:20250330T010000
END:DAYLIGHT
BEGIN:STANDARD
TZOFFSETFROM:+0200
TZOFFSETTO:+0100
TZNAME:CET
DTSTART:20251026T010000
END:STANDARD
END:VTIMEZONE
BEGIN:VEVENT
DTSTART;TZID=Europe/Madrid:20241122T190000
DTEND;TZID=Europe/Madrid:20241122T203000
DTSTAMP:20260422T015325
CREATED:20241106T124646Z
LAST-MODIFIED:20241106T143735Z
UID:10000706-1732302000-1732307400@www.industriales.upm.es
SUMMARY:RECITAL DE PIANO
DESCRIPTION:Vuelve a la ETSII Miriam Gómez-Moran. \nConcierto organizado por la ETSII y su Asociación de Antiguos Alumnos. Más info \nPrograma\nCompra de  entradas\n 
URL:https://www.industriales.upm.es/info-evento/recital-de-piano/
ATTACH;FMTTYPE=image/png:https://www.industriales.upm.es/wp-content/uploads/2024/11/Cartel-CONCIERTO-3-para-CULPASS.png
END:VEVENT
BEGIN:VEVENT
DTSTART;TZID=Europe/Madrid:20241122T130000
DTEND;TZID=Europe/Madrid:20241122T140000
DTSTAMP:20260422T015325
CREATED:20241111T120929Z
LAST-MODIFIED:20241111T120929Z
UID:10000715-1732280400-1732284000@www.industriales.upm.es
SUMMARY:Defensa tesis doctoral "Contributions to forecasting problems in the electric power market" de Shadi Nouhi Tehrani
DESCRIPTION:Defensa tesis doctoral «Contributions to forecasting problems in the electric power market» de Shadi Nouhi Tehrani
URL:https://www.industriales.upm.es/info-evento/defensa-tesis-doctoral-contributions-to-forecasting-problems-in-the-electric-power-market-de-shadi-nouhi-tehrani/
END:VEVENT
BEGIN:VEVENT
DTSTART;TZID=Europe/Madrid:20241122T123000
DTEND;TZID=Europe/Madrid:20241122T150000
DTSTAMP:20260422T015325
CREATED:20241004T105245Z
LAST-MODIFIED:20241004T105245Z
UID:10000652-1732278600-1732287600@www.industriales.upm.es
SUMMARY:"Modular Simulation Methodology for the Economical and Environmental Optimization of District Heating/Cooling Systems to Achieve Net Zero"
DESCRIPTION:DEFENSA TESIS DOCTORAL DE JUAN JOSÉ RONCAL CASANO. DIRECTORES: JAVIER RODRÍGUEZ MARTÍN Y ALBERTO ABÁNADES VELASCO
URL:https://www.industriales.upm.es/info-evento/modular-simulation-methodology-for-the-economical-and-environmental-optimization-of-district-heating-cooling-systems-to-achieve-net-zero/
END:VEVENT
BEGIN:VEVENT
DTSTART;TZID=Europe/Madrid:20241119T170000
DTEND;TZID=Europe/Madrid:20241119T190000
DTSTAMP:20260422T015325
CREATED:20241106T081722Z
LAST-MODIFIED:20241106T143105Z
UID:10000704-1732035600-1732042800@www.industriales.upm.es
SUMMARY:Webinar "Automatización y conectividad\, palancas de transformación de la movilidad"
DESCRIPTION:Webinar «Automatización y conectividad\, palancas de transformación de la movilidad» \nLa Cátedra de Transición Energética Fundación Repsol de la Universidad Politécnica de Madrid y ASEPA (Asociación Española de Profesionales de la Automoción) organizan un webinar para explorar los avances y desafíos en la movilidad conectada y automatizada. Este evento\, que se celebrará el próximo 19 de noviembre de 17:00 a 19:00 h (GMT+2)\, reunirá a destacados expertos en tecnología y sostenibilidad del sector automotriz\, quienes compartirán sus perspectivas sobre cómo la automatización y la conectividad están transformando nuestra manera de desplazarnos. \nEl encuentro\, abierto al público\, analizará las tendencias tecnológicas emergentes\, los retos de la movilidad sostenible y las oportunidades que presentan estas innovaciones para un futuro más inteligente. Los asistentes tendrán la oportunidad de conocer de cerca el papel de las universidades\, las empresas automotrices y los organismos reguladores en la construcción de un sistema de transporte conectado y autónomo\, impulsando una movilidad segura\, eficiente y accesible para todos. \nAgenda del Evento\n\n17:00 Apertura\n\nFelipe Jiménez – Catedrático de la Escuela Técnica Superior de Ingeniería Industrial y Profesor de la Cátedra de Transición Energética Fundación Repsol en la Universidad Politécnica de Madrid.\nRuth Yerga – Coordinadora de la Red de Cátedras en Fundación Repsol.\n\n\n17:05 La contribución de la universidad a una movilidad más sostenible\, conectada y digitalizada\n\nFelipe Jiménez – Catedrático de la ETSII UPM.\n\n\n17:15 Keynote: “Visión 360 de los impactos de la automatización y la conectividad en la movilidad”\n\nCecilia Medina – Gerente de Innovación y Talento en SERNAUTO y Coordinadora de la Plataforma Tecnológica Move2Future.\n\n\n17:30 Panel de Expertos: “Tecnología para una movilidad conectada y automatizada”\n\nJavier del Val – Electromobility & New Technologies Manager en Hyundai.\nAlberto Merino – Gerente de Marketing\, Postventa y Desarrollo de Negocio en Mercedes Trucks.\nGracia Pedraza Cebrián – Jefe Corporativo de Innovación en AVANZA.\nJuan Miguel – CEO de Finboot.\n\n\n18:30 Ronda de preguntas\n\nModerada por Felipe Jiménez.\n\n\n\nEste evento representa una oportunidad única para aprender de la mano de líderes de la industria automotriz sobre cómo la digitalización\, la conectividad y la automatización están moldeando el futuro de la movilidad. \nINSCRIPCIONES
URL:https://www.industriales.upm.es/info-evento/la-movilidad-del-futuro-automatizacion-y-conectividad-como-claves-para-una-movilidad-inteligente-y-sostenible/
ATTACH;FMTTYPE=image/png:https://www.industriales.upm.es/wp-content/uploads/2024/11/7743d4c0-4b09-4b04-8332-50dcafa22db8.png
END:VEVENT
BEGIN:VEVENT
DTSTART;TZID=Europe/Madrid:20241118T120000
DTEND;TZID=Europe/Madrid:20241118T140000
DTSTAMP:20260422T015325
CREATED:20241108T074812Z
LAST-MODIFIED:20241118T082014Z
UID:10000712-1731931200-1731938400@www.industriales.upm.es
SUMMARY:Presentación del candidato D. Óscar García Suárez.
DESCRIPTION:Lunes 18 de noviembre 12:00h. Salón de Actos. \nCampaña electoral a Rector/a. Presentación del candidato D. Óscar García Suárez. Salón de Actos
URL:https://www.industriales.upm.es/info-evento/presentacion-del-candidato-d-oscar-garcia-suarez/
ATTACH;FMTTYPE=image/jpeg:https://www.industriales.upm.es/wp-content/uploads/2024/09/CAMPANA-RECTOR-UPM_Cartel-A3_Editable.ai_.jpg
END:VEVENT
BEGIN:VEVENT
DTSTART;TZID=Europe/Madrid:20241115T190000
DTEND;TZID=Europe/Madrid:20241115T210000
DTSTAMP:20260422T015325
CREATED:20241107T104543Z
LAST-MODIFIED:20241107T112706Z
UID:10000707-1731697200-1731704400@www.industriales.upm.es
SUMMARY:Déjame que te cuente por Ana y los 8
DESCRIPTION:Obra de teatro solidaria «Déjame que te cuente» por el grupo de teatro amateur Ana y los 8.  En beneficio de la ONG EDEA Camerún. \n15 de noviembre 19:00h. Salón de Actos.
URL:https://www.industriales.upm.es/info-evento/dejame-que-te-cuente-por-ana-y-los-8/
ATTACH;FMTTYPE=image/jpeg:https://www.industriales.upm.es/wp-content/uploads/2024/11/Cartel-EDEA-24.jpg
END:VEVENT
BEGIN:VEVENT
DTSTART;TZID=Europe/Madrid:20241114T160000
DTEND;TZID=Europe/Madrid:20241114T173000
DTSTAMP:20260422T015325
CREATED:20240919T121236Z
LAST-MODIFIED:20240925T091945Z
UID:10000634-1731600000-1731605400@www.industriales.upm.es
SUMMARY:Ruta guiada por la Escuela
DESCRIPTION:Ruta de aproximadamente una hora y media de duración por lugares que normalmente no están accesibles a todos y durante la cual se conocerán datos de la historia de este edificio singular y sucesos ocurridos desde su construcción. Punto de encuentro: puerta principal-conserjería.
URL:https://www.industriales.upm.es/info-evento/ruta-guiada-por-la-escuela-8-2-2-2-2-2-2-3/2024-11-14/
ATTACH;FMTTYPE=image/jpeg:https://www.industriales.upm.es/wp-content/uploads/2024/09/Visitas-guiadas.jpg
END:VEVENT
BEGIN:VEVENT
DTSTART;TZID=Europe/Madrid:20241114T133000
DTEND;TZID=Europe/Madrid:20241114T170000
DTSTAMP:20260422T015325
CREATED:20241107T133358Z
LAST-MODIFIED:20241107T133436Z
UID:10000708-1731591000-1731603600@www.industriales.upm.es
SUMMARY:Local and global structure of semi-flexible polymer packings in two and three dimensions
DESCRIPTION:14 de noviembre 13:30h. \nLectura de Tesis. DANIEL MARTÍNEZ FERNÁNDEZ.” Local and global structure of semi-flexible polymer packings in two and three dimensions” Directores: Manuel Laso y Nikolaos Karayiannis. \nAula de Química. \nAbstract_Thesis_DMF
URL:https://www.industriales.upm.es/info-evento/local-and-global-structure-of-semi-flexible-polymer-packings-in-two-and-three-dimensions/
END:VEVENT
BEGIN:VEVENT
DTSTART;TZID=Europe/Madrid:20241114T103000
DTEND;TZID=Europe/Madrid:20241114T120000
DTSTAMP:20260422T015325
CREATED:20241108T074712Z
LAST-MODIFIED:20241108T115843Z
UID:10000711-1731580200-1731585600@www.industriales.upm.es
SUMMARY:Presentación del candidato D. Francisco Javier Jiménez Leube
DESCRIPTION:Jueves 14 de noviembre \n10:30h. Campaña electoral a Rector/a. Presentación del candidato D. Francisco Javier Jiménez Leube. Aula C.
URL:https://www.industriales.upm.es/info-evento/presentacion-del-candidato-d-francisco-javier-jimenez-leube/
ATTACH;FMTTYPE=image/jpeg:https://www.industriales.upm.es/wp-content/uploads/2024/11/GbuiOGtXkAMB45P.jpg
END:VEVENT
BEGIN:VEVENT
DTSTART;TZID=Europe/Madrid:20241113T183000
DTEND;TZID=Europe/Madrid:20241113T203000
DTSTAMP:20260422T015325
CREATED:20241106T124129Z
LAST-MODIFIED:20241106T143451Z
UID:10000705-1731522600-1731529800@www.industriales.upm.es
SUMMARY:"Hidrostática: De Arquímedes a las enanas blancas"
DESCRIPTION:Conferencia organizada por la Asociación de Antiguos Alumnos de la ETSII \nMás info \nPuedes descargar el RESUMEN y confirmar asistencia en INSCRIPCIÓN
URL:https://www.industriales.upm.es/info-evento/hidrostatica-de-arquimedes-a-las-enanas-blancas/
ATTACH;FMTTYPE=image/jpeg:https://www.industriales.upm.es/wp-content/uploads/2024/11/cartel-carrusel.jpg
END:VEVENT
BEGIN:VEVENT
DTSTART;TZID=Europe/Madrid:20241113T113000
DTEND;TZID=Europe/Madrid:20241113T140000
DTSTAMP:20260422T015325
CREATED:20241104T103914Z
LAST-MODIFIED:20241104T103914Z
UID:10000702-1731497400-1731506400@www.industriales.upm.es
SUMMARY:Charlas complementarias a la 2ª exposición de motos clásicas
DESCRIPTION:Restauración de motos con Enrique Castells de F.E.V.A.\nEvolución tecnológica de los motores de motos con Jesús Casanova de la UPM.
URL:https://www.industriales.upm.es/info-evento/charlas-complementarias-a-la-2a-exposicion-de-motos-clasicas/
LOCATION:Aula C
END:VEVENT
BEGIN:VEVENT
DTSTART;TZID=Europe/Madrid:20241112T153000
DTEND;TZID=Europe/Madrid:20241112T170000
DTSTAMP:20260422T015325
CREATED:20241108T074553Z
LAST-MODIFIED:20241108T115922Z
UID:10000710-1731425400-1731430800@www.industriales.upm.es
SUMMARY:Presentación de la candidata Dña. M.ª Asunción Santamaría Galdón
DESCRIPTION:Martes 12 de noviembre 15:30h. \nCampaña electoral a Rector/a. Presentación de la candidata Dña. M.ª Asunción Santamaría Galdón. Aula D
URL:https://www.industriales.upm.es/info-evento/presentacion-de-la-candidata-dna-m-a-asuncion-santamaria-galdon/
ATTACH;FMTTYPE=image/png:https://www.industriales.upm.es/wp-content/uploads/2024/09/12-11-ETSI-INDUSTRIALES-Cartel.png
END:VEVENT
BEGIN:VEVENT
DTSTART;TZID=Europe/Madrid:20241111T100000
DTEND;TZID=Europe/Madrid:20241120T170000
DTSTAMP:20260422T015325
CREATED:20241104T103452Z
LAST-MODIFIED:20241106T081034Z
UID:10000701-1731319200-1732122000@www.industriales.upm.es
SUMMARY:2ª Exposición de Motos Clásicas
DESCRIPTION:Exposición de motos antiguas restauradas o conservadas \nSala de la Máquina de la E. T. S. I. Industriales. \nC/ José Gutiérrez Abascal\, 2 \n11 – 20 de noviembre de 2024. \n¡Descubre la 2ª Exposición de Motos Clásicas en la Sala de la Máquina de la ETSI Industriales de Madrid! Del 11 al 20 de noviembre\, disfruta de una muestra única de motocicletas europeas con más de medio siglo de historia\, restauradas y conservadas por apasionados coleccionistas locales. \nEsta exhibición va más allá de la estética y el diseño: es una celebración del legado y la dedicación de quienes\, con enorme paciencia y habilidad\, mantienen viva la esencia de cada vehículo. Tendrás la oportunidad de sumergirte en un patrimonio histórico-tecnológico invaluable que nos conecta con la evolución de la ingeniería y la cultura automotriz. \nAdemás\, acompáñanos en dos charlas el 13 de noviembre a las 11:30h en el aula C\, que complementan la exposición: \n\nRestauración de motos con Enrique Castells de F.E.V.A.\nEvolución tecnológica de los motores de motos con Jesús Casanova de la UPM.\n\n¡No te pierdas esta experiencia que combina cultura\, ingeniería y pasión por el motor! Te esperamos en la Sala de la Máquina\, junto a la  máquina de vapor de Watt\, para vivir juntos esta apasionante exposición. \nComisario de la Exposición y Profesor Emérito de la ETSII\, Jesús Casanova Kindelán
URL:https://www.industriales.upm.es/info-evento/2a-exposicion-de-motos-clasicas/
LOCATION:Sala de la Máquina
CATEGORIES:Ferias y Exposiciones
ATTACH;FMTTYPE=image/jpeg:https://www.industriales.upm.es/wp-content/uploads/2024/11/Poster-Expo-Motos-2024.jpg
END:VEVENT
BEGIN:VEVENT
DTSTART;TZID=Europe/Madrid:20241110T110000
DTEND;TZID=Europe/Madrid:20241110T170000
DTSTAMP:20260422T015325
CREATED:20241108T095856Z
LAST-MODIFIED:20241108T100108Z
UID:10000713-1731236400-1731258000@www.industriales.upm.es
SUMMARY:Exhibición Veteran Retiro Madrid
DESCRIPTION:Exhibición Veteran Retiro Madrid. \nSalida a las 11 desde la Escuela.
URL:https://www.industriales.upm.es/info-evento/exhibicion-veteran-retiro-madrid/
ATTACH;FMTTYPE=image/jpeg:https://www.industriales.upm.es/wp-content/uploads/2024/11/LANDYARD-RETIRO-2024-85x135mm_Pagina_1.jpg
END:VEVENT
BEGIN:VEVENT
DTSTART;TZID=Europe/Madrid:20241108T090000
DTEND;TZID=Europe/Madrid:20241108T150000
DTSTAMP:20260422T015325
CREATED:20241031T092512Z
LAST-MODIFIED:20241031T092512Z
UID:10000697-1731056400-1731078000@www.industriales.upm.es
SUMMARY:Aplicación de técnicas de machine learning para la caracterización fisiopatológica del movimiento ocular
DESCRIPTION:Lectura tesis doctoral de Alberto Calvo Córdoba- Aula R3
URL:https://www.industriales.upm.es/info-evento/aplicacion-de-tecnicas-de-machine-learning-para-la-caracterizacion-fisiopatologica-del-movimiento-ocular/
END:VEVENT
BEGIN:VEVENT
DTSTART;TZID=Europe/Madrid:20241107T190000
DTEND;TZID=Europe/Madrid:20241107T213000
DTSTAMP:20260422T015325
CREATED:20241022T115534Z
LAST-MODIFIED:20241023T063049Z
UID:10000677-1731006000-1731015000@www.industriales.upm.es
SUMMARY:Presentación del Libro EXCELENCIA OPERACIONAL 360 | JAVIER SANCHEZ PRIETO
DESCRIPTION:Presentación del Libro EXCELENCIA OPERACIONAL 360 | JAVIER SANCHEZ PRIETO Director Departamento Compras y Proyectos en Famosa y profesor de IEN UPM \nhttps://ienupm.com/eventos/presentacion-del-libro-excelencia-operacional-360-javier-sanchez-prieto/ \n7 de Noviembre  19:00h Sala Artigas
URL:https://www.industriales.upm.es/info-evento/presentacion-del-libro-excelencia-operacional-360-javier-sanchez-prieto/
END:VEVENT
BEGIN:VEVENT
DTSTART;TZID=Europe/Madrid:20241106T120000
DTEND;TZID=Europe/Madrid:20241106T133000
DTSTAMP:20260422T015325
CREATED:20240919T121236Z
LAST-MODIFIED:20240925T091945Z
UID:10000633-1730894400-1730899800@www.industriales.upm.es
SUMMARY:Ruta guiada por la Escuela
DESCRIPTION:Ruta de aproximadamente una hora y media de duración por lugares que normalmente no están accesibles a todos y durante la cual se conocerán datos de la historia de este edificio singular y sucesos ocurridos desde su construcción. Punto de encuentro: puerta principal-conserjería.
URL:https://www.industriales.upm.es/info-evento/ruta-guiada-por-la-escuela-8-2-2-2-2-2-2-3/2024-11-06/
ATTACH;FMTTYPE=image/jpeg:https://www.industriales.upm.es/wp-content/uploads/2024/09/Visitas-guiadas.jpg
END:VEVENT
BEGIN:VEVENT
DTSTART;TZID=Europe/Madrid:20241106T080000
DTEND;TZID=Europe/Madrid:20241108T170000
DTSTAMP:20260422T015325
CREATED:20241104T073525Z
LAST-MODIFIED:20241104T073558Z
UID:10000699-1730880000-1731085200@www.industriales.upm.es
SUMMARY:Seventh Iberian Robotics Conference
DESCRIPTION:7th Iberian Robotics Conference. Del 6 al 8 de noviembre en la ETSII UPM\, se abordarán temas como robots industriales\, autónomos y robótica educativa\, además de tecnologías como sensores y visión por computador. \nhttps://ow.ly/Zrwc50TZ0pw
URL:https://www.industriales.upm.es/info-evento/seventh-iberian-robotics-conference/
CATEGORIES:Congreso / Workshop
ATTACH;FMTTYPE=image/png:https://www.industriales.upm.es/wp-content/uploads/2024/11/163846.png
END:VEVENT
BEGIN:VEVENT
DTSTART;TZID=Europe/Madrid:20241104T080000
DTEND;TZID=Europe/Madrid:20241105T170000
DTSTAMP:20260422T015325
CREATED:20241104T083439Z
LAST-MODIFIED:20241104T083604Z
UID:10000700-1730707200-1730826000@www.industriales.upm.es
SUMMARY:Competición BeTech
DESCRIPTION:Team Design: \n\n\nLunes 4 noviembre:\n\n14:30-15:30. Presentación de problema\n17:30-18:30. Conferencia de Acciona\n15:30-20:30. Tiempo de competición\n\n\nMartes 5 noviembre:\n\n14:30-19:00. Tiempo de competición\n16:30-17:30. Conferencia de IEQSY\n19:15-20:45. Presentación de proyectos
URL:https://www.industriales.upm.es/info-evento/competicion-betech/
ATTACH;FMTTYPE=image/webp:https://www.industriales.upm.es/wp-content/uploads/2024/11/465206195_18347371288123233_9020378583919894446_n.webp
END:VEVENT
BEGIN:VEVENT
DTSTART;TZID=Europe/Madrid:20241029T170000
DTEND;TZID=Europe/Madrid:20241029T200000
DTSTAMP:20260422T015325
CREATED:20241015T100720Z
LAST-MODIFIED:20241028T113554Z
UID:10000664-1730221200-1730232000@www.industriales.upm.es
SUMMARY:Taller bienvenida "La ingeniería en tus manos"
DESCRIPTION:Taller Las claves del concurso y dinámicas (29-10-2024) \nEn este taller daremos a los participantes todos los detalles esenciales del concurso «La Ingeniería en tus Manos». Explicaremos el reto de este año\, las etapas del proyecto y cómo se evaluará el trabajo. Además\, realizaremos dinámicas para fomentar la creatividad y el trabajo en equipo\, dos pilares clave para el éxito del proyecto. Este es el primer paso para poner en marcha una idea y comenzar a trabajar como  verdaderos ingenieros e ingenieras. \n 
URL:https://www.industriales.upm.es/info-evento/taller-bienvenida-la-ingenieria-en-tus-manos/
ATTACH;FMTTYPE=image/jpeg:https://www.industriales.upm.es/wp-content/uploads/2024/10/GYz6XXkXAAU0enq.jpg
END:VEVENT
BEGIN:VEVENT
DTSTART;TZID=Europe/Madrid:20241025T190000
DTEND;TZID=Europe/Madrid:20241025T210000
DTSTAMP:20260422T015325
CREATED:20241002T104150Z
LAST-MODIFIED:20241004T082728Z
UID:10000643-1729882800-1729890000@www.industriales.upm.es
SUMMARY:Concierto "Retrato de Mujer"
DESCRIPTION:CONCIERTO ORGANIZADO POR LA ETSII Y SU ASOCIACIÓN DE ANTIGUOS ALUMNOS:  «RETRATO DE MUJER» \n\n\nFecha: 25 octubre de 2024\n\nHora:19:00 – 21:00\nLugar: Salón de Actos de la ETSII. C. de José Gutiérrez Abascal\, 2. Madrid.\n\n\nPrograma y  detalles del concierto en: https://alumnietsiim.com/event/concierto-retrato-de-mujer/\nVenta de entradas en: https://app.culpass.com/event/concierto-n2-ciclo-piano-y-camara-en-industriales_25-10-2024
URL:https://www.industriales.upm.es/info-evento/retrato-de-mujer/
ATTACH;FMTTYPE=image/png:https://www.industriales.upm.es/wp-content/uploads/2024/10/Cartel-CONCIERTO-2-para-web-ETSII_horiz.png
END:VEVENT
BEGIN:VEVENT
DTSTART;TZID=Europe/Madrid:20241023T193000
DTEND;TZID=Europe/Madrid:20241023T213000
DTSTAMP:20260422T015325
CREATED:20241021T111848Z
LAST-MODIFIED:20241023T111221Z
UID:10000675-1729711800-1729719000@www.industriales.upm.es
SUMMARY:Liderazgo de alto impacto en tiempos de incertidumbre | Antonio Díaz-Deus
DESCRIPTION:Líder\, coach\, chamán : Liderazgo de alto impacto en tiempos de incertidumbre | Antonio Díaz-Deus \nEl profesor de IEN UPM Antonio Díaz Deus presenta su libro Liderazgo de alto impacto en tiempos de incertidumbre. \nhttps://ienupm.com/eventos/liderazgo-de-alto-impacto-en-tiempos-de-incertidumbre-antonio-diaz-deus/ \n23 de octubre 19.00h Sala Artigas
URL:https://www.industriales.upm.es/info-evento/liderazgo-de-alto-impacto-en-tiempos-de-incertidumbre-antonio-diaz-deus/
ATTACH;FMTTYPE=image/jpeg:https://www.industriales.upm.es/wp-content/uploads/2024/10/GagNkMaXIAECP61.jpg
END:VEVENT
BEGIN:VEVENT
DTSTART;TZID=Europe/Madrid:20241022T110000
DTEND;TZID=Europe/Madrid:20241022T143000
DTSTAMP:20260422T015325
CREATED:20241004T105032Z
LAST-MODIFIED:20241004T105032Z
UID:10000651-1729594800-1729607400@www.industriales.upm.es
SUMMARY:"Control strategy design and installation of a cost-competitive solar concentrating system for industrial processes heat"
DESCRIPTION:DEFENSA DE TESIS DOCTORAL DE MAGDALENA MARNETCHE ORENSANZ. DIRECTORES: RUBÉN ABBAS CÁMARA Y LUIS FRANCISCO GONZÁLEZ PORTILLO
URL:https://www.industriales.upm.es/info-evento/control-strategy-design-and-installation-of-a-cost-competitive-solar-concentrating-system-for-industrial-processes-heat-2/
END:VEVENT
BEGIN:VEVENT
DTSTART;TZID=Europe/Madrid:20241021T133000
DTEND;TZID=Europe/Madrid:20241021T153000
DTSTAMP:20260422T015325
CREATED:20241018T120023Z
LAST-MODIFIED:20241018T123450Z
UID:10000673-1729517400-1729524600@www.industriales.upm.es
SUMMARY:Taller de primeros auxilios psicológicos
DESCRIPTION:Taller de Primeros Auxilios Psicológicos del Programa ImpórtaTE. \nEste taller tiene como objetivo dotarte de herramientas útiles para acompañar el malestar de las personas que te rodean. Será el próximo lunes 21 de octubre de 13:30h a 15:00h en el aula D. Hay plazas limitadas. \nPuedes inscribirte en el siguiente link: https://forms.office.com/e/bC4u0w6HcQ \n 
URL:https://www.industriales.upm.es/info-evento/taller-de-primeros-auxilios-psicologicos/
ATTACH;FMTTYPE=image/jpeg:https://www.industriales.upm.es/wp-content/uploads/2024/10/Taller-de-primeros-auxilios-psicologicos.jpg
END:VEVENT
BEGIN:VEVENT
DTSTART;TZID=Europe/Madrid:20241018T133000
DTEND;TZID=Europe/Madrid:20241018T143000
DTSTAMP:20260422T015325
CREATED:20241015T060512Z
LAST-MODIFIED:20241015T060535Z
UID:10000660-1729258200-1729261800@www.industriales.upm.es
SUMMARY:Inteligencia Artificial\, Conciencia y Libertad. ¿Qué nos hace humanos?
DESCRIPTION:Este cuatri volvemos con las charlas ÁGORA‼\nEn estas sesiones invitaremos a la universidad a distintos ponentes que vendrán a hablarnos sobre diversos temas; como de actualidad\, humanismo\, ciencia\, filosofía… \nCon mucha alegría os anunciamos que la primera charla será esta semana! Se titula: Inteligencia Artificial\, Conciencia y Libertad. ¿Qué nos hace humanos?. Hemos querido contar con un doctor en Ingeniería Informática y licenciado en Filosofía: Gonzalo Génova \n🕜Fecha y hora:\nViernes 18 de octubre a las 13:45(durará 45 mins. aprox.)\n📍Localización:\nEscuela Técnica Superior de Ingenieros industriales\, Aula Puig Adam.(entrando por la sala de la máquina a la izquierda) \nConfirmar la asistencia en el formulario que adjuntamos. Cualquier duda\, escribir a 676 44 42 96 (Ignacio) por privado. ¡Muchas gracias a todos! \nFormulario: https://forms.gle/RjoTL1ZQwB9cEeg1A \nÚnete al grupo de Whatsapp para informarte de las próximas charlas!\nhttps://chat.whatsapp.com/IwHQqXz2Aql8OKBjr2XVTf
URL:https://www.industriales.upm.es/info-evento/inteligencia-artificial-conciencia-y-libertad-que-nos-hace-humanos/
ATTACH;FMTTYPE=image/jpeg:https://www.industriales.upm.es/wp-content/uploads/2024/10/Charla-1-AGORA.jpg
END:VEVENT
BEGIN:VEVENT
DTSTART;TZID=Europe/Madrid:20241018T110000
DTEND;TZID=Europe/Madrid:20241018T143000
DTSTAMP:20260422T015325
CREATED:20241004T104659Z
LAST-MODIFIED:20241014T071013Z
UID:10000650-1729249200-1729261800@www.industriales.upm.es
SUMMARY:"Extension of the predictive capabilities of nuclear fuel performance codes to advanced technology fuels"
DESCRIPTION:Defensa tesis doctoral «Extension of the predictive capabilities of nuclear fuel performance codes to advanced technology fuels» de Pau Aragón Grabiel. \n11:00h. Aula D
URL:https://www.industriales.upm.es/info-evento/extension-of-the-predictive-capabilities-of-nuclear-fuel-performance-codes-to-advanced-technology-fuels/
LOCATION:Aula D
END:VEVENT
BEGIN:VEVENT
DTSTART;TZID=Europe/Madrid:20241017T160000
DTEND;TZID=Europe/Madrid:20241017T173000
DTSTAMP:20260422T015325
CREATED:20240919T121236Z
LAST-MODIFIED:20240925T091945Z
UID:10000632-1729180800-1729186200@www.industriales.upm.es
SUMMARY:Ruta guiada por la Escuela
DESCRIPTION:Ruta de aproximadamente una hora y media de duración por lugares que normalmente no están accesibles a todos y durante la cual se conocerán datos de la historia de este edificio singular y sucesos ocurridos desde su construcción. Punto de encuentro: puerta principal-conserjería.
URL:https://www.industriales.upm.es/info-evento/ruta-guiada-por-la-escuela-8-2-2-2-2-2-2-3/2024-10-17/
ATTACH;FMTTYPE=image/jpeg:https://www.industriales.upm.es/wp-content/uploads/2024/09/Visitas-guiadas.jpg
END:VEVENT
BEGIN:VEVENT
DTSTART;TZID=Europe/Madrid:20241015T084200
DTEND;TZID=Europe/Madrid:20241015T084200
DTSTAMP:20260422T015325
CREATED:20241002T105342Z
LAST-MODIFIED:20241002T112904Z
UID:10000644-1728981720-1728981720@www.industriales.upm.es
SUMMARY:Sesión inauguración mba internacional ONLINE ien upm
DESCRIPTION:Estamos emocionados de anunciar el inicio del curso MBA Internacional ONLINE IEN UPM \, diseñado para transformar tu carrera y prepararte para liderar en el mundo empresarial.\nFecha de inicio: 15 de Octubre 19.30h \nMás información
URL:https://www.industriales.upm.es/info-evento/sesion-inauguracion-mba-internacional-online-ien-upm/
ATTACH;FMTTYPE=image/jpeg:https://www.industriales.upm.es/wp-content/uploads/2024/10/INICIO-MBA-ONLINE-15OCT24.jpg
END:VEVENT
BEGIN:VEVENT
DTSTART;TZID=Europe/Madrid:20241014T113000
DTEND;TZID=Europe/Madrid:20241014T130000
DTSTAMP:20260422T015325
CREATED:20241004T102437Z
LAST-MODIFIED:20241004T102437Z
UID:10000649-1728905400-1728910800@www.industriales.upm.es
SUMMARY:Taller de primeros auxilios básicos
DESCRIPTION:Taller formativo dentro de las actividades del programa importate- Aula D
URL:https://www.industriales.upm.es/info-evento/taller-de-primeros-auxilios-basicos/2024-10-14/
END:VEVENT
BEGIN:VEVENT
DTSTART;TZID=Europe/Madrid:20241014T083700
DTEND;TZID=Europe/Madrid:20241014T083700
DTSTAMP:20260422T015325
CREATED:20241002T105433Z
LAST-MODIFIED:20241002T112820Z
UID:10000645-1728895020-1728895020@www.industriales.upm.es
SUMMARY:Sesión inauguración mba internacional executive y on campus
DESCRIPTION:Estamos emocionados de anunciar el inicio del curso MBA Internacional IEN UPM \, diseñado para transformar tu carrera y prepararte para liderar en el mundo empresarial.\n🚀 Detalles del curso:\nFecha de inicio: 14 de Octubre 19.00h\nModalidad: ON CAMPUS PRESENCIAL y EXECUTIVE SEMIPRESENCIal. diseñado para profesionales que buscan Desarrollar habilidades de liderazgo y toma de decisionesestratégicas. \nMás información
URL:https://www.industriales.upm.es/info-evento/sesion-inauguracion-mba-internacional-executive-y-on-campus/
ATTACH;FMTTYPE=image/jpeg:https://www.industriales.upm.es/wp-content/uploads/2024/10/INICIO-MBA-OC-Y-MBA-EX-14OCT24.jpg
END:VEVENT
END:VCALENDAR