BEGIN:VCALENDAR
VERSION:2.0
PRODID:-//Escuela Técnica Superior Ingenieros Industriales - ECPv6.15.20//NONSGML v1.0//EN
CALSCALE:GREGORIAN
METHOD:PUBLISH
X-ORIGINAL-URL:https://www.industriales.upm.es
X-WR-CALDESC:Eventos para Escuela Técnica Superior Ingenieros Industriales
REFRESH-INTERVAL;VALUE=DURATION:PT1H
X-Robots-Tag:noindex
X-PUBLISHED-TTL:PT1H
BEGIN:VTIMEZONE
TZID:Europe/Madrid
BEGIN:DAYLIGHT
TZOFFSETFROM:+0100
TZOFFSETTO:+0200
TZNAME:CEST
DTSTART:20250330T010000
END:DAYLIGHT
BEGIN:STANDARD
TZOFFSETFROM:+0200
TZOFFSETTO:+0100
TZNAME:CET
DTSTART:20251026T010000
END:STANDARD
BEGIN:DAYLIGHT
TZOFFSETFROM:+0100
TZOFFSETTO:+0200
TZNAME:CEST
DTSTART:20260329T010000
END:DAYLIGHT
BEGIN:STANDARD
TZOFFSETFROM:+0200
TZOFFSETTO:+0100
TZNAME:CET
DTSTART:20261025T010000
END:STANDARD
BEGIN:DAYLIGHT
TZOFFSETFROM:+0100
TZOFFSETTO:+0200
TZNAME:CEST
DTSTART:20270328T010000
END:DAYLIGHT
BEGIN:STANDARD
TZOFFSETFROM:+0200
TZOFFSETTO:+0100
TZNAME:CET
DTSTART:20271031T010000
END:STANDARD
END:VTIMEZONE
BEGIN:VEVENT
DTSTART;TZID=Europe/Madrid:20260424T100000
DTEND;TZID=Europe/Madrid:20260424T130000
DTSTAMP:20260422T010127
CREATED:20260415T101842Z
LAST-MODIFIED:20260415T101958Z
UID:10001371-1777024800-1777035600@www.industriales.upm.es
SUMMARY:Scopus Research Intelligence 
DESCRIPTION:Formación institucional presencial «Scopus Research Intelligence» de 10:00 a 13:00 h en el aula María Fernández del Amo.
URL:https://www.industriales.upm.es/info-evento/scopus-research-intelligence/
ATTACH;FMTTYPE=image/jpeg:https://www.industriales.upm.es/wp-content/uploads/2026/04/Cartel-Scopus-Abril-scaled.jpg
END:VEVENT
BEGIN:VEVENT
DTSTART;TZID=Europe/Madrid:20260424T133000
DTEND;TZID=Europe/Madrid:20260424T143000
DTSTAMP:20260422T010127
CREATED:20250722T091544Z
LAST-MODIFIED:20250722T091544Z
UID:10001079-1777037400-1777041000@www.industriales.upm.es
SUMMARY:Conferencia sobre especialidades GITI: Matemáticas para la Ingeniería Industrial
DESCRIPTION:Conferencias de presentación de especialidades del Grado en Ingeniería en Tecnologías Industriales
URL:https://www.industriales.upm.es/info-evento/conferencia-sobre-especialidades-giti-matematicas-para-la-ingenieria-industrial/
END:VEVENT
BEGIN:VEVENT
DTSTART;TZID=Europe/Madrid:20260424T190000
DTEND;TZID=Europe/Madrid:20260424T203000
DTSTAMP:20260422T010127
CREATED:20260414T101725Z
LAST-MODIFIED:20260414T101725Z
UID:10001368-1777057200-1777062600@www.industriales.upm.es
SUMMARY:Recital único de Miriam Gómez-Morán en la ETSII\, con obras de Liszt
DESCRIPTION:Organizado por la ETSII y su Asociación de Antiguos Alumnos.\nYa están a la venta las entradas en VENTA DE ENTRADAS \nPrograma detallado y más información sobre Miriam Gómez-Morán en:\nhttps://alumnietsiim.com/event/miriam-gomez-moran-de-nuevo-en-la-etsii-en-abril/
URL:https://www.industriales.upm.es/info-evento/recital-unico-de-miriam-gomez-moran-en-la-etsii-con-obras-de-liszt/
ATTACH;FMTTYPE=image/jpeg:https://www.industriales.upm.es/wp-content/uploads/2026/04/cuadrado_24abr26.jpg
END:VEVENT
BEGIN:VEVENT
DTSTART;TZID=Europe/Madrid:20260427T090000
DTEND;TZID=Europe/Madrid:20260427T120000
DTSTAMP:20260422T010127
CREATED:20260409T081509Z
LAST-MODIFIED:20260409T081509Z
UID:10001365-1777280400-1777291200@www.industriales.upm.es
SUMMARY:Taller de Comunicación Ingenia
DESCRIPTION:
URL:https://www.industriales.upm.es/info-evento/taller-de-comunicacion-ingenia/
END:VEVENT
BEGIN:VEVENT
DTSTART;TZID=Europe/Madrid:20260427T130000
DTEND;TZID=Europe/Madrid:20260427T150000
DTSTAMP:20260422T010127
CREATED:20260202T122350Z
LAST-MODIFIED:20260202T122350Z
UID:10001301-1777294800-1777302000@www.industriales.upm.es
SUMMARY:ENTREGA DE PREMIOS CYBERTECH 2026
DESCRIPTION:
URL:https://www.industriales.upm.es/info-evento/entrega-de-premios-cybertech-2026/
END:VEVENT
BEGIN:VEVENT
DTSTART;TZID=Europe/Madrid:20260429T100000
DTEND;TZID=Europe/Madrid:20260429T150000
DTSTAMP:20260422T010127
CREATED:20260129T153143Z
LAST-MODIFIED:20260129T153143Z
UID:10001299-1777456800-1777474800@www.industriales.upm.es
SUMMARY:Reunión Conferencia de Directores de Ingeniería Industrial
DESCRIPTION:
URL:https://www.industriales.upm.es/info-evento/reunion-conferencia-de-directores-de-ingenieria-industrial/
END:VEVENT
BEGIN:VEVENT
DTSTART;TZID=Europe/Madrid:20260429T173000
DTEND;TZID=Europe/Madrid:20260429T203000
DTSTAMP:20260422T010127
CREATED:20260327T071530Z
LAST-MODIFIED:20260327T071530Z
UID:10001360-1777483800-1777494600@www.industriales.upm.es
SUMMARY:Enjambres de Drones. La Perspectiva Empresarial de Swarming Technologies and Solutions
DESCRIPTION:La empresa Swarming Technologies and Solutions hablará de su experiencia en el sector de los drones\, especialmente los enjambres de drones.    Uno de los ponentes es egresado de nuestra escuela y comentará su experiencia y consejos para los primeros años de vida profesional de nuestros estudiantes
URL:https://www.industriales.upm.es/info-evento/enjambres-de-drones-la-perspectiva-empresarial-de-swarming-technologies-and-solutions/
END:VEVENT
BEGIN:VEVENT
DTSTART;TZID=Europe/Madrid:20260506T083000
DTEND;TZID=Europe/Madrid:20260506T143000
DTSTAMP:20260422T010127
CREATED:20260317T102414Z
LAST-MODIFIED:20260317T102414Z
UID:10001348-1778056200-1778077800@www.industriales.upm.es
SUMMARY:Ingeniería española en la independencia de EEUU
DESCRIPTION:
URL:https://www.industriales.upm.es/info-evento/ingenieria-espanola-en-la-independencia-de-eeuu/
END:VEVENT
BEGIN:VEVENT
DTSTART;TZID=Europe/Madrid:20260507T190000
DTEND;TZID=Europe/Madrid:20260507T203000
DTSTAMP:20260422T010127
CREATED:20260414T090718Z
LAST-MODIFIED:20260414T090718Z
UID:10001367-1778180400-1778185800@www.industriales.upm.es
SUMMARY:Evento antiguo/as alumno/as IMIM
DESCRIPTION:Evento antiguo/as alumno/as IMIM
URL:https://www.industriales.upm.es/info-evento/evento-antiguo-as-alumno-as-imim/
END:VEVENT
BEGIN:VEVENT
DTSTART;TZID=Europe/Madrid:20260512T080000
DTEND;TZID=Europe/Madrid:20260512T153000
DTSTAMP:20260422T010127
CREATED:20260325T123345Z
LAST-MODIFIED:20260325T123345Z
UID:10001352-1778572800-1778599800@www.industriales.upm.es
SUMMARY:Advances in disinfection practices for safe water reuse
DESCRIPTION:El programa está pendiente de definir. Se trata de un workshop asociado al proyecto europeo RESET que coordino desde UPM. El evento contará con ponentes invitados de instituciones externas y está destinado para el público en general.
URL:https://www.industriales.upm.es/info-evento/advances-in-disinfection-practices-for-safe-water-reuse/
END:VEVENT
BEGIN:VEVENT
DTSTART;TZID=Europe/Madrid:20260512T183000
DTEND;TZID=Europe/Madrid:20260512T210000
DTSTAMP:20260422T010127
CREATED:20260211T074626Z
LAST-MODIFIED:20260211T074626Z
UID:10001317-1778610600-1778619600@www.industriales.upm.es
SUMMARY:Microcredencial Inteligencia Artificial IEN UPM
DESCRIPTION:Microcredencial Inteligencia Artificial
URL:https://www.industriales.upm.es/info-evento/microcredencial-inteligencia-artificial-ien-upm/
END:VEVENT
BEGIN:VEVENT
DTSTART;TZID=Europe/Madrid:20260518T113000
DTEND;TZID=Europe/Madrid:20260518T133000
DTSTAMP:20260422T010127
CREATED:20251118T163435Z
LAST-MODIFIED:20251118T163435Z
UID:10001244-1779103800-1779111000@www.industriales.upm.es
SUMMARY:Gala Ingenia
DESCRIPTION:Los estudiantes de la asignatura Ingenia del Máster en Ingeniería Industrial presentarán el trabajo que han realizado a lo largo del curso al resto de estudiantes y personal de la Escuela.
URL:https://www.industriales.upm.es/info-evento/gala-ingenia-3/
END:VEVENT
BEGIN:VEVENT
DTSTART;TZID=Europe/Madrid:20260519T083000
DTEND;TZID=Europe/Madrid:20260519T173000
DTSTAMP:20260422T010127
CREATED:20260325T124157Z
LAST-MODIFIED:20260325T124157Z
UID:10001356-1779179400-1779211800@www.industriales.upm.es
SUMMARY:AI4AM2026 Madrid (Artificial Intelligence for Advanced Materials)
DESCRIPTION:
URL:https://www.industriales.upm.es/info-evento/ai4am2026-madrid-artificial-intelligence-for-advanced-materials-4/
END:VEVENT
BEGIN:VEVENT
DTSTART;TZID=Europe/Madrid:20260520T083000
DTEND;TZID=Europe/Madrid:20260520T153000
DTSTAMP:20260422T010127
CREATED:20260325T124141Z
LAST-MODIFIED:20260325T124141Z
UID:10001353-1779265800-1779291000@www.industriales.upm.es
SUMMARY:AI4AM2026 Madrid (Artificial Intelligence for Advanced Materials)
DESCRIPTION:
URL:https://www.industriales.upm.es/info-evento/ai4am2026-madrid-artificial-intelligence-for-advanced-materials/
END:VEVENT
BEGIN:VEVENT
DTSTART;TZID=Europe/Madrid:20260521T110000
DTEND;TZID=Europe/Madrid:20260521T200000
DTSTAMP:20260422T010127
CREATED:20260306T191441Z
LAST-MODIFIED:20260306T191441Z
UID:10001336-1779361200-1779393600@www.industriales.upm.es
SUMMARY:Evento Manolo Perlado
DESCRIPTION:
URL:https://www.industriales.upm.es/info-evento/evento-manolo-perlado/
END:VEVENT
BEGIN:VEVENT
DTSTART;TZID=Europe/Madrid:20260522T100000
DTEND;TZID=Europe/Madrid:20260522T153000
DTSTAMP:20260422T010127
CREATED:20260306T084022Z
LAST-MODIFIED:20260306T084022Z
UID:10001333-1779444000-1779463800@www.industriales.upm.es
SUMMARY:Seminario del departamento de Matemática Aplicada
DESCRIPTION:
URL:https://www.industriales.upm.es/info-evento/seminario-del-departamento-de-matematica-aplicada/
END:VEVENT
BEGIN:VEVENT
DTSTART;TZID=Europe/Madrid:20260526T090000
DTEND;TZID=Europe/Madrid:20260527T180000
DTSTAMP:20260422T010127
CREATED:20260122T114506Z
LAST-MODIFIED:20260122T114506Z
UID:10001293-1779786000-1779904800@www.industriales.upm.es
SUMMARY:KMM-VIN Industrial Workshop on Artificial Intelligence for Materials and Structures
DESCRIPTION:Workshop industrial organización en colaboración con el Instituto Virtual Europeo sobre Materiales Multifuncionales (KMM-VIN) y como actividad de difusión del proyecto METALIA (Agencia Estatal de Investigación). El workshop tratará sobre tecnologías de inteligencia artificial y su aplicación al diseño\, modelado y fabricación de materiales y estructuras multifuncionales.
URL:https://www.industriales.upm.es/info-evento/kmm-vin-industrial-workshop-on-artificial-intelligence-for-materials-and-structures-2/
END:VEVENT
BEGIN:VEVENT
DTSTART;TZID=Europe/Madrid:20260526T183000
DTEND;TZID=Europe/Madrid:20260526T203000
DTSTAMP:20260422T010127
CREATED:20260213T084306Z
LAST-MODIFIED:20260213T084306Z
UID:10001318-1779820200-1779827400@www.industriales.upm.es
SUMMARY:Presentación Profesor MBA Miguel Arjona
DESCRIPTION:Presentación Profesor MBA Miguel Arjona
URL:https://www.industriales.upm.es/info-evento/presentacion-profesor-mba-miguel-arjona/
END:VEVENT
BEGIN:VEVENT
DTSTART;TZID=Europe/Madrid:20260527T080000
DTEND;TZID=Europe/Madrid:20260529T210000
DTSTAMP:20260422T010127
CREATED:20260209T123137Z
LAST-MODIFIED:20260209T123137Z
UID:10001311-1779868800-1780088400@www.industriales.upm.es
SUMMARY:WORKSHOP SOBRE ENERGY HARVESTING
DESCRIPTION:Congreso internacional sobre sistemas y tecnologías para recolección y gestión de energía
URL:https://www.industriales.upm.es/info-evento/workshop-sobre-energy-harvesting/
END:VEVENT
BEGIN:VEVENT
DTSTART;TZID=Europe/Madrid:20260527T090000
DTEND;TZID=Europe/Madrid:20260527T173000
DTSTAMP:20260422T010127
CREATED:20260122T114516Z
LAST-MODIFIED:20260122T114516Z
UID:10001294-1779872400-1779903000@www.industriales.upm.es
SUMMARY:KMM-VIN Industrial Workshop on Artificial Intelligence for Materials and Structures
DESCRIPTION:Segundo día del workshop sobre IA para diseño y fabricación de materiales y estructuras avanzadas organizado en colaboración con el European KMM-VIN y como parte de las actuaciones de difusión del proyecto METALIA (Agencia Estatal de Investigación).
URL:https://www.industriales.upm.es/info-evento/kmm-vin-industrial-workshop-on-artificial-intelligence-for-materials-and-structures-3/
END:VEVENT
BEGIN:VEVENT
DTSTART;TZID=Europe/Madrid:20260528T080000
DTEND;TZID=Europe/Madrid:20260528T150000
DTSTAMP:20260422T010127
CREATED:20260209T123146Z
LAST-MODIFIED:20260209T123146Z
UID:10001312-1779955200-1779980400@www.industriales.upm.es
SUMMARY:Workshop Energy Harvesting
DESCRIPTION:
URL:https://www.industriales.upm.es/info-evento/workshop-energy-harvesting/
END:VEVENT
BEGIN:VEVENT
DTSTART;TZID=Europe/Madrid:20260601T160000
DTEND;TZID=Europe/Madrid:20260622T200000
DTSTAMP:20260422T010127
CREATED:20260415T055655Z
LAST-MODIFIED:20260415T055655Z
UID:10001370-1780329600-1782158400@www.industriales.upm.es
SUMMARY:Curso en el marco de proyecto RISE de la UPM con Comunidad de Madrid: Tecnologías del hidrógeno
DESCRIPTION:1-J     de 16 a 20    S1: (1 h) Introducción a la cadena de valor del hidrógeno y su regulación. Alberto Abánades  S2: (1h) Producción de hidrógeno: Parte I. Clasificación\, Reformado\, Gasificación  S3: (2 h) Almacenamiento de hidrógeno y blending. Marcelo Ortega      8-J   de 16 a 20  S4 (1 h). Producción de hidrógeno . Parte II. Electrólisis. Isabel Carrillo  S5: (1 h) Producción de hidrógeno: Parte III. Pirólisis\, Biomasa\, Otros. Alberto Abánades  S6 (2 h) Transporte de hidrógeno y moléculas verdes. Vladimir Meca    15-J   de 16 a 20  S7: (2 h) Pilas de combustible. Teresa Leo  S8: (2 h) Combustión de hidrógeno. Daniel Martínez Ruiz       22-J   de 16 a 20  S9 (2 h): Seguridad del hidógeno. Isabel Amez  S10 (2 h) Hidrógeno en movilidad. Enrique Alcalá
URL:https://www.industriales.upm.es/info-evento/curso-en-el-marco-de-proyecto-rise-de-la-upm-con-comunidad-de-madrid-tecnologias-del-hidrogeno/
END:VEVENT
BEGIN:VEVENT
DTSTART;TZID=Europe/Madrid:20260602T080000
DTEND;TZID=Europe/Madrid:20260604T203000
DTSTAMP:20260422T010127
CREATED:20260414T152943Z
LAST-MODIFIED:20260414T152943Z
UID:10001369-1780387200-1780605000@www.industriales.upm.es
SUMMARY:CIBITEC 26
DESCRIPTION:Congreso anual de CIBITEC
URL:https://www.industriales.upm.es/info-evento/cibitec-26/
END:VEVENT
BEGIN:VEVENT
DTSTART;TZID=Europe/Madrid:20260605T083000
DTEND;TZID=Europe/Madrid:20260605T210000
DTSTAMP:20260422T010127
CREATED:20260122T114535Z
LAST-MODIFIED:20260122T114535Z
UID:10001295-1780648200-1780693200@www.industriales.upm.es
SUMMARY:Concierto organizado por la Asociación de Antiguos Alumnos de la ETSII
DESCRIPTION:Concierto organizado por la AAA (alumnos del Conservatorio Superior de Música de Madrid
URL:https://www.industriales.upm.es/info-evento/concierto-organizado-por-la-asociacion-de-antiguos-alumnos-de-la-etsii/
END:VEVENT
BEGIN:VEVENT
DTSTART;TZID=Europe/Madrid:20260609T080000
DTEND;TZID=Europe/Madrid:20260609T153000
DTSTAMP:20260422T010127
CREATED:20260414T074348Z
LAST-MODIFIED:20260414T074348Z
UID:10001366-1780992000-1781019000@www.industriales.upm.es
SUMMARY:Plataforma Tecnológica Española del CO2
DESCRIPTION:
URL:https://www.industriales.upm.es/info-evento/plataforma-tecnologica-espanola-del-co2/
END:VEVENT
BEGIN:VEVENT
DTSTART;TZID=Europe/Madrid:20260615T080000
DTEND;TZID=Europe/Madrid:20260617T210000
DTSTAMP:20260422T010127
CREATED:20250722T072343Z
LAST-MODIFIED:20250722T072343Z
UID:10001069-1781510400-1781730000@www.industriales.upm.es
SUMMARY:Final VIII Edición Concurso Escolar  LA INGENIERIA EN TUS MANOS
DESCRIPTION:Final VIII Edición Concurso Escolar  LA INGENIERIA EN TUS MANOS
URL:https://www.industriales.upm.es/info-evento/final-viii-edicion-concurso-escolar-la-ingenieria-en-tus-manos/
END:VEVENT
BEGIN:VEVENT
DTSTART;TZID=Europe/Madrid:20260624T113000
DTEND;TZID=Europe/Madrid:20260624T140000
DTSTAMP:20260422T010127
CREATED:20260416T121124Z
LAST-MODIFIED:20260416T121124Z
UID:10001373-1782300600-1782309600@www.industriales.upm.es
SUMMARY:60 aniversario de la promoción de Francisco Cal. F2I2
DESCRIPTION:60 aniversario de la promoción de Francisco Cal. F2I2
URL:https://www.industriales.upm.es/info-evento/60-aniversario-de-la-promocion-de-francisco-cal-f2i2/
END:VEVENT
END:VCALENDAR