BEGIN:VCALENDAR
VERSION:2.0
PRODID:-//Escuela Técnica Superior Ingenieros Industriales - ECPv6.15.20//NONSGML v1.0//EN
CALSCALE:GREGORIAN
METHOD:PUBLISH
X-ORIGINAL-URL:https://www.industriales.upm.es
X-WR-CALDESC:Eventos para Escuela Técnica Superior Ingenieros Industriales
REFRESH-INTERVAL;VALUE=DURATION:PT1H
X-Robots-Tag:noindex
X-PUBLISHED-TTL:PT1H
BEGIN:VTIMEZONE
TZID:Europe/Madrid
BEGIN:DAYLIGHT
TZOFFSETFROM:+0100
TZOFFSETTO:+0200
TZNAME:CEST
DTSTART:20230326T010000
END:DAYLIGHT
BEGIN:STANDARD
TZOFFSETFROM:+0200
TZOFFSETTO:+0100
TZNAME:CET
DTSTART:20231029T010000
END:STANDARD
BEGIN:DAYLIGHT
TZOFFSETFROM:+0100
TZOFFSETTO:+0200
TZNAME:CEST
DTSTART:20240331T010000
END:DAYLIGHT
BEGIN:STANDARD
TZOFFSETFROM:+0200
TZOFFSETTO:+0100
TZNAME:CET
DTSTART:20241027T010000
END:STANDARD
BEGIN:DAYLIGHT
TZOFFSETFROM:+0100
TZOFFSETTO:+0200
TZNAME:CEST
DTSTART:20250330T010000
END:DAYLIGHT
BEGIN:STANDARD
TZOFFSETFROM:+0200
TZOFFSETTO:+0100
TZNAME:CET
DTSTART:20251026T010000
END:STANDARD
END:VTIMEZONE
BEGIN:VEVENT
DTSTART;TZID=Europe/Madrid:20240620T110000
DTEND;TZID=Europe/Madrid:20240620T130000
DTSTAMP:20260423T021147
CREATED:20240528T111827Z
LAST-MODIFIED:20240612T115301Z
UID:10000605-1718881200-1718888400@www.industriales.upm.es
SUMMARY:Conferencia de Anne L’Huillier\, premio Nobel de Física 2023.
DESCRIPTION:Conferenciante: prof. Anne L’Huillier. Premio Nobel de Física 2023 \nTítulo: Attosecond pulses of light for the study of electron dynamics \nResumen: When an intense laser interacts with a gas of atoms\, high-order harmonics are generated. In the time domain\, this radiation forms a train of extremely short light pulses\, of the order of 100 attoseconds. Attosecond pulses allow the study of the dynamics of electrons in atoms and molecules\, using pump-probe techniques. This presentation will highlight some of the key steps of the field of attosecond science. \nLugar: Salón de Actos \nFecha/Hora: 20 de junio a las 11:00h \nAsistencia previa inscripción en el enlace siguiente: \nhttps://docs.google.com/forms/d/e/1FAIpQLScKCjHGdn6pJM6q_BJI28KrkAzPHrPUoxiuUPQn9QfecuguYQ/viewform
URL:https://www.industriales.upm.es/info-evento/conferencia-de-anne-lhuillier-premio-nobel-de-fisica-2023/
LOCATION:Salón de ACTOS
ATTACH;FMTTYPE=image/jpeg:https://www.industriales.upm.es/wp-content/uploads/2024/05/04-Carrusel-anne-lhuillier-2.jpg
END:VEVENT
BEGIN:VEVENT
DTSTART;TZID=Europe/Madrid:20240621T090000
DTEND;TZID=Europe/Madrid:20240621T150000
DTSTAMP:20260423T021147
CREATED:20240429T080337Z
LAST-MODIFIED:20240429T080804Z
UID:10000591-1718960400-1718982000@www.industriales.upm.es
SUMMARY:Machine Learning-Based Solution For Automatic Border Surveillance System
DESCRIPTION:LECTURA TESIS DOCTORAL DE Khalifa Bellazi titulada MACHINE LEARNING-BASED SOLUTION FOR AUTOMATIC BORDER SURVEILLANCE SYSTEM
URL:https://www.industriales.upm.es/info-evento/machine-learning-based-solution-for-automatic-border-surveillance-system/
LOCATION:Aula C
END:VEVENT
BEGIN:VEVENT
DTSTART;VALUE=DATE:20240623
DTEND;VALUE=DATE:20240624
DTSTAMP:20260423T021147
CREATED:20240621T094031Z
LAST-MODIFIED:20240621T094352Z
UID:10000615-1719100800-1719187199@www.industriales.upm.es
SUMMARY:Día Internacional de la Mujer en la Ingeniería
DESCRIPTION:
URL:https://www.industriales.upm.es/info-evento/dia-internacional-de-la-mujer-en-la-ingenieria/
ATTACH;FMTTYPE=image/jpeg:https://www.industriales.upm.es/wp-content/uploads/2024/06/DIMI.jpg
END:VEVENT
BEGIN:VEVENT
DTSTART;TZID=Europe/Madrid:20240625T193000
DTEND;TZID=Europe/Madrid:20240625T210000
DTSTAMP:20260423T021147
CREATED:20240605T071149Z
LAST-MODIFIED:20240605T073917Z
UID:10000610-1719343800-1719349200@www.industriales.upm.es
SUMMARY:"Raíces": Concierto fin de curso del coro de La Escuela.
DESCRIPTION:Director: Alberto G. López.\nPianista: Manuel Pacheco.\nLugar: Salón de actos de La Escuela.\nFecha: 25 de junio a las 19:30h\nEntrada libre hasta completar aforo. \n 
URL:https://www.industriales.upm.es/info-evento/raices-concierto-fin-de-curso-del-coro-de-la-escuela/
LOCATION:Salón de ACTOS
ATTACH;FMTTYPE=image/jpeg:https://www.industriales.upm.es/wp-content/uploads/2024/06/Cartel-del-concierto-25-Jun-2024.jpg
END:VEVENT
BEGIN:VEVENT
DTSTART;TZID=Europe/Madrid:20240626T173000
DTEND;TZID=Europe/Madrid:20240626T200000
DTSTAMP:20260423T021147
CREATED:20240531T120027Z
LAST-MODIFIED:20240531T120027Z
UID:10000608-1719423000-1719432000@www.industriales.upm.es
SUMMARY:SESION FORMATIVA PROGRAMA EMPRENDIMIENTO UPM
DESCRIPTION:SESION FORMATIVA PROGRAMA DE EMPRENDIMIENTO UPM
URL:https://www.industriales.upm.es/info-evento/sesion-formativa-programa-emprendimiento-upm/
LOCATION:Aula C
END:VEVENT
BEGIN:VEVENT
DTSTART;TZID=Europe/Madrid:20240628T132300
DTEND;TZID=Europe/Madrid:20240628T132300
DTSTAMP:20260423T021147
CREATED:20240628T112348Z
LAST-MODIFIED:20240628T112349Z
UID:10000618-1719580980-1719580980@www.industriales.upm.es
SUMMARY:Ruta guiada por la Escuela
DESCRIPTION:Ruta de aproximadamente una hora de duración por lugares que normalmente no están accesibles a todos y durante la cual se conocerán datos de la historia de este edificio singular y sucesos ocurridos desde su construcción. Punto de encuentro: puerta principal-conserjería.
URL:https://www.industriales.upm.es/info-evento/ruta-guiada-por-la-escuela-8-2-2-2-2-2-2/2024-06-28/
END:VEVENT
BEGIN:VEVENT
DTSTART;TZID=Europe/Madrid:20240704T090000
DTEND;TZID=Europe/Madrid:20240705T170000
DTSTAMP:20260423T021147
CREATED:20240626T083242Z
LAST-MODIFIED:20240626T084409Z
UID:10000616-1720083600-1720198800@www.industriales.upm.es
SUMMARY:XXVIII Congress of Organizational Engineering and the 18th International Conference on Industrial Engineering and Industrial Management
DESCRIPTION:🌟 Exciting News for the Engineering Community! 🌟 \nWe are thrilled to announce the XXVIII Congress of Organizational Engineering and the 18th International Conference on Industrial Engineering and Industrial Management (ICIEIM)\, taking place on July 4-5\, 2024\, at the School of Industrial Engineering in Madrid. \nJoin us to explore the theme «Organizational Engineering\, Coping with Complexity\,» and connect with leading researchers and practitioners working on Sustainable Development Goals (SDGs). This is a unique opportunity for networking and knowledge sharing. \nFor more details\, visit our website: https://blogs.upm.es/cio2024/ \n 
URL:https://www.industriales.upm.es/info-evento/xxviii-congress-of-organizational-engineering-and-the-18th-international-conference-on-industrial-engineering-and-industrial-management-icieim/
LOCATION:Salón de ACTOS
ATTACH;FMTTYPE=image/jpeg:https://www.industriales.upm.es/wp-content/uploads/2024/06/01-CIO-redes-instagram-1x1-1.jpg
END:VEVENT
BEGIN:VEVENT
DTSTART;TZID=Europe/Madrid:20240704T100000
DTEND;TZID=Europe/Madrid:20240704T150000
DTSTAMP:20260423T021147
CREATED:20240423T100430Z
LAST-MODIFIED:20240423T100430Z
UID:10000586-1720087200-1720105200@www.industriales.upm.es
SUMMARY:Tesis Doctoral de Esther Aguado
DESCRIPTION:Defensa de tesis doctoral de Esther Aguado. R2.
URL:https://www.industriales.upm.es/info-evento/tesis-doctoral-de-esther-aguado/
END:VEVENT
BEGIN:VEVENT
DTSTART;TZID=Europe/Madrid:20240708T090000
DTEND;TZID=Europe/Madrid:20240712T140000
DTSTAMP:20260423T021147
CREATED:20240604T083219Z
LAST-MODIFIED:20240627T063152Z
UID:10000609-1720429200-1720792800@www.industriales.upm.es
SUMMARY:Campamento VERANO ROBÓTICO
DESCRIPTION:Campamento VERANO ROBÓTICO de una semana de duración en la ETSII UPM\, para estudiantes que han cursado 4º de la ESO y 1º y 2º de bachillerato. \nLugar: Escuela Técnica Superior de Ingenieros Industriales de la Universidad Politécnica de Madrid. \nFecha: 1 Semana del 8 al 12 de Julio \nDestinatarios: Estudiantes que en el curso 2023/24 ha cursado 4ºESO\, 1º o 2º de Bachillerato \nHorario: De lunes a viernes de 9:00h a 14:00h \n 
URL:https://www.industriales.upm.es/info-evento/campamento-verano-robotico/
ATTACH;FMTTYPE=image/jpeg:https://www.industriales.upm.es/wp-content/uploads/2024/05/cartel-Verano-Robotico-24-1.jpg
END:VEVENT
BEGIN:VEVENT
DTSTART;TZID=Europe/Madrid:20240708T113000
DTEND;TZID=Europe/Madrid:20240708T133000
DTSTAMP:20260423T021147
CREATED:20240628T112348Z
LAST-MODIFIED:20240628T112349Z
UID:10000547-1720438200-1720445400@www.industriales.upm.es
SUMMARY:Ruta guiada por la Escuela
DESCRIPTION:Ruta de aproximadamente una hora de duración por lugares que normalmente no están accesibles a todos y durante la cual se conocerán datos de la historia de este edificio singular y sucesos ocurridos desde su construcción. Punto de encuentro: puerta principal-conserjería.
URL:https://www.industriales.upm.es/info-evento/ruta-guiada-por-la-escuela-8-2-2-2-2-2-2/2024-07-08/
END:VEVENT
BEGIN:VEVENT
DTSTART;TZID=Europe/Madrid:20240708T173000
DTEND;TZID=Europe/Madrid:20240708T183000
DTSTAMP:20260423T021147
CREATED:20240703T082407Z
LAST-MODIFIED:20240703T082434Z
UID:10000622-1720459800-1720463400@www.industriales.upm.es
SUMMARY:PRESENTACIÓN LIBRO
DESCRIPTION:PRESENTACIÓN LIBRO: “La Escuela de Ingenieros Industriales de Madrid. Un importante capítulo de su intrahistoria (1950-2000)” \n8 de julio 2024\, 17:30 h.\, Salón de Actos de la Escuela Industriales UPM.
URL:https://www.industriales.upm.es/info-evento/presentacion-libro/
ATTACH;FMTTYPE=image/jpeg:https://www.industriales.upm.es/wp-content/uploads/2024/07/449690572_998276662302039_5763599901905696716_n.jpg
END:VEVENT
BEGIN:VEVENT
DTSTART;TZID=Europe/Madrid:20240710T110000
DTEND;TZID=Europe/Madrid:20240710T143000
DTSTAMP:20260423T021147
CREATED:20240607T104213Z
LAST-MODIFIED:20240607T104213Z
UID:10000611-1720609200-1720621800@www.industriales.upm.es
SUMMARY:Assessment of safety issues in NuScale and Gen II PWR under accident conditions using TRACE
DESCRIPTION:Defensa de Tesis doctoral: Assessment of safety issues in NuScale and Gen II PWR under accident conditions using TRACE. Doctorando: Jorge Sánchez Torrijos.
URL:https://www.industriales.upm.es/info-evento/assessment-of-safety-issues-in-nuscale-and-gen-ii-pwr-under-accident-conditions-using-trace/
LOCATION:Sala ARTIGAS
END:VEVENT
BEGIN:VEVENT
DTSTART;TZID=Europe/Madrid:20240712T190000
DTEND;TZID=Europe/Madrid:20240712T203000
DTSTAMP:20260423T021147
CREATED:20240703T073344Z
LAST-MODIFIED:20240703T073559Z
UID:10000621-1720810800-1720816200@www.industriales.upm.es
SUMMARY:Solemne Acto Académico Extraordinario de Graduación
DESCRIPTION:Solemne Acto Académico Extraordinario de Graduación de la Escuela Técnica Superior de Ingenieros Industriales\n12 de julio de 2024 a las 19 horas. Salón de Actos. \nPrograma del Acto \nApertura del Acto por el Sr. Rector Magnífico D. Guillermo Cisneros Pérez\nIntervención del padrino de los graduados Profesor D. Eduardo de la Torre Arnanz\nEntrega de diplomas a los titulados de Grado (convocatorias de febrero y junio de 2024) que cursarán programas de\nmovilidad en el curso 2024/2025\nPieza musical a cargo del Profesor D. Pablo Garrido Martínez-Llop\nIntervención del representante de los estudiantes\nIntervención del Ilmo. Sr. Director de la Escuela D. Óscar García Suárez\nIntervención del Sr. Rector Magnífico\nIntervención del Coro Semicírculo \nClausura del Acto \nEl acto será retransmitido en directo a través del siguiente enlace \nhttp://audiovisuales.upm.es/directo/ \nAl finalizar se servirá un cóctel
URL:https://www.industriales.upm.es/info-evento/solemne-acto-academico-extraordinario-de-graduacion/
ATTACH;FMTTYPE=image/jpeg:https://www.industriales.upm.es/wp-content/uploads/2024/07/53495312079_ff9e6cecb5_c.jpg
END:VEVENT
BEGIN:VEVENT
DTSTART;TZID=Europe/Madrid:20240716T133000
DTEND;TZID=Europe/Madrid:20240716T180000
DTSTAMP:20260423T021147
CREATED:20240710T083033Z
LAST-MODIFIED:20240710T083158Z
UID:10000623-1721136600-1721152800@www.industriales.upm.es
SUMMARY:Celebración fin de curso 2023-24
DESCRIPTION:El  martes día 16 de julio a las 13:30\, tendrá lugar nuestra tradicional celebración fin de curso\, en esta ocasión 2023-24. \nComo ya sabéis de otros años\, el acto central será la paella acompañada de entrantes\, postre y bebidas. Todo esto será en la zona cubierta de debajo del aula “gimnasio”. A continuación\, podremos seguir la celebración dentro del propio gimnasio con música\, karaoke y disfraces\, hasta las 18h\, que será la hora de finalización. \nPara poder acudir a la celebración\, será necesario comprar la pulsera identificativa del evento que se deberá llevar puesta ese día. \nSe trata de una ocasión única de poder disfrutar de nuestra Escuela en un ambiente relajado y pasar un buen rato todos juntos. \nUn cordial saludo \nÓscar García Suárez\nDirector
URL:https://www.industriales.upm.es/info-evento/celebracion-fin-de-curso-2023-24/
CATEGORIES:Otros
ATTACH;FMTTYPE=image/jpeg:https://www.industriales.upm.es/wp-content/uploads/2024/07/paella-marisco_69.jpg
END:VEVENT
BEGIN:VEVENT
DTSTART;TZID=Europe/Madrid:20240717T113000
DTEND;TZID=Europe/Madrid:20240717T133000
DTSTAMP:20260423T021147
CREATED:20240628T112530Z
LAST-MODIFIED:20240628T112530Z
UID:10000620-1721215800-1721223000@www.industriales.upm.es
SUMMARY:Ruta guiada por la Escuela
DESCRIPTION:Ruta de aproximadamente una hora de duración por lugares que normalmente no están accesibles a todos y durante la cual se conocerán datos de la historia de este edificio singular y sucesos ocurridos desde su construcción. Punto de encuentro: puerta principal-conserjería.
URL:https://www.industriales.upm.es/info-evento/ruta-guiada-por-la-escuela-8-2-2-2-2-2-2-2/
END:VEVENT
BEGIN:VEVENT
DTSTART;TZID=Europe/Madrid:20240913T100000
DTEND;TZID=Europe/Madrid:20240913T140000
DTSTAMP:20260423T021147
CREATED:20240717T100648Z
LAST-MODIFIED:20240717T100648Z
UID:10000624-1726221600-1726236000@www.industriales.upm.es
SUMMARY:Defensa de la tesis de Miguel Soberón Más: Enabling Collaboration for  Sustainability Transitions Governance: The Role of Transition Intermediaries in  Supporting the Public Sector
DESCRIPTION:Defensa de tesis de Miguel Soberón Más\, estudiante del Doctorado en Ingeniería de Organización.
URL:https://www.industriales.upm.es/info-evento/defensa-de-la-tesis-de-miguel-soberon-mas-enabling-collaboration-for-sustainability-transitions-governance-the-role-of-transition-intermediaries-in-supporting-the-public-sector/
END:VEVENT
BEGIN:VEVENT
DTSTART;TZID=Europe/Madrid:20240913T110000
DTEND;TZID=Europe/Madrid:20240913T143000
DTSTAMP:20260423T021147
CREATED:20240905T073850Z
LAST-MODIFIED:20240906T063656Z
UID:10000628-1726225200-1726237800@www.industriales.upm.es
SUMMARY:ANÁLISIS DE PARÁMETROS DE DISEÑO Y PROPUESTAS DE UN REACTOR DE ESTAÑO LÍQUIDO PARA LA PIRÓLISIS DE GAS NATURAL
DESCRIPTION:Defensa tesis doctoral de Ángel Martínez Rodríguez titulada: ANÁLISIS DE PARÁMETROS DE DISEÑO Y PROPUESTAS DE UN REACTOR DE ESTAÑO LÍQUIDO PARA LA PIRÓLISIS DE GAS NATURAL. dirigida por d. Alberto Abánades Velasco
URL:https://www.industriales.upm.es/info-evento/analisis-de-parametros-de-diseno-y-propuestas-de-un-reactor-de-estano-liquido-para-la-pirolisis-de-gas-natural/
END:VEVENT
BEGIN:VEVENT
DTSTART;TZID=Europe/Madrid:20240924T100000
DTEND;TZID=Europe/Madrid:20240924T140000
DTSTAMP:20260423T021147
CREATED:20240911T072437Z
LAST-MODIFIED:20240911T072437Z
UID:10000629-1727172000-1727186400@www.industriales.upm.es
SUMMARY:Contribution of railway systems to frequency control of electric power systems with a multidisciplinary approach
DESCRIPTION:Defensa de la tesis doctoral de D. Jesús Harmodio Araúz sarmiento: Contribution of railway systems to frequency control of electric power systems with a multidisciplinary approach
URL:https://www.industriales.upm.es/info-evento/contribution-of-railway-systems-to-frequency-control-of-electric-power-systems-with-a-multidisciplinary-approach/
END:VEVENT
BEGIN:VEVENT
DTSTART;TZID=Europe/Madrid:20240925T133000
DTEND;TZID=Europe/Madrid:20240925T153000
DTSTAMP:20260423T021147
CREATED:20240923T091524Z
LAST-MODIFIED:20240923T092131Z
UID:10000637-1727271000-1727278200@www.industriales.upm.es
SUMMARY:¡Únete a Reset\, la mayor asociación de robótica de la UPM!
DESCRIPTION:¿Te interesa la robótica\, electrónica\, impresión 3D o cacharreo en general? ¿Quieres un espacio donde echarte una siesta cuando estás reventado o simplemente charlar con gente? \n¡Únete a Reset\, la asociación de robótica más grande de la UPM! Pásate cuando quieras por nuestra salita (al final de la segunda planta al lado del baño de chicas) y conócenos. Llevamos proyectos\, damos talleres y organizamos la competición Cybertech. \nEste miércoles de 13:30 a 15:30 estaremos haciendo cosas chulas en la piscina por el día de las asociaciones. Llevaremos impresoras 3D y coches teledirigidos de Cybertech. ¡Estáis todos invitados a probarlos!
URL:https://www.industriales.upm.es/info-evento/unete-a-reset-la-mayor-asociacion-de-robotica-de-la-upm/
ATTACH;FMTTYPE=image/jpeg:https://www.industriales.upm.es/wp-content/uploads/2024/09/Cartel-Reset.jpg
END:VEVENT
BEGIN:VEVENT
DTSTART;TZID=Europe/Madrid:20240927T153000
DTEND;TZID=Europe/Madrid:20240927T213000
DTSTAMP:20260423T021147
CREATED:20240925T091723Z
LAST-MODIFIED:20240925T091723Z
UID:10000639-1727451000-1727472600@www.industriales.upm.es
SUMMARY:Jornada 0/All Star de la Liga Interasociaciones
DESCRIPTION:En esta tercera temporada\, volvemos a participar en la ludoteca abierta🎲\, donde encontraréis una gran variedad de juegos de mesa a vuestra\ndisposición. Además\, se disputará una partida oficial por el título deAll-Star de la temporada pasada. 🏆 \n¡Pero eso no es todo! Todos aquellos que quieran pasar un rato divertido jugando\, conocer a gente nueva o simplemente disfrutar del ambiente de la\nliga\, son más que bienvenidos. 🎉🤝 \n📅 Fecha: Viernes 27 de septiembre\n📍 Lugar: Gimnasio de ETSI Industriales (Nuevos Ministerios)\nEntrada Gratuita y libre a toda la UPM \nAsociación Anfitriona:ACEII-Kilowatio (aceii.kw@gmail.com [1] ig: @aceii.kw) \nOrganiza:Liga de Interasociaciones UPM (ig: @ligainterasociacionesupm)
URL:https://www.industriales.upm.es/info-evento/jornada-0-all-star-de-la-liga-interasociaciones/
ATTACH;FMTTYPE=image/jpeg:https://www.industriales.upm.es/wp-content/uploads/2024/09/photo_2024-09-24_11-07-31-1.jpg
END:VEVENT
BEGIN:VEVENT
DTSTART;TZID=Europe/Madrid:20240927T190000
DTEND;TZID=Europe/Madrid:20240927T210000
DTSTAMP:20260423T021147
CREATED:20240916T143542Z
LAST-MODIFIED:20240917T072644Z
UID:10000630-1727463600-1727470800@www.industriales.upm.es
SUMMARY:¡Si mis versos tuvieran alas!
DESCRIPTION:PRIMER CONCIERTO DEL CICLO «PIANO Y CÁMARA EN INDUSTRIALES» ORGANIZADO POR LA ETSII Y LA ASOCIACIÓN DE ANTIGUOS ALUMNOS. \nVENTA DE ENTRADAS \nEnsemble Fanny Davies: Laura Granero (piano) y Aldo Mata (cello) te ofrece este concierto-homenaje a GABRIEL FAURÉ y a REYNALDO HAHN por sus respectivos aniversarios\, que lleva por título: “¡SI MIS VERSOS TUVIERAN ALAS!” \n\n\n\n\nAldo Mata\, violonchelo\nAldo Mata es un concertista internacional de violonchelo\, destacado por sus actuaciones en festivales en Estados Unidos\, Japón y Europa. Es profesor en el Centro Superior Katarina Gurska y catedrático en el Conservatorio Superior de Sevilla. Además\, es investigador\, enfocado en la música española para violonchelo y la interpretación histórica. \nLaura Granero\, piano\nLaura Granero es una pianista española especializada en fortepiano\, clave y piano\, enfocada en la práctica interpretativa del siglo XIX. Es fundadora del Fanny Davies Ensemble\, con el que ha ganado varios premios. También es investigadora\, promotora de la visibilidad de mujeres compositoras\, y colabora con importantes orquestas y festivales internacionales. \nMás info \n\n\n\n\n\n\n\n  \n\n4o
URL:https://www.industriales.upm.es/info-evento/si-mis-versos-tuvieran-alas/
ATTACH;FMTTYPE=image/png:https://www.industriales.upm.es/wp-content/uploads/2024/09/CONCIERTO-1-mailing.png
END:VEVENT
BEGIN:VEVENT
DTSTART;TZID=Europe/Madrid:20241001T090000
DTEND;TZID=Europe/Madrid:20241001T140000
DTSTAMP:20260423T021147
CREATED:20240730T064109Z
LAST-MODIFIED:20240730T064109Z
UID:10000627-1727773200-1727791200@www.industriales.upm.es
SUMMARY:Optical Point-of-Care devices.  Estimation of the technology transfer of these cutting-edge technologies
DESCRIPTION:Defensa de la tesis doctoral de Mª Jesús Pioz Soriano : «Optical Point-of-Care devices. Estimation of the technology transfer of these cutting-edge technologies «. Director Tesis Miguel Holgado Bolaños. Catedrático UPM. ETSI Industriales
URL:https://www.industriales.upm.es/info-evento/optical-point-of-care-devices-estimation-of-the-technology-transfer-of-these-cutting-edge-technologies/
END:VEVENT
BEGIN:VEVENT
DTSTART;TZID=Europe/Madrid:20241001T153000
DTEND;TZID=Europe/Madrid:20241001T173000
DTSTAMP:20260423T021147
CREATED:20240927T062426Z
LAST-MODIFIED:20240927T104826Z
UID:10000640-1727796600-1727803800@www.industriales.upm.es
SUMMARY:GEMELO DIGITAL Un nuevo estándar en Industria 4.0
DESCRIPTION:  \nPor definición simple\, un «Gemelo Digital» es un modelo virtual de un proceso\, producto o servicio a través de la información obtenida de sensores o automatismos. Esta unión del mundo físico con el virtual permite el análisis inteligente de datos y la monitorización de sistemas. Para todo activo (Tag) de un proyecto debe existir su representación digital (Asset)\, como gemelo operable digital. \nTomando en cuenta esta definición\, en nuestro negocio un gemelo digital tiene dos funciones intrínsecas principalmente: \n\nOptimizar la ingeniería\, la compra y construcción (EPC) de un producto (planta):\n\nDatos estandarizados\nMejor control sobre cambios\nMonitorizacion 3D\, 4D (planning)\, 5D (costes)\, 6D (quality)\, 7D (HSE)\nHandover inmediato\n\n\nEntregar al cliente un modelo digital que le permita\, mediante el uso de IoT\, monitorizar y simular escenarios en digital con el consiguiente ahorro y flexibilidad.\n\nPudiendo así evitar problemas antes de que se produzcan\, simular situaciones de emergencia o paradas de producción\, planificar el futuro mediante simulaciones\, optimizar el consumo energético\, etc.\nEn resumen\, tener una Planta y Gemelo Digital operacionables.\n\n\n\nEn la figura se muestra un esquema de los posibles módulos que un DTWIN pudiera incorporan tanto en las fases de EPC como en O&M\, pudiendo ser simplificado o ampliable\, de acuerdo a distintos requerimientos.
URL:https://www.industriales.upm.es/info-evento/gemelo-digital-un-nuevo-estandar-en-industria-4-0/
ATTACH;FMTTYPE=image/jpeg:https://www.industriales.upm.es/wp-content/uploads/2024/09/DT-digital.jpg
END:VEVENT
BEGIN:VEVENT
DTSTART;TZID=Europe/Madrid:20241002T083000
DTEND;TZID=Europe/Madrid:20241003T200000
DTSTAMP:20260423T021147
CREATED:20240531T114446Z
LAST-MODIFIED:20240916T112950Z
UID:10000607-1727857800-1727985600@www.industriales.upm.es
SUMMARY:DESCARBONIZACIÓN DEL TRANSPORTE COLECTIVO DE PASAJEROS Y MERCANCÍAS. ENERGÍAS Y TECNOLOGÍAS
DESCRIPTION:II Simposio ASEPA – INSIATransporte Colectivo de Viajeros y Mercancías\nEl objetivo de descarbonización del transporte\, requiere soluciones varias\, que hasta el momento están basadas en vehículos eléctricos y\, entre ellos\, a los de baterías. La industria del sector energía\, evalúa otras soluciones muy prometedoras para la industria automotriz\, y en particular para el transporte pesado a media y larga distancia de mercancías y viajeros. \n\nTres razones para ASISTIR AL SIMPOSIO\n\n\n1. Conseguir una VISIÓN integrada y multidimensional del problema \n2. Adquirir CONOCIMIENTOS sobre las diferentes alternativas tecnológicas \n3. Ampliar  OPORTUNIDADES de relación y networking \n\nINSCRIPCIÓN \nhttps://www.simposioasepa.com/ \nPrograma
URL:https://www.industriales.upm.es/info-evento/descarbonizacion-del-transporte-colectivo-de-pasajeros-y-mercancias-energias-y-tecnologias/
ATTACH;FMTTYPE=image/png:https://www.industriales.upm.es/wp-content/uploads/2024/05/Captura-de-pantalla-2024-09-16-132538.png
END:VEVENT
BEGIN:VEVENT
DTSTART;TZID=Europe/Madrid:20241004T153000
DTEND;TZID=Europe/Madrid:20241004T173000
DTSTAMP:20260423T021147
CREATED:20240925T084644Z
LAST-MODIFIED:20240925T084841Z
UID:10000638-1728055800-1728063000@www.industriales.upm.es
SUMMARY:Seminar on Ultra-High Temperature Systems
DESCRIPTION:October 4\, 2024\, 15.30 – 17.30\nAula C – Escuela Técnica Superior Ingenieros Industriales (Universidad Politécnica de Madrid\, UPM)\nOrganized by Luis F. González-Portillo (associate professor at UPM\, visiting researcher at MIT)\nSpeakers:\nMichael Bichnevicius (researcher at MIT)\nShomik Verma (researcher at MIT)\nKyle Buznitsky (researcher at MIT) \nInscripción al seminario a través del siguiente link: https://forms.gle/5jbGZSiP6JLjB6V39 \nToda la información sobre las ponencias aquí: SeminarUltraHighT_UPM_MIT
URL:https://www.industriales.upm.es/info-evento/seminar-on-ultra-high-temperature-systems/
END:VEVENT
BEGIN:VEVENT
DTSTART;TZID=Europe/Madrid:20241007T120000
DTEND;TZID=Europe/Madrid:20241007T130000
DTSTAMP:20260423T021147
CREATED:20241004T113258Z
LAST-MODIFIED:20241004T113416Z
UID:10000647-1728302400-1728306000@www.industriales.upm.es
SUMMARY:Taller de primeros auxilios básicos
DESCRIPTION:Taller formativo dentro de las actividades del Programa ImportaTE Aula D
URL:https://www.industriales.upm.es/info-evento/taller-de-primeros-auxilios-basicos-2/
ATTACH;FMTTYPE=image/png:https://www.industriales.upm.es/wp-content/uploads/2024/10/unnamed.png
END:VEVENT
BEGIN:VEVENT
DTSTART;TZID=Europe/Madrid:20241007T173000
DTEND;TZID=Europe/Madrid:20241007T193000
DTSTAMP:20260423T021147
CREATED:20241003T093338Z
LAST-MODIFIED:20241003T094222Z
UID:10000646-1728322200-1728329400@www.industriales.upm.es
SUMMARY:Bootcamp ACCIONA- UPM 2024
DESCRIPTION:Bootcamp ACCIONA- UPM 2024 \n– Retos de ingeniería propuestos por ACCIONA\n– Ocho etapas de aprendizaje en ocho semanas de trabajo.\n– Sesiones presenciales de 2 horas cada lunes.\n– Mentorías online con cada equipo de trabajo\n– Dos sesiones de pitch.\n– Una visita al centro I+D de ACCIONA.\n\n🗓️ Del 7 de octubre 2024 al 2 de diciembre 2024. Aula C. \n¿Cuándo? Sesiones presenciales día lunes: De 17:30 a 19:30 \nEste Bootcamp es patrocinado por ACCIONA y\, por lo tanto\, es gratuito . \nINSCRÍBETE AQUÍ: https://ienupm.com/bootcamp-acciona-colabora-y-resuelve/ \n\nO escribe un email a : luisa.rodriguez@fgupm.upm.es
URL:https://www.industriales.upm.es/info-evento/bootcamp-acciona-upm-2024/
ATTACH;FMTTYPE=image/png:https://www.industriales.upm.es/wp-content/uploads/2024/10/Imagen-para-correo-de-bienvenida.png
END:VEVENT
BEGIN:VEVENT
DTSTART;TZID=Europe/Madrid:20241009T120000
DTEND;TZID=Europe/Madrid:20241009T130000
DTSTAMP:20260423T021147
CREATED:20241004T102437Z
LAST-MODIFIED:20241004T102437Z
UID:10000648-1728475200-1728478800@www.industriales.upm.es
SUMMARY:Taller de primeros auxilios básicos
DESCRIPTION:Taller formativo dentro de las actividades del programa importate- Aula D
URL:https://www.industriales.upm.es/info-evento/taller-de-primeros-auxilios-basicos/2024-10-09/
END:VEVENT
BEGIN:VEVENT
DTSTART;TZID=Europe/Madrid:20241009T120000
DTEND;TZID=Europe/Madrid:20241009T133000
DTSTAMP:20260423T021147
CREATED:20240919T121236Z
LAST-MODIFIED:20240925T091945Z
UID:10000631-1728475200-1728480600@www.industriales.upm.es
SUMMARY:Ruta guiada por la Escuela
DESCRIPTION:Ruta de aproximadamente una hora y media de duración por lugares que normalmente no están accesibles a todos y durante la cual se conocerán datos de la historia de este edificio singular y sucesos ocurridos desde su construcción. Punto de encuentro: puerta principal-conserjería.
URL:https://www.industriales.upm.es/info-evento/ruta-guiada-por-la-escuela-8-2-2-2-2-2-2-3/2024-10-09/
ATTACH;FMTTYPE=image/jpeg:https://www.industriales.upm.es/wp-content/uploads/2024/09/Visitas-guiadas.jpg
END:VEVENT
BEGIN:VEVENT
DTSTART;TZID=Europe/Madrid:20241014T083700
DTEND;TZID=Europe/Madrid:20241014T083700
DTSTAMP:20260423T021147
CREATED:20241002T105433Z
LAST-MODIFIED:20241002T112820Z
UID:10000645-1728895020-1728895020@www.industriales.upm.es
SUMMARY:Sesión inauguración mba internacional executive y on campus
DESCRIPTION:Estamos emocionados de anunciar el inicio del curso MBA Internacional IEN UPM \, diseñado para transformar tu carrera y prepararte para liderar en el mundo empresarial.\n🚀 Detalles del curso:\nFecha de inicio: 14 de Octubre 19.00h\nModalidad: ON CAMPUS PRESENCIAL y EXECUTIVE SEMIPRESENCIal. diseñado para profesionales que buscan Desarrollar habilidades de liderazgo y toma de decisionesestratégicas. \nMás información
URL:https://www.industriales.upm.es/info-evento/sesion-inauguracion-mba-internacional-executive-y-on-campus/
ATTACH;FMTTYPE=image/jpeg:https://www.industriales.upm.es/wp-content/uploads/2024/10/INICIO-MBA-OC-Y-MBA-EX-14OCT24.jpg
END:VEVENT
END:VCALENDAR