BEGIN:VCALENDAR
VERSION:2.0
PRODID:-//Escuela Técnica Superior Ingenieros Industriales - ECPv6.15.20//NONSGML v1.0//EN
CALSCALE:GREGORIAN
METHOD:PUBLISH
X-WR-CALNAME:Escuela Técnica Superior Ingenieros Industriales
X-ORIGINAL-URL:https://www.industriales.upm.es
X-WR-CALDESC:Eventos para Escuela Técnica Superior Ingenieros Industriales
REFRESH-INTERVAL;VALUE=DURATION:PT1H
X-Robots-Tag:noindex
X-PUBLISHED-TTL:PT1H
BEGIN:VTIMEZONE
TZID:Europe/Madrid
BEGIN:DAYLIGHT
TZOFFSETFROM:+0100
TZOFFSETTO:+0200
TZNAME:CEST
DTSTART:20240331T010000
END:DAYLIGHT
BEGIN:STANDARD
TZOFFSETFROM:+0200
TZOFFSETTO:+0100
TZNAME:CET
DTSTART:20241027T010000
END:STANDARD
BEGIN:DAYLIGHT
TZOFFSETFROM:+0100
TZOFFSETTO:+0200
TZNAME:CEST
DTSTART:20250330T010000
END:DAYLIGHT
BEGIN:STANDARD
TZOFFSETFROM:+0200
TZOFFSETTO:+0100
TZNAME:CET
DTSTART:20251026T010000
END:STANDARD
BEGIN:DAYLIGHT
TZOFFSETFROM:+0100
TZOFFSETTO:+0200
TZNAME:CEST
DTSTART:20260329T010000
END:DAYLIGHT
BEGIN:STANDARD
TZOFFSETFROM:+0200
TZOFFSETTO:+0100
TZNAME:CET
DTSTART:20261025T010000
END:STANDARD
END:VTIMEZONE
BEGIN:VEVENT
DTSTART;TZID=Europe/Madrid:20250624T080000
DTEND;TZID=Europe/Madrid:20250624T140000
DTSTAMP:20260422T015326
CREATED:20250507T103643Z
LAST-MODIFIED:20250507T103643Z
UID:10000984-1750752000-1750773600@www.industriales.upm.es
SUMMARY:Acto entrega IX Premio Acerinox
DESCRIPTION:
URL:https://www.industriales.upm.es/info-evento/acto-entrega-ix-premio-acerinox/
END:VEVENT
BEGIN:VEVENT
DTSTART;TZID=Europe/Madrid:20250623T130000
DTEND;TZID=Europe/Madrid:20250623T153000
DTSTAMP:20260422T015326
CREATED:20250610T074604Z
LAST-MODIFIED:20250610T074604Z
UID:10001019-1750683600-1750692600@www.industriales.upm.es
SUMMARY:Coloquio doctoral: Uso de la IA en investigación
DESCRIPTION:Presentación y debate posterior sobre el tema.
URL:https://www.industriales.upm.es/info-evento/coloquio-doctoral-uso-de-la-ia-en-investigacion/
END:VEVENT
BEGIN:VEVENT
DTSTART;TZID=Europe/Madrid:20250623T090000
DTEND;TZID=Europe/Madrid:20250627T200000
DTSTAMP:20260422T015326
CREATED:20250617T070824Z
LAST-MODIFIED:20250617T070824Z
UID:10001030-1750669200-1751054400@www.industriales.upm.es
SUMMARY:Comisión de selección Plazas Ayudante Doctor
DESCRIPTION:
URL:https://www.industriales.upm.es/info-evento/comision-de-seleccion-plazas-ayudante-doctor/
END:VEVENT
BEGIN:VEVENT
DTSTART;TZID=Europe/Madrid:20250623T083000
DTEND;TZID=Europe/Madrid:20250623T150000
DTSTAMP:20260422T015326
CREATED:20250604T075610Z
LAST-MODIFIED:20250604T075610Z
UID:10001015-1750667400-1750690800@www.industriales.upm.es
SUMMARY:Lectura de Tesis. ADRIÁN LÓPEZ ARRABAL. “Engineering Design Methodology for Robot-Based Non-Planar Additive Manufacturing (RbNPAM)”. Director: Andrés Díaz Lantada. Aula C.
DESCRIPTION:Doctorado en Ingeniería Mecánica
URL:https://www.industriales.upm.es/info-evento/lectura-de-tesis-adrian-lopez-arrabal-engineering-design-methodology-for-robot-based-non-planar-additive-manufacturing-rbnpam-director-andres-diaz-lantada-aula-c/
END:VEVENT
BEGIN:VEVENT
DTSTART;TZID=Europe/Madrid:20250620T170000
DTEND;TZID=Europe/Madrid:20250620T200000
DTSTAMP:20260422T015326
CREATED:20250602T075431Z
LAST-MODIFIED:20250602T075548Z
UID:10001011-1750438800-1750449600@www.industriales.upm.es
SUMMARY:Jornada de Puertas Abiertas. 20 junio.
DESCRIPTION:Jornada de Puertas Abiertas\n\n\n\n\n20 de junio de 2024. 17:00h. Entrada libre\nEscuela Técnica Superior de Ingenieros Industriales. Universidad Politécnica de Madrid.Calle José Gutiérrez Abascal\, 2. 28006 Madrid. \nExplicaremos con detalle los grados que se imparten en nuestra Escuela: Grado en Ingeniería en Tecnologías Industriales\, Grado en Ingeniería de Organización\, Grado en Ingeniería Química\, y el Programa Académico de Ingeniero/a Industrial una forma de acceso a la carrera de Ingeniería Industrial que incluye el Grado y el Máster habilitante en un solo plan de estudios. También hablaremos de las posibilidades de estudiar en universidades de todo el mundo\, aspecto en el que nuestra Escuela es un centro destacadísimo\, así como la empleabilidad de este tipo de profesiones. Para terminar la jornada visitaremos diferentes laboratorios de nuestro centro. \nQuieres saber que hace un/a ingeniero/a industrial\, Clara Molina te lo cuenta. Ver vídeo \nPLANES DE ESTUDIO \nGRADOS \nPROGRAMA ACADÉMICO DE INGENIERO/A INDUSTRIAL 
URL:https://www.industriales.upm.es/info-evento/jornada-de-puertas-abiertas-20-junio/
ATTACH;FMTTYPE=image/png:https://www.industriales.upm.es/wp-content/uploads/2024/07/bienvenidos.png
END:VEVENT
BEGIN:VEVENT
DTSTART;TZID=Europe/Madrid:20250620T103000
DTEND;TZID=Europe/Madrid:20250620T120000
DTSTAMP:20260422T015326
CREATED:20250507T103609Z
LAST-MODIFIED:20250507T103609Z
UID:10000983-1750415400-1750420800@www.industriales.upm.es
SUMMARY:CEI Annual Meeting
DESCRIPTION:
URL:https://www.industriales.upm.es/info-evento/cei-annual-meeting/
END:VEVENT
BEGIN:VEVENT
DTSTART;TZID=Europe/Madrid:20250620T080000
DTEND;TZID=Europe/Madrid:20250620T140000
DTSTAMP:20260422T015326
CREATED:20250529T104814Z
LAST-MODIFIED:20250529T104814Z
UID:10001010-1750406400-1750428000@www.industriales.upm.es
SUMMARY:El evento final de  la actividad GENIUS de Elissa.
DESCRIPTION:El evento final de  la actividad GENIUS de Elissa.
URL:https://www.industriales.upm.es/info-evento/el-evento-final-de-la-actividad-genius-de-elissa/
END:VEVENT
BEGIN:VEVENT
DTSTART;TZID=Europe/Madrid:20250619T180000
DTEND;TZID=Europe/Madrid:20250619T200000
DTSTAMP:20260422T015326
CREATED:20250603T121240Z
LAST-MODIFIED:20250603T121240Z
UID:10001014-1750356000-1750363200@www.industriales.upm.es
SUMMARY:Acto de entrega de premios para las competiciones internas y externas de la ETSII
DESCRIPTION:Acto de entrega de premios para las competiciones internas y externas de la ETSII
URL:https://www.industriales.upm.es/info-evento/acto-de-entrega-de-premios-para-las-competiciones-internas-y-externas-de-la-etsii/
END:VEVENT
BEGIN:VEVENT
DTSTART;TZID=Europe/Madrid:20250619T080000
DTEND;TZID=Europe/Madrid:20250620T200000
DTSTAMP:20260422T015326
CREATED:20250218T120037Z
LAST-MODIFIED:20250311T161153Z
UID:10000846-1750320000-1750449600@www.industriales.upm.es
SUMMARY:CEI Annual Meeting 2025
DESCRIPTION:
URL:https://www.industriales.upm.es/info-evento/cei-annual-meeting-2025-3/
END:VEVENT
BEGIN:VEVENT
DTSTART;TZID=Europe/Madrid:20250619T080000
DTEND;TZID=Europe/Madrid:20250619T180000
DTSTAMP:20260422T015326
CREATED:20250522T152937Z
LAST-MODIFIED:20250604T104542Z
UID:10000994-1750320000-1750356000@www.industriales.upm.es
SUMMARY:Final del Concurso Escolar LA INGENIERIA EN TUS MANOS
DESCRIPTION:Final del Concurso Escolar LA INGENIERIA EN TUS MANOS
URL:https://www.industriales.upm.es/info-evento/final-del-concurso-escolar-la-ingenieria-en-tus-manos/
ATTACH;FMTTYPE=image/jpeg:https://www.industriales.upm.es/wp-content/uploads/2025/05/1-1.jpg
END:VEVENT
BEGIN:VEVENT
DTSTART;TZID=Europe/Madrid:20250617T090000
DTEND;TZID=Europe/Madrid:20250617T140000
DTSTAMP:20260422T015326
CREATED:20250326T130521Z
LAST-MODIFIED:20250326T130521Z
UID:10000933-1750150800-1750168800@www.industriales.upm.es
SUMMARY:Reglamento de Reutilización del agua
DESCRIPTION:Sesión en torno a la implementación del Reglamento de Reutilización del agua
URL:https://www.industriales.upm.es/info-evento/reglamento-de-reutilizacion-del-agua/
END:VEVENT
BEGIN:VEVENT
DTSTART;TZID=Europe/Madrid:20250614T080000
DTEND;TZID=Europe/Madrid:20250615T170000
DTSTAMP:20260422T015326
CREATED:20250606T071759Z
LAST-MODIFIED:20250606T071759Z
UID:10001017-1749888000-1750006800@www.industriales.upm.es
SUMMARY:Conciertos del Coro Semicírculo. Sábado 14 y domingo 15
DESCRIPTION:
URL:https://www.industriales.upm.es/info-evento/conciertos-del-coro-semicirculo-sabado-14-y-domingo-15/
ATTACH;FMTTYPE=image/jpeg:https://www.industriales.upm.es/wp-content/uploads/2025/06/PHOTO-2025-05-30-13-42-34.jpg
END:VEVENT
BEGIN:VEVENT
DTSTART;TZID=Europe/Madrid:20250613T090000
DTEND;TZID=Europe/Madrid:20250613T143000
DTSTAMP:20260422T015326
CREATED:20250514T063218Z
LAST-MODIFIED:20250514T063218Z
UID:10000990-1749805200-1749825000@www.industriales.upm.es
SUMMARY:Imaginando el Presente
DESCRIPTION:
URL:https://www.industriales.upm.es/info-evento/imaginando-el-presente/
END:VEVENT
BEGIN:VEVENT
DTSTART;TZID=Europe/Madrid:20250610T090000
DTEND;TZID=Europe/Madrid:20250610T150000
DTSTAMP:20260422T015326
CREATED:20250521T141616Z
LAST-MODIFIED:20250521T141731Z
UID:10000993-1749546000-1749567600@www.industriales.upm.es
SUMMARY:Defensa de tesis doctoral de Violeta I. Redondo Gallego: "New methods for remote handling robotic procedures applied to environments under radiation"
DESCRIPTION:
URL:https://www.industriales.upm.es/info-evento/defensa-de-tesis-doctoral-de-violeta-i-redondo-gallego-new-methods-for-remote-handling-robotic-procedures-applied-to-environments-under-radiation/
END:VEVENT
BEGIN:VEVENT
DTSTART;TZID=Europe/Madrid:20250609T080000
DTEND;TZID=Europe/Madrid:20250613T200000
DTSTAMP:20260422T015326
CREATED:20250526T092217Z
LAST-MODIFIED:20250526T092217Z
UID:10001003-1749456000-1749844800@www.industriales.upm.es
SUMMARY:Congreso Internacional Radiation Effects on Insulators
DESCRIPTION:Congreso Internacional Radiation Effects on Insulators
URL:https://www.industriales.upm.es/info-evento/congreso-internacional-radiation-effects-on-insulators/
END:VEVENT
BEGIN:VEVENT
DTSTART;TZID=Europe/Madrid:20250609T080000
DTEND;TZID=Europe/Madrid:20250613T200000
DTSTAMP:20260422T015326
CREATED:20250304T085033Z
LAST-MODIFIED:20250311T160557Z
UID:10000866-1749456000-1749844800@www.industriales.upm.es
SUMMARY:Congreso: International Radiation Effects on Insulators
DESCRIPTION:
URL:https://www.industriales.upm.es/info-evento/congreso-internacional-radiation-effects-on-insulators-2/
END:VEVENT
BEGIN:VEVENT
DTSTART;TZID=Europe/Madrid:20250603T100000
DTEND;TZID=Europe/Madrid:20250603T123000
DTSTAMP:20260422T015326
CREATED:20250529T103004Z
LAST-MODIFIED:20250529T103548Z
UID:10001009-1748944800-1748953800@www.industriales.upm.es
SUMMARY:Vehículos autónomos y conectados: sus efectos en la movilidad sostenible
DESCRIPTION:La movilidad del futuro ya está en marcha\, y su impacto es tan prometedor como transformador. Estudios recientes indican que una adopción del 20% de vehículos conectados en las ciudades europeas podría reducir las emisiones de CO₂ hasta en un 18%\, gracias a la optimización del tráfico y la disminución de paradas innecesarias \nLa Cátedra de Transición Energética Fundación Repsol en la Universidad Politécnica de Madrid\, organizan este webinar donde tendremos la oportunidad de comprender cómo estas tecnologías están redefiniendo el panorama de la movilidad. \n03 de junio de 2025. 10:00h. Online.\nPonentes: \nFelipe Jimenez. Catedrático de la Escuela Técnica Superior de Ingeniería Industrial y Profesor de la Cátedra de Transición Energética Fundación Repsol en UPM \nAlberto Lozano. Red de Cátedras en Fundación Repsol. \nFrancesc Soriguera. Profesor de transporte del Barcelona Innovación en Transporte en la Universidad Politécnica de Cataluña \nAntonio Caamaño. Responsable de ingeniería de ALSA \nMauro Gil. Coordinador de proyectos de innovación del área de Mobility de Indra \nJosé Eugenio Naranjo. Catedrático de universidad de la Universidad Politécnica de Madrid \nINSCRIPCIONES\nAGENDA:  Vehiculos autonomos
URL:https://www.industriales.upm.es/info-evento/vehiculos-autonomos-y-conectados-sus-efectos-en-la-movilidad-sostenible/
ATTACH;FMTTYPE=image/png:https://www.industriales.upm.es/wp-content/uploads/2025/05/1182297f-4b61-496f-be41-4ce5b3e5d4ae.png
END:VEVENT
BEGIN:VEVENT
DTSTART;TZID=Europe/Madrid:20250603T080000
DTEND;TZID=Europe/Madrid:20250606T200000
DTSTAMP:20260422T015326
CREATED:20250326T124300Z
LAST-MODIFIED:20250509T074524Z
UID:10000932-1748937600-1749240000@www.industriales.upm.es
SUMMARY:ETSI-quantum safe
DESCRIPTION:Congreso de estandarización de las comunicaciones seguras frente a la amenaza cuántica. Promotor: Etsi (European Telecommunications Standar Institute) \nETSI–IQC Quantum Safe Cryptography Conference 2025 es un evento internacional de gran relevancia en el ámbito de la ciberseguridad y la criptografía cuántica. \nToda la información sobre la conferencia puede consultarse en el siguiente enlace oficial de ETSI: https://www.etsi.org/events/2450-etsi-iqc-quantum-safe-cryptography-conference-2025 \nEl evento tendrá lugar en la Escuela Técnica Superior de Ingenieros Industriales (UPM)\, C/ José Gutiérrez Abascal 2\, 28006 Madrid. \nLas sesiones se desarrollarán desde las 08:15 h del martes 3 de junio hasta las 16:00 h del jueves 5 de junio de 2025.
URL:https://www.industriales.upm.es/info-evento/etsi-quantum-safe-4/
END:VEVENT
BEGIN:VEVENT
DTSTART;TZID=Europe/Madrid:20250530T093000
DTEND;TZID=Europe/Madrid:20250530T110000
DTSTAMP:20260422T015326
CREATED:20250526T075304Z
LAST-MODIFIED:20250526T075304Z
UID:10001001-1748597400-1748602800@www.industriales.upm.es
SUMMARY:Bienvenida al nuevo personal
DESCRIPTION:
URL:https://www.industriales.upm.es/info-evento/bienvenida-al-nuevo-personal/
END:VEVENT
BEGIN:VEVENT
DTSTART;TZID=Europe/Madrid:20250529T083000
DTEND;TZID=Europe/Madrid:20250529T203000
DTSTAMP:20260422T015326
CREATED:20250324T120557Z
LAST-MODIFIED:20250324T120557Z
UID:10000926-1748507400-1748550600@www.industriales.upm.es
SUMMARY:Curso sobre compensadores síncronos
DESCRIPTION:
URL:https://www.industriales.upm.es/info-evento/curso-sobre-compensadores-sincronos/
END:VEVENT
BEGIN:VEVENT
DTSTART;TZID=Europe/Madrid:20250528T100000
DTEND;TZID=Europe/Madrid:20250528T153000
DTSTAMP:20260422T015326
CREATED:20250526T120941Z
LAST-MODIFIED:20250527T154808Z
UID:10001005-1748426400-1748446200@www.industriales.upm.es
SUMMARY:Lectura de tesis: MONICA MARTINEZ CASTAÑEDA ?Análisis de los sistemas de trazabilidad basados en tecnología blockchain para certificación de condiciones de producción en    la industria alimentaria?
DESCRIPTION:Lectura de tesis: MONICA MARTINEZ CASTAÑEDA «Análisis de los sistemas de trazabilidad basados en tecnología blockchain para certificación de condiciones de producción en la industria alimentaria»
URL:https://www.industriales.upm.es/info-evento/lectura-de-tesis-monica-martinez-castaneda-analisis-de-los-sistemas-de-trazabilidad-basados-en-tecnologia-blockchain-para-certificacion-de-condiciones-de-produccion-en-la-industria-alimentaria/
END:VEVENT
BEGIN:VEVENT
DTSTART;TZID=Europe/Madrid:20250527T080000
DTEND;TZID=Europe/Madrid:20250529T210000
DTSTAMP:20260422T015326
CREATED:20250506T105100Z
LAST-MODIFIED:20250506T111053Z
UID:10000980-1748332800-1748552400@www.industriales.upm.es
SUMMARY:Congreso iberoamericano de ingeniería y tecnología CIBITEC2025
DESCRIPTION:Celebración de la VII edición del Congreso Iberoamericano de Ingeniería y Tecnología 2025
URL:https://www.industriales.upm.es/info-evento/congreso-iberoamericano-de-ingenieria-y-tecnologia-cibitec2025/
END:VEVENT
BEGIN:VEVENT
DTSTART;TZID=Europe/Madrid:20250521T190000
DTEND;TZID=Europe/Madrid:20250521T210000
DTSTAMP:20260422T015326
CREATED:20250421T095153Z
LAST-MODIFIED:20250421T095153Z
UID:10000966-1747854000-1747861200@www.industriales.upm.es
SUMMARY:Jornadas “Partículas que Salvan Vidas: Jornadas sobre radioisótopos y terapias con protones”
DESCRIPTION:Jornadas “Partículas que Salvan Vidas: Jornadas sobre radioisótopos y terapias con protones”\, organizadas por la Comisión de empleo y desarrollo profesional de la Sociedad Nuclear Española.
URL:https://www.industriales.upm.es/info-evento/jornadas-particulas-que-salvan-vidas-jornadas-sobre-radioisotopos-y-terapias-con-protones/
END:VEVENT
BEGIN:VEVENT
DTSTART;TZID=Europe/Madrid:20250521T100000
DTEND;TZID=Europe/Madrid:20250521T140000
DTSTAMP:20260422T015326
CREATED:20250430T095923Z
LAST-MODIFIED:20250430T095923Z
UID:10000975-1747821600-1747836000@www.industriales.upm.es
SUMMARY:Encuentro Red UGI
DESCRIPTION:Encuentro Red UGI :evento para todas las universidades españolas
URL:https://www.industriales.upm.es/info-evento/encuentro-red-ugi/
END:VEVENT
BEGIN:VEVENT
DTSTART;TZID=Europe/Madrid:20250521T093000
DTEND;TZID=Europe/Madrid:20250521T140000
DTSTAMP:20260422T015326
CREATED:20250514T092536Z
LAST-MODIFIED:20250514T131049Z
UID:10000991-1747819800-1747836000@www.industriales.upm.es
SUMMARY:“La nueva Ley de Industria y sus cimientos sociales\, económicos y tecnológicos”
DESCRIPTION:El miércoles 21 de mayo\, en la ETSII UPM se llevará a cabo la jornada “La nueva Ley de Industria y sus cimientos sociales\, económicos y tecnológicos”\, en la que académicos\, expertos y responsables de la política industrial del país\, analizarán y debatirán sobre los aspectos sociales\, económicos y tecnológicos que inciden en el desarrollo de esta Ley. \nLa jornada está organizada por Asociación Ex-Diputados y Ex-Senadores de las Cortes Generales\, con la colaboración de la Fundación para el Fomento de la Innovación Industrial (F2i2)\, la ETSII y la Universidad Politécnica de Madrid\, y cuenta con un atractivo programa que se desarrollará de las 9:30 a las 14:00 horas. \nEn la inauguración participarán Juan Van-Halen\, presidente de la Asociación de Exdiputados y Exsenadores de las Cortes Generales; Sergio Domínguez\, director de la ETSII-UPM; y Jordi García Brustenga\, director general de Estrategia Industrial y Pyme del Ministerio de Industria y Turismo. \nInmediatamente después\, tendrá lugar un primer panel que lleva por título “La industria y el factor humano”\, moderado por Elena Faba de la Encarnación\, coordinadora general del Instituto de Ciencia para el Medio Ambiente\, la Energía y la Industria (ICMEI)\, y en el que intervendrán Sergio Domínguez; Jesús Iriondo\, CEO de MASERMIC; y Judith García\, de Galiana Consulting. \nEl segundo panel\, moderado por Ignacio López\, profesor de la ETSII y patrono de la F2i2\, contará con la participación de Antonio Hidalgo\, director de la Cátedra de Política Industrial UPM-Mintur; José Luis González\, patrono de la F2i2; y Fabián Torres\, decano del Colegio Oficial de Ingenieros Industriales de Madrid (COIIM). Este panel se dedicará al análisis de “Las inversiones industriales y la localización industrial”. \nFinalmente\, en la clausura participarán Óscar García Suárez\, rector de la UPM; Jordi Hereu\, ministro de Industria y Turismo; Sergio Domínguez; y Fernando Sanz\, secretario general de la Asociación de Exdiputados y Exsenadores de las Cortes Generales. \nPara asistir a la jornada es necesario cumplimentar su registro. La inscripción es gratuita en el siguiente enlace https://lnkd.in/dPqaggps
URL:https://www.industriales.upm.es/info-evento/la-nueva-ley-de-industria-y-sus-cimientos-sociales-economicos-y-tecnologicos/
ATTACH;FMTTYPE=image/jpeg:https://www.industriales.upm.es/wp-content/uploads/2025/05/1747045614095.jpg
END:VEVENT
BEGIN:VEVENT
DTSTART;TZID=Europe/Madrid:20250520T173000
DTEND;TZID=Europe/Madrid:20250520T213000
DTSTAMP:20260422T015326
CREATED:20250226T084352Z
LAST-MODIFIED:20250226T084352Z
UID:10000859-1747762200-1747776600@www.industriales.upm.es
SUMMARY:34º Curso sobre Gestión de Residuos Radiactivos.
DESCRIPTION:34º Curso sobre gestión de Residuos Radiactivos. Organizado conjuntamente entre la UPM y el CIEMAT con el patrocinio de ENRESA
URL:https://www.industriales.upm.es/info-evento/34o-curso-sobre-gestion-de-residuos-radiactivos/
END:VEVENT
BEGIN:VEVENT
DTSTART;TZID=Europe/Madrid:20250519T190000
DTEND;TZID=Europe/Madrid:20250521T210000
DTSTAMP:20260422T015327
CREATED:20250506T104644Z
LAST-MODIFIED:20250506T104644Z
UID:10000979-1747681200-1747861200@www.industriales.upm.es
SUMMARY:Jornadas “Partículas que Salvan Vidas: Jornadas sobre radioisótopos y terapias con protones”
DESCRIPTION:Jornadas “Partículas que Salvan Vidas: Jornadas sobre radioisótopos y terapias con protones”\, organizadas por la Comisión de empleo y desarrollo profesional de la Sociedad Nuclear Espñola.
URL:https://www.industriales.upm.es/info-evento/jornadas-particulas-que-salvan-vidas-jornadas-sobre-radioisotopos-y-terapias-con-protones-2/
END:VEVENT
BEGIN:VEVENT
DTSTART;TZID=Europe/Madrid:20250519T083000
DTEND;TZID=Europe/Madrid:20250519T143000
DTSTAMP:20260422T015327
CREATED:20250408T143112Z
LAST-MODIFIED:20250408T143112Z
UID:10000958-1747643400-1747665000@www.industriales.upm.es
SUMMARY:Gala Ingenia
DESCRIPTION:Gala Ingenia del Máster en Ingeniería Industrial
URL:https://www.industriales.upm.es/info-evento/gala-ingenia-2/
END:VEVENT
BEGIN:VEVENT
DTSTART;TZID=Europe/Madrid:20250515T090000
DTEND;TZID=Europe/Madrid:20250515T143000
DTSTAMP:20260422T015327
CREATED:20250509T074242Z
LAST-MODIFIED:20250512T085452Z
UID:10000988-1747299600-1747319400@www.industriales.upm.es
SUMMARY:Exposición y desfile de vehículos históricos
DESCRIPTION:Accede al PROGRAMA COMPLETO del evento: A4 Automovil&Ingenieria_21
URL:https://www.industriales.upm.es/info-evento/exposicion-y-desfile-de-vehiculos-historicos/
ATTACH;FMTTYPE=image/jpeg:https://www.industriales.upm.es/wp-content/uploads/2025/05/1000009448-1.jpg
END:VEVENT
BEGIN:VEVENT
DTSTART;TZID=Europe/Madrid:20250513T133000
DTEND;TZID=Europe/Madrid:20250513T153000
DTSTAMP:20260422T015327
CREATED:20250509T071217Z
LAST-MODIFIED:20250509T071217Z
UID:10000987-1747143000-1747150200@www.industriales.upm.es
SUMMARY:Reunión con estudiantes
DESCRIPTION:
URL:https://www.industriales.upm.es/info-evento/reunion-con-estudiantes/
END:VEVENT
END:VCALENDAR