BEGIN:VCALENDAR
VERSION:2.0
PRODID:-//Escuela Técnica Superior Ingenieros Industriales - ECPv6.15.20//NONSGML v1.0//EN
CALSCALE:GREGORIAN
METHOD:PUBLISH
X-WR-CALNAME:Escuela Técnica Superior Ingenieros Industriales
X-ORIGINAL-URL:https://www.industriales.upm.es
X-WR-CALDESC:Eventos para Escuela Técnica Superior Ingenieros Industriales
REFRESH-INTERVAL;VALUE=DURATION:PT1H
X-Robots-Tag:noindex
X-PUBLISHED-TTL:PT1H
BEGIN:VTIMEZONE
TZID:Europe/Madrid
BEGIN:DAYLIGHT
TZOFFSETFROM:+0100
TZOFFSETTO:+0200
TZNAME:CEST
DTSTART:20240331T010000
END:DAYLIGHT
BEGIN:STANDARD
TZOFFSETFROM:+0200
TZOFFSETTO:+0100
TZNAME:CET
DTSTART:20241027T010000
END:STANDARD
BEGIN:DAYLIGHT
TZOFFSETFROM:+0100
TZOFFSETTO:+0200
TZNAME:CEST
DTSTART:20250330T010000
END:DAYLIGHT
BEGIN:STANDARD
TZOFFSETFROM:+0200
TZOFFSETTO:+0100
TZNAME:CET
DTSTART:20251026T010000
END:STANDARD
BEGIN:DAYLIGHT
TZOFFSETFROM:+0100
TZOFFSETTO:+0200
TZNAME:CEST
DTSTART:20260329T010000
END:DAYLIGHT
BEGIN:STANDARD
TZOFFSETFROM:+0200
TZOFFSETTO:+0100
TZNAME:CET
DTSTART:20261025T010000
END:STANDARD
END:VTIMEZONE
BEGIN:VEVENT
DTSTART;TZID=Europe/Madrid:20250513T133000
DTEND;TZID=Europe/Madrid:20250513T153000
DTSTAMP:20260422T001504
CREATED:20250509T071217Z
LAST-MODIFIED:20250509T071217Z
UID:10000987-1747143000-1747150200@www.industriales.upm.es
SUMMARY:Reunión con estudiantes
DESCRIPTION:
URL:https://www.industriales.upm.es/info-evento/reunion-con-estudiantes/
END:VEVENT
BEGIN:VEVENT
DTSTART;TZID=Europe/Madrid:20250513T100000
DTEND;TZID=Europe/Madrid:20250513T143000
DTSTAMP:20260422T001504
CREATED:20250310T114534Z
LAST-MODIFIED:20250310T114534Z
UID:10000878-1747130400-1747146600@www.industriales.upm.es
SUMMARY:Defensa de Tesis doctoral de Ramiro García Galán: “Modelo de coaching de equipos no directivo enfocado en el fortalecimiento del trabajo en equipo”
DESCRIPTION:
URL:https://www.industriales.upm.es/info-evento/defensa-de-tesis-doctoral-de-ramiro-garcia-galan-modelo-de-coaching-de-equipos-no-directivo-enfocado-en-el-fortalecimiento-del-trabajo-en-equipo/
END:VEVENT
BEGIN:VEVENT
DTSTART;TZID=Europe/Madrid:20250513T100000
DTEND;TZID=Europe/Madrid:20250513T140000
DTSTAMP:20260422T001504
CREATED:20250319T071749Z
LAST-MODIFIED:20250401T103740Z
UID:10000912-1747130400-1747144800@www.industriales.upm.es
SUMMARY:Defensa de Tesis Doctoral de Sara Romero: "Gobernanza y gestión colaborativa de espacios naturales urbanos para la adaptación climática. Un análisis socio-ecológico"
DESCRIPTION:Título de la tesis: «Gobernanza y gestión colaborativa de espacios naturales urbanos para la adaptación climática. Un análisis socio-ecológico»
URL:https://www.industriales.upm.es/info-evento/defensa-de-tesis-doctoral-de-sara-romero/
END:VEVENT
BEGIN:VEVENT
DTSTART;TZID=Europe/Madrid:20250512T153000
DTEND;TZID=Europe/Madrid:20250512T173000
DTSTAMP:20260422T001504
CREATED:20250423T064734Z
LAST-MODIFIED:20250423T064734Z
UID:10000969-1747063800-1747071000@www.industriales.upm.es
SUMMARY:Charla: El despertar de las máquinas conectadas. No todo es un capítulo de Black Mirror. Manuel Godoy\, Acciona.
DESCRIPTION:15:30 Charla: El despertar de las máquinas conectadas. No todo es un capítulo de Black Mirror.
URL:https://www.industriales.upm.es/info-evento/charla-el-despertar-de-las-maquinas-conectadas-no-todo-es-un-capitulo-de-black-mirror-manuel-godoy-acciona/
END:VEVENT
BEGIN:VEVENT
DTSTART;TZID=Europe/Madrid:20250512T133000
DTEND;TZID=Europe/Madrid:20250512T153000
DTSTAMP:20260422T001504
CREATED:20250408T141744Z
LAST-MODIFIED:20250408T141744Z
UID:10000957-1747056600-1747063800@www.industriales.upm.es
SUMMARY:Charla Movilidad Erasmus+ 2025/26
DESCRIPTION:
URL:https://www.industriales.upm.es/info-evento/charla-movilidad-erasmus-2025-26/
END:VEVENT
BEGIN:VEVENT
DTSTART;TZID=Europe/Madrid:20250509T190000
DTEND;TZID=Europe/Madrid:20250509T203000
DTSTAMP:20260422T001504
CREATED:20250430T101903Z
LAST-MODIFIED:20250507T115323Z
UID:10000977-1746817200-1746822600@www.industriales.upm.es
SUMMARY:Recital de piano
DESCRIPTION:Segundo recital de piano ofrecido por alumnos del RCSMM \n 
URL:https://www.industriales.upm.es/info-evento/recital-de-piano-3/
END:VEVENT
BEGIN:VEVENT
DTSTART;TZID=Europe/Madrid:20250508T190000
DTEND;TZID=Europe/Madrid:20250508T200000
DTSTAMP:20260422T001504
CREATED:20250430T100139Z
LAST-MODIFIED:20250430T100139Z
UID:10000976-1746730800-1746734400@www.industriales.upm.es
SUMMARY:IMIM Alumni
DESCRIPTION:
URL:https://www.industriales.upm.es/info-evento/imim-alumni/
END:VEVENT
BEGIN:VEVENT
DTSTART;TZID=Europe/Madrid:20250508T133000
DTEND;TZID=Europe/Madrid:20250508T153000
DTSTAMP:20260422T001504
CREATED:20250506T065501Z
LAST-MODIFIED:20250506T065501Z
UID:10000978-1746711000-1746718200@www.industriales.upm.es
SUMMARY:Reunión PDI modelo docente
DESCRIPTION:
URL:https://www.industriales.upm.es/info-evento/reunion-pdi-modelo-docente/
END:VEVENT
BEGIN:VEVENT
DTSTART;TZID=Europe/Madrid:20250508T090000
DTEND;TZID=Europe/Madrid:20250508T140000
DTSTAMP:20260422T001504
CREATED:20250403T130434Z
LAST-MODIFIED:20250403T130434Z
UID:10000952-1746694800-1746712800@www.industriales.upm.es
SUMMARY:Consejo Social
DESCRIPTION:
URL:https://www.industriales.upm.es/info-evento/consejo-social-2/
END:VEVENT
BEGIN:VEVENT
DTSTART;TZID=Europe/Madrid:20250506T143000
DTEND;TZID=Europe/Madrid:20250506T170000
DTSTAMP:20260422T001504
CREATED:20250428T062607Z
LAST-MODIFIED:20250428T062607Z
UID:10000973-1746541800-1746550800@www.industriales.upm.es
SUMMARY:Reunión club literario UPM
DESCRIPTION:Reunión club literario UPM
URL:https://www.industriales.upm.es/info-evento/reunion-club-literario-upm-3/
END:VEVENT
BEGIN:VEVENT
DTSTART;TZID=Europe/Madrid:20250506T083000
DTEND;TZID=Europe/Madrid:20250506T150000
DTSTAMP:20260422T001504
CREATED:20250411T115917Z
LAST-MODIFIED:20250411T115917Z
UID:10000962-1746520200-1746543600@www.industriales.upm.es
SUMMARY:Reunión proyecto europeo Vicerrectorado de Innovación
DESCRIPTION:Kick-off Meeting (reunión de lanzamiento de proyecto) del proyecto De-TECH financiado por el EIT-HEI de la Comisión Europea.
URL:https://www.industriales.upm.es/info-evento/reunion-proyecto-europeo-vicerrectorado-de-innovacion-3/
END:VEVENT
BEGIN:VEVENT
DTSTART;TZID=Europe/Madrid:20250506T080000
DTEND;TZID=Europe/Madrid:20250506T163000
DTSTAMP:20260422T001504
CREATED:20250429T091234Z
LAST-MODIFIED:20250429T091234Z
UID:10000974-1746518400-1746549000@www.industriales.upm.es
SUMMARY:Conferencia INORMS 2025
DESCRIPTION:
URL:https://www.industriales.upm.es/info-evento/conferencia-inorms-2025/
END:VEVENT
BEGIN:VEVENT
DTSTART;TZID=Europe/Madrid:20250505T120000
DTEND;TZID=Europe/Madrid:20250505T190000
DTSTAMP:20260422T001504
CREATED:20250411T115931Z
LAST-MODIFIED:20250411T115931Z
UID:10000964-1746446400-1746471600@www.industriales.upm.es
SUMMARY:Reunión proyecto europeo Vicerrectorado de Innovación
DESCRIPTION:Kick-off Meeting (reunión de lanzamiento de proyecto) del proyecto De-TECH financiado por el EIT-HEI de la Comisión Europea.
URL:https://www.industriales.upm.es/info-evento/reunion-proyecto-europeo-vicerrectorado-de-innovacion-6/
END:VEVENT
BEGIN:VEVENT
DTSTART;TZID=Europe/Madrid:20250430T133000
DTEND;TZID=Europe/Madrid:20250430T150000
DTSTAMP:20260422T001504
CREATED:20250408T115304Z
LAST-MODIFIED:20250408T115304Z
UID:10000956-1746019800-1746025200@www.industriales.upm.es
SUMMARY:Toma de posesión del Director de la ETSII
DESCRIPTION:Toma de posesión como Director de la ETSII
URL:https://www.industriales.upm.es/info-evento/toma-de-posesion-del-director-de-la-etsii/
END:VEVENT
BEGIN:VEVENT
DTSTART;TZID=Europe/Madrid:20250430T123000
DTEND;TZID=Europe/Madrid:20250430T153000
DTSTAMP:20260422T001504
CREATED:20250213T104152Z
LAST-MODIFIED:20250318T151003Z
UID:10000891-1746016200-1746027000@www.industriales.upm.es
SUMMARY:Talleres Programa ImportaTE
DESCRIPTION:Programa de Salud y Bienestar ETSII – Programa ImportaTE \nAula D
URL:https://www.industriales.upm.es/info-evento/talleres-programa-importate/2025-04-30/
END:VEVENT
BEGIN:VEVENT
DTSTART;TZID=Europe/Madrid:20250430T090000
DTEND;TZID=Europe/Madrid:20250430T150000
DTSTAMP:20260422T001504
CREATED:20250408T115004Z
LAST-MODIFIED:20250408T115004Z
UID:10000955-1746003600-1746025200@www.industriales.upm.es
SUMMARY:All2GsN- Every watt counts
DESCRIPTION:Reunión de seguimiento de un proyecto europeo
URL:https://www.industriales.upm.es/info-evento/all2gsn-every-watt-counts-2/
END:VEVENT
BEGIN:VEVENT
DTSTART;TZID=Europe/Madrid:20250430T090000
DTEND;TZID=Europe/Madrid:20250430T150000
DTSTAMP:20260422T001504
CREATED:20250408T115003Z
LAST-MODIFIED:20250408T115003Z
UID:10000954-1746003600-1746025200@www.industriales.upm.es
SUMMARY:All2GsN- Every watt counts
DESCRIPTION:Reunión de seguimiento de un proyecto europeo
URL:https://www.industriales.upm.es/info-evento/all2gsn-every-watt-counts/
END:VEVENT
BEGIN:VEVENT
DTSTART;TZID=Europe/Madrid:20250429T100000
DTEND;TZID=Europe/Madrid:20250429T140000
DTSTAMP:20260422T001504
CREATED:20250328T093029Z
LAST-MODIFIED:20250328T093029Z
UID:10000936-1745920800-1745935200@www.industriales.upm.es
SUMMARY:Defensa de Tesis Doctoral de Sergio Altares López: Automatic Generation of Optimized Quantum Circuits for Real-world Machine Learning Applications
DESCRIPTION:
URL:https://www.industriales.upm.es/info-evento/defensa-de-tesis-doctoral-de-sergio-altares-lopez-automatic-generation-of-optimized-quantum-circuits-for-real-world-machine-learning-applications/
END:VEVENT
BEGIN:VEVENT
DTSTART;TZID=Europe/Madrid:20250429T090000
DTEND;TZID=Europe/Madrid:20250430T150000
DTSTAMP:20260422T001504
CREATED:20250120T085801Z
LAST-MODIFIED:20250120T085801Z
UID:10000782-1745917200-1746025200@www.industriales.upm.es
SUMMARY:All2GaN- Every watt counts
DESCRIPTION:Reunión de seguimiento de un proyecto europeo
URL:https://www.industriales.upm.es/info-evento/all2gan-every-watt-counts/
END:VEVENT
BEGIN:VEVENT
DTSTART;TZID=Europe/Madrid:20250428T123000
DTEND;TZID=Europe/Madrid:20250428T153000
DTSTAMP:20260422T001504
CREATED:20250213T104152Z
LAST-MODIFIED:20250318T151003Z
UID:10000890-1745843400-1745854200@www.industriales.upm.es
SUMMARY:Talleres Programa ImportaTE
DESCRIPTION:Programa de Salud y Bienestar ETSII – Programa ImportaTE \nAula D
URL:https://www.industriales.upm.es/info-evento/talleres-programa-importate/2025-04-28/
END:VEVENT
BEGIN:VEVENT
DTSTART;TZID=Europe/Madrid:20250425T190000
DTEND;TZID=Europe/Madrid:20250425T210000
DTSTAMP:20260422T001504
CREATED:20241126T085151Z
LAST-MODIFIED:20250303T073029Z
UID:10000734-1745607600-1745614800@www.industriales.upm.es
SUMMARY:Recital de piano
DESCRIPTION:Concierto organizado por la ETSII y su ASOCIACIÓN DE ANTIGUOS ALUMNOS \nPuedes ver el programa detallado en VENTA DE ENTRADAS
URL:https://www.industriales.upm.es/info-evento/recital-de-piano-2/
CATEGORIES:Actuaciones (Música, Teatro, Cine)
ATTACH;FMTTYPE=image/jpeg:https://www.industriales.upm.es/wp-content/uploads/2024/11/CONCIERTO-25abr25-para-web-ETSII.jpg
END:VEVENT
BEGIN:VEVENT
DTSTART;TZID=Europe/Madrid:20250425T130000
DTEND;TZID=Europe/Madrid:20250425T150000
DTSTAMP:20260422T001504
CREATED:20250421T064607Z
LAST-MODIFIED:20250421T064607Z
UID:10000965-1745586000-1745593200@www.industriales.upm.es
SUMMARY:Entrega de premios Cybertech 2025
DESCRIPTION:
URL:https://www.industriales.upm.es/info-evento/entrega-de-premios-cybertech-2025/
END:VEVENT
BEGIN:VEVENT
DTSTART;TZID=Europe/Madrid:20250424T170000
DTEND;TZID=Europe/Madrid:20250424T180000
DTSTAMP:20260422T001504
CREATED:20250423T074159Z
LAST-MODIFIED:20250423T074159Z
UID:10000970-1745514000-1745517600@www.industriales.upm.es
SUMMARY:Presentación del Futuro Sistema Aéreo de Combate (FCAS)
DESCRIPTION:Presentación del Futuro Sistema Aéreo de Combate (FCAS)   Ponente: Carlos Baquero Barneto
URL:https://www.industriales.upm.es/info-evento/presentacion-del-futuro-sistema-aereo-de-combate-fcas/
END:VEVENT
BEGIN:VEVENT
DTSTART;TZID=Europe/Madrid:20250424T110000
DTEND;TZID=Europe/Madrid:20250424T143000
DTSTAMP:20260422T001504
CREATED:20250304T080444Z
LAST-MODIFIED:20250410T100958Z
UID:10000863-1745492400-1745505000@www.industriales.upm.es
SUMMARY:Defensa Tesis Doctoral de Adrián Caraballo
DESCRIPTION:Defensa Tesis Doctoral de Adrián Caraballo: El diagrama de equilibrio de fases LiCl-NaCl-KCl-SrC1 2 y su aplicación al diseño de materiales para el almacenamiento térmico de energía por calor sensible.
URL:https://www.industriales.upm.es/info-evento/defensa-tesis-doctoral-de-adrian-caraballo/
END:VEVENT
BEGIN:VEVENT
DTSTART;TZID=Europe/Madrid:20250424T083000
DTEND;TZID=Europe/Madrid:20250424T150000
DTSTAMP:20260422T001504
CREATED:20250304T084857Z
LAST-MODIFIED:20250304T084857Z
UID:10000864-1745483400-1745506800@www.industriales.upm.es
SUMMARY:La Protección Radiológica en 2024. Jornada anual de la Sociedad Española de Protección Radiológica
DESCRIPTION:Resultados de los programas reguladores en Protección Radiológica en 2024. Proyectos para 2025.   Presentaciones de resultados de investigación destacables de 2024.
URL:https://www.industriales.upm.es/info-evento/la-proteccion-radiologica-en-2024-jornada-anual-de-la-sociedad-espanola-de-proteccion-radiologica/
END:VEVENT
BEGIN:VEVENT
DTSTART;TZID=Europe/Madrid:20250424T080000
DTEND;TZID=Europe/Madrid:20250425T170000
DTSTAMP:20260422T001504
CREATED:20250305T113027Z
LAST-MODIFIED:20250306T082614Z
UID:10000870-1745481600-1745600400@www.industriales.upm.es
SUMMARY:II Torneo de Magic Commander
DESCRIPTION: II Torneo de Magic Commander en la ETSI Industriales. ⚔️🔥\n24 y 25 de abril\n\nEste año\, el torneo vuelve con más emoción\, estrategia enfrentamientos épicos. 🃏 Ya seas un mago experimentado o un nuevo planeswalker\, este torneo es para ti. ¡Afila tus estrategias y prepárate para el desafío! \n🏆 Detalles del torneo: \n·Formato: Commander con límite de 50€ por mazo (¡Proxies permitidos!)\n·Premios en función del número de inscritos\n·Abierto a jugadores de dentro y fuera de la UPM\n·Apto para novatos y veteranos \n📅 Fechas: 24 y 25 de abril\n📍 Lugar: ETSI Industriales (UPM)\n✏️ Inscripciones abiertas hasta el 14 de abril\n📝 Formulario de inscripción: https://forms.gle/ZBYF5MGBm4qUfLqm8\n📄 Bases del torneo: https://short.upm.es/4chef \n\n\n\n🎉 Si te apasiona Magic y quieres disfrutar del evento\, conocer nuevos jugadores y sumergirte en el mejor ambiente del juego\, este torneo es el lugar perfecto para ti. \n📩 Para cualquier duda\, contáctanos en: aceii.kw@gmail.com\n📷 Síguenos en Instagram: @aceii.kw \n\nOrganiza:\n🎩 ACEII – Kilowatio
URL:https://www.industriales.upm.es/info-evento/ii-torneo-de-magic-commander/
ATTACH;FMTTYPE=image/jpeg:https://www.industriales.upm.es/wp-content/uploads/2025/03/Commander.jpg
END:VEVENT
BEGIN:VEVENT
DTSTART;TZID=Europe/Madrid:20250423T133000
DTEND;TZID=Europe/Madrid:20250423T153000
DTSTAMP:20260422T001504
CREATED:20250328T105236Z
LAST-MODIFIED:20250328T105236Z
UID:10000938-1745415000-1745422200@www.industriales.upm.es
SUMMARY:Seminario Finanzas Personales
DESCRIPTION:
URL:https://www.industriales.upm.es/info-evento/seminario-finanzas-personales/
END:VEVENT
BEGIN:VEVENT
DTSTART;TZID=Europe/Madrid:20250423T123000
DTEND;TZID=Europe/Madrid:20250423T153000
DTSTAMP:20260422T001504
CREATED:20250213T104152Z
LAST-MODIFIED:20250318T151003Z
UID:10000889-1745411400-1745422200@www.industriales.upm.es
SUMMARY:Talleres Programa ImportaTE
DESCRIPTION:Programa de Salud y Bienestar ETSII – Programa ImportaTE \nAula D
URL:https://www.industriales.upm.es/info-evento/talleres-programa-importate/2025-04-23/
END:VEVENT
BEGIN:VEVENT
DTSTART;TZID=Europe/Madrid:20250422T153000
DTEND;TZID=Europe/Madrid:20250422T193000
DTSTAMP:20260422T001504
CREATED:20250409T080119Z
LAST-MODIFIED:20250409T080119Z
UID:10000960-1745335800-1745350200@www.industriales.upm.es
SUMMARY:Defensa de la tesis doctoral Three-port Electrical Energy Converters Integrated with Storage for Photovoltaic Systems with Partial Power Regulation? por Donghui Ye
DESCRIPTION:
URL:https://www.industriales.upm.es/info-evento/defensa-de-la-tesis-doctoral-three-port-electrical-energy-converters-integrated-with-storage-for-photovoltaic-systems-with-partial-power-regulation-por-donghui-ye/
END:VEVENT
BEGIN:VEVENT
DTSTART;TZID=Europe/Madrid:20250422T143000
DTEND;TZID=Europe/Madrid:20250422T170000
DTSTAMP:20260422T001504
CREATED:20250404T072819Z
LAST-MODIFIED:20250404T072819Z
UID:10000953-1745332200-1745341200@www.industriales.upm.es
SUMMARY:Reunión club literario UPM
DESCRIPTION:Reunión club literario UPM
URL:https://www.industriales.upm.es/info-evento/reunion-club-literario-upm-2/
END:VEVENT
END:VCALENDAR