BEGIN:VCALENDAR
VERSION:2.0
PRODID:-//Escuela Técnica Superior Ingenieros Industriales - ECPv6.15.20//NONSGML v1.0//EN
CALSCALE:GREGORIAN
METHOD:PUBLISH
X-ORIGINAL-URL:https://www.industriales.upm.es
X-WR-CALDESC:Eventos para Escuela Técnica Superior Ingenieros Industriales
REFRESH-INTERVAL;VALUE=DURATION:PT1H
X-Robots-Tag:noindex
X-PUBLISHED-TTL:PT1H
BEGIN:VTIMEZONE
TZID:Europe/Madrid
BEGIN:DAYLIGHT
TZOFFSETFROM:+0100
TZOFFSETTO:+0200
TZNAME:CEST
DTSTART:20240331T010000
END:DAYLIGHT
BEGIN:STANDARD
TZOFFSETFROM:+0200
TZOFFSETTO:+0100
TZNAME:CET
DTSTART:20241027T010000
END:STANDARD
BEGIN:DAYLIGHT
TZOFFSETFROM:+0100
TZOFFSETTO:+0200
TZNAME:CEST
DTSTART:20250330T010000
END:DAYLIGHT
BEGIN:STANDARD
TZOFFSETFROM:+0200
TZOFFSETTO:+0100
TZNAME:CET
DTSTART:20251026T010000
END:STANDARD
BEGIN:DAYLIGHT
TZOFFSETFROM:+0100
TZOFFSETTO:+0200
TZNAME:CEST
DTSTART:20260329T010000
END:DAYLIGHT
BEGIN:STANDARD
TZOFFSETFROM:+0200
TZOFFSETTO:+0100
TZNAME:CET
DTSTART:20261025T010000
END:STANDARD
END:VTIMEZONE
BEGIN:VEVENT
DTSTART;TZID=Europe/Madrid:20250614T080000
DTEND;TZID=Europe/Madrid:20250615T170000
DTSTAMP:20260422T032735
CREATED:20250606T071759Z
LAST-MODIFIED:20250606T071759Z
UID:10001017-1749888000-1750006800@www.industriales.upm.es
SUMMARY:Conciertos del Coro Semicírculo. Sábado 14 y domingo 15
DESCRIPTION:
URL:https://www.industriales.upm.es/info-evento/conciertos-del-coro-semicirculo-sabado-14-y-domingo-15/
ATTACH;FMTTYPE=image/jpeg:https://www.industriales.upm.es/wp-content/uploads/2025/06/PHOTO-2025-05-30-13-42-34.jpg
END:VEVENT
BEGIN:VEVENT
DTSTART;TZID=Europe/Madrid:20250617T090000
DTEND;TZID=Europe/Madrid:20250617T140000
DTSTAMP:20260422T032735
CREATED:20250326T130521Z
LAST-MODIFIED:20250326T130521Z
UID:10000933-1750150800-1750168800@www.industriales.upm.es
SUMMARY:Reglamento de Reutilización del agua
DESCRIPTION:Sesión en torno a la implementación del Reglamento de Reutilización del agua
URL:https://www.industriales.upm.es/info-evento/reglamento-de-reutilizacion-del-agua/
END:VEVENT
BEGIN:VEVENT
DTSTART;TZID=Europe/Madrid:20250619T080000
DTEND;TZID=Europe/Madrid:20250619T180000
DTSTAMP:20260422T032735
CREATED:20250522T152937Z
LAST-MODIFIED:20250604T104542Z
UID:10000994-1750320000-1750356000@www.industriales.upm.es
SUMMARY:Final del Concurso Escolar LA INGENIERIA EN TUS MANOS
DESCRIPTION:Final del Concurso Escolar LA INGENIERIA EN TUS MANOS
URL:https://www.industriales.upm.es/info-evento/final-del-concurso-escolar-la-ingenieria-en-tus-manos/
ATTACH;FMTTYPE=image/jpeg:https://www.industriales.upm.es/wp-content/uploads/2025/05/1-1.jpg
END:VEVENT
BEGIN:VEVENT
DTSTART;TZID=Europe/Madrid:20250619T080000
DTEND;TZID=Europe/Madrid:20250620T200000
DTSTAMP:20260422T032735
CREATED:20250218T120037Z
LAST-MODIFIED:20250311T161153Z
UID:10000846-1750320000-1750449600@www.industriales.upm.es
SUMMARY:CEI Annual Meeting 2025
DESCRIPTION:
URL:https://www.industriales.upm.es/info-evento/cei-annual-meeting-2025-3/
END:VEVENT
BEGIN:VEVENT
DTSTART;TZID=Europe/Madrid:20250619T180000
DTEND;TZID=Europe/Madrid:20250619T200000
DTSTAMP:20260422T032735
CREATED:20250603T121240Z
LAST-MODIFIED:20250603T121240Z
UID:10001014-1750356000-1750363200@www.industriales.upm.es
SUMMARY:Acto de entrega de premios para las competiciones internas y externas de la ETSII
DESCRIPTION:Acto de entrega de premios para las competiciones internas y externas de la ETSII
URL:https://www.industriales.upm.es/info-evento/acto-de-entrega-de-premios-para-las-competiciones-internas-y-externas-de-la-etsii/
END:VEVENT
BEGIN:VEVENT
DTSTART;TZID=Europe/Madrid:20250620T080000
DTEND;TZID=Europe/Madrid:20250620T140000
DTSTAMP:20260422T032735
CREATED:20250529T104814Z
LAST-MODIFIED:20250529T104814Z
UID:10001010-1750406400-1750428000@www.industriales.upm.es
SUMMARY:El evento final de  la actividad GENIUS de Elissa.
DESCRIPTION:El evento final de  la actividad GENIUS de Elissa.
URL:https://www.industriales.upm.es/info-evento/el-evento-final-de-la-actividad-genius-de-elissa/
END:VEVENT
BEGIN:VEVENT
DTSTART;TZID=Europe/Madrid:20250620T103000
DTEND;TZID=Europe/Madrid:20250620T120000
DTSTAMP:20260422T032735
CREATED:20250507T103609Z
LAST-MODIFIED:20250507T103609Z
UID:10000983-1750415400-1750420800@www.industriales.upm.es
SUMMARY:CEI Annual Meeting
DESCRIPTION:
URL:https://www.industriales.upm.es/info-evento/cei-annual-meeting/
END:VEVENT
BEGIN:VEVENT
DTSTART;TZID=Europe/Madrid:20250620T170000
DTEND;TZID=Europe/Madrid:20250620T200000
DTSTAMP:20260422T032735
CREATED:20250602T075431Z
LAST-MODIFIED:20250602T075548Z
UID:10001011-1750438800-1750449600@www.industriales.upm.es
SUMMARY:Jornada de Puertas Abiertas. 20 junio.
DESCRIPTION:Jornada de Puertas Abiertas\n\n\n\n\n20 de junio de 2024. 17:00h. Entrada libre\nEscuela Técnica Superior de Ingenieros Industriales. Universidad Politécnica de Madrid.Calle José Gutiérrez Abascal\, 2. 28006 Madrid. \nExplicaremos con detalle los grados que se imparten en nuestra Escuela: Grado en Ingeniería en Tecnologías Industriales\, Grado en Ingeniería de Organización\, Grado en Ingeniería Química\, y el Programa Académico de Ingeniero/a Industrial una forma de acceso a la carrera de Ingeniería Industrial que incluye el Grado y el Máster habilitante en un solo plan de estudios. También hablaremos de las posibilidades de estudiar en universidades de todo el mundo\, aspecto en el que nuestra Escuela es un centro destacadísimo\, así como la empleabilidad de este tipo de profesiones. Para terminar la jornada visitaremos diferentes laboratorios de nuestro centro. \nQuieres saber que hace un/a ingeniero/a industrial\, Clara Molina te lo cuenta. Ver vídeo \nPLANES DE ESTUDIO \nGRADOS \nPROGRAMA ACADÉMICO DE INGENIERO/A INDUSTRIAL 
URL:https://www.industriales.upm.es/info-evento/jornada-de-puertas-abiertas-20-junio/
ATTACH;FMTTYPE=image/png:https://www.industriales.upm.es/wp-content/uploads/2024/07/bienvenidos.png
END:VEVENT
BEGIN:VEVENT
DTSTART;TZID=Europe/Madrid:20250623T083000
DTEND;TZID=Europe/Madrid:20250623T150000
DTSTAMP:20260422T032736
CREATED:20250604T075610Z
LAST-MODIFIED:20250604T075610Z
UID:10001015-1750667400-1750690800@www.industriales.upm.es
SUMMARY:Lectura de Tesis. ADRIÁN LÓPEZ ARRABAL. “Engineering Design Methodology for Robot-Based Non-Planar Additive Manufacturing (RbNPAM)”. Director: Andrés Díaz Lantada. Aula C.
DESCRIPTION:Doctorado en Ingeniería Mecánica
URL:https://www.industriales.upm.es/info-evento/lectura-de-tesis-adrian-lopez-arrabal-engineering-design-methodology-for-robot-based-non-planar-additive-manufacturing-rbnpam-director-andres-diaz-lantada-aula-c/
END:VEVENT
BEGIN:VEVENT
DTSTART;TZID=Europe/Madrid:20250623T090000
DTEND;TZID=Europe/Madrid:20250627T200000
DTSTAMP:20260422T032736
CREATED:20250617T070824Z
LAST-MODIFIED:20250617T070824Z
UID:10001030-1750669200-1751054400@www.industriales.upm.es
SUMMARY:Comisión de selección Plazas Ayudante Doctor
DESCRIPTION:
URL:https://www.industriales.upm.es/info-evento/comision-de-seleccion-plazas-ayudante-doctor/
END:VEVENT
BEGIN:VEVENT
DTSTART;TZID=Europe/Madrid:20250623T130000
DTEND;TZID=Europe/Madrid:20250623T153000
DTSTAMP:20260422T032736
CREATED:20250610T074604Z
LAST-MODIFIED:20250610T074604Z
UID:10001019-1750683600-1750692600@www.industriales.upm.es
SUMMARY:Coloquio doctoral: Uso de la IA en investigación
DESCRIPTION:Presentación y debate posterior sobre el tema.
URL:https://www.industriales.upm.es/info-evento/coloquio-doctoral-uso-de-la-ia-en-investigacion/
END:VEVENT
BEGIN:VEVENT
DTSTART;TZID=Europe/Madrid:20250624T080000
DTEND;TZID=Europe/Madrid:20250624T140000
DTSTAMP:20260422T032736
CREATED:20250507T103643Z
LAST-MODIFIED:20250507T103643Z
UID:10000984-1750752000-1750773600@www.industriales.upm.es
SUMMARY:Acto entrega IX Premio Acerinox
DESCRIPTION:
URL:https://www.industriales.upm.es/info-evento/acto-entrega-ix-premio-acerinox/
END:VEVENT
BEGIN:VEVENT
DTSTART;TZID=Europe/Madrid:20250624T090000
DTEND;TZID=Europe/Madrid:20250624T113000
DTSTAMP:20260422T032736
CREATED:20250606T070518Z
LAST-MODIFIED:20250606T070518Z
UID:10001016-1750755600-1750764600@www.industriales.upm.es
SUMMARY:Reunión Directiva ACERINOX
DESCRIPTION:
URL:https://www.industriales.upm.es/info-evento/reunion-directiva-acerinox/
END:VEVENT
BEGIN:VEVENT
DTSTART;TZID=Europe/Madrid:20250624T090000
DTEND;TZID=Europe/Madrid:20250627T200000
DTSTAMP:20260422T032736
CREATED:20250617T070846Z
LAST-MODIFIED:20250617T070846Z
UID:10001031-1750755600-1751054400@www.industriales.upm.es
SUMMARY:Concurso Plazas Ayudante Doctor
DESCRIPTION:
URL:https://www.industriales.upm.es/info-evento/concurso-plazas-ayudante-doctor/
END:VEVENT
BEGIN:VEVENT
DTSTART;TZID=Europe/Madrid:20250625T090000
DTEND;TZID=Europe/Madrid:20250627T200000
DTSTAMP:20260422T032736
CREATED:20250617T070901Z
LAST-MODIFIED:20250617T070901Z
UID:10001032-1750842000-1751054400@www.industriales.upm.es
SUMMARY:Comisión selección Plazas Ayudante Doctor
DESCRIPTION:
URL:https://www.industriales.upm.es/info-evento/comision-seleccion-plazas-ayudante-doctor/
END:VEVENT
BEGIN:VEVENT
DTSTART;TZID=Europe/Madrid:20250625T100000
DTEND;TZID=Europe/Madrid:20250625T120000
DTSTAMP:20260422T032736
CREATED:20250612T161914Z
LAST-MODIFIED:20250612T161914Z
UID:10001026-1750845600-1750852800@www.industriales.upm.es
SUMMARY:REUNION SEMESTRAL DE LA FUNDACIÓN ARTIGAS
DESCRIPTION:REUNIÓN SEMESTRAL DE LA FUNDACIÓN ARTIGAS
URL:https://www.industriales.upm.es/info-evento/reunion-semestral-de-la-fundacion-artigas-3/
END:VEVENT
BEGIN:VEVENT
DTSTART;TZID=Europe/Madrid:20250625T110000
DTEND;TZID=Europe/Madrid:20250625T140000
DTSTAMP:20260422T032736
CREATED:20250526T105216Z
LAST-MODIFIED:20250526T105216Z
UID:10001004-1750849200-1750860000@www.industriales.upm.es
SUMMARY:Forecasting Methods under Shifting Conditions: Application to Electricity Markets
DESCRIPTION:Lectura de Tesis: CARLOS SEBASTIÁN MARTÍNEZ CAVA. «Forecasting Methods under Shifting Conditions: Application to Electricity Marke»\nDirectores: Carlos Eduardo González Guillén y Jesús Juan Ruiz\nAula C
URL:https://www.industriales.upm.es/info-evento/forecasting-methods-under-shifting-conditions-application-to-electricity-markets/
END:VEVENT
BEGIN:VEVENT
DTSTART;TZID=Europe/Madrid:20250626T090000
DTEND;TZID=Europe/Madrid:20250626T200000
DTSTAMP:20260422T032736
CREATED:20250617T070914Z
LAST-MODIFIED:20250617T070914Z
UID:10001033-1750928400-1750968000@www.industriales.upm.es
SUMMARY:Concurso plazas de Ayudante Doctor
DESCRIPTION:
URL:https://www.industriales.upm.es/info-evento/concurso-plazas-de-ayudante-doctor/
END:VEVENT
BEGIN:VEVENT
DTSTART;TZID=Europe/Madrid:20250627T090000
DTEND;TZID=Europe/Madrid:20250627T200000
DTSTAMP:20260422T032736
CREATED:20250616T122337Z
LAST-MODIFIED:20250616T122337Z
UID:10001029-1751014800-1751054400@www.industriales.upm.es
SUMMARY:Comisión selección plazas de ayudante doctor
DESCRIPTION:
URL:https://www.industriales.upm.es/info-evento/comision-seleccion-plazas-de-ayudante-doctor/
END:VEVENT
BEGIN:VEVENT
DTSTART;TZID=Europe/Madrid:20250627T120000
DTEND;TZID=Europe/Madrid:20250627T163000
DTSTAMP:20260422T032736
CREATED:20250625T073529Z
LAST-MODIFIED:20250625T073529Z
UID:10001037-1751025600-1751041800@www.industriales.upm.es
SUMMARY:Reunión UPM con Delagación de Tonji -Shanghai-China
DESCRIPTION:12;30 Reception  13:00 -13:30 Institutional presentation of the participants  13:30-14:00  Inputs from Chinese Delagation  14:00-15:00  Dialogue between the Chinese delegation and the UPM on R&D topics   15:00-15:30 Conclusions  15:30            Closure of the meeting  15:30-16:30  Informal meeting
URL:https://www.industriales.upm.es/info-evento/reunion-upm-con-delagacion-de-tonji-shanghai-china/
END:VEVENT
BEGIN:VEVENT
DTSTART;TZID=Europe/Madrid:20250627T173000
DTEND;TZID=Europe/Madrid:20250627T203000
DTSTAMP:20260422T032736
CREATED:20250224T092348Z
LAST-MODIFIED:20250224T092348Z
UID:10000854-1751045400-1751056200@www.industriales.upm.es
SUMMARY:Cierre Experto en Gestión de Productos Sanitarios y entrega diplomas
DESCRIPTION:Cierre del la VI Edición del Curso de Experto en GEstión de PRoductos Sanitarios\, de la UPM\, realizado en colaboración con la Agencia Española del Medicamento y Productos Sanitarios y la FENIN\, y dirigido por D. Andrés Díaz Lantada.    Entrega de Diplomas
URL:https://www.industriales.upm.es/info-evento/cierre-experto-en-gestion-de-productos-sanitarios-y-entrega-diplomas/
END:VEVENT
BEGIN:VEVENT
DTSTART;TZID=Europe/Madrid:20250630T133000
DTEND;TZID=Europe/Madrid:20250630T143000
DTSTAMP:20260422T032736
CREATED:20250521T133722Z
LAST-MODIFIED:20250521T133722Z
UID:10000992-1751290200-1751293800@www.industriales.upm.es
SUMMARY:Consejo de Escuela
DESCRIPTION:
URL:https://www.industriales.upm.es/info-evento/consejo-de-escuela/
END:VEVENT
BEGIN:VEVENT
DTSTART;TZID=Europe/Madrid:20250701T083000
DTEND;TZID=Europe/Madrid:20250701T143000
DTSTAMP:20260422T032736
CREATED:20250527T154613Z
LAST-MODIFIED:20250527T154613Z
UID:10001006-1751358600-1751380200@www.industriales.upm.es
SUMMARY:Claustro UPM
DESCRIPTION:
URL:https://www.industriales.upm.es/info-evento/claustro-upm/
END:VEVENT
BEGIN:VEVENT
DTSTART;TZID=Europe/Madrid:20250702T123000
DTEND;TZID=Europe/Madrid:20250702T140000
DTSTAMP:20260422T032736
CREATED:20250625T173521Z
LAST-MODIFIED:20250625T173521Z
UID:10001040-1751459400-1751464800@www.industriales.upm.es
SUMMARY:Consejo de Escuela
DESCRIPTION:
URL:https://www.industriales.upm.es/info-evento/consejo-de-escuela-2/
LOCATION:Aula C
END:VEVENT
BEGIN:VEVENT
DTSTART;TZID=Europe/Madrid:20250703T110000
DTEND;TZID=Europe/Madrid:20250703T150000
DTSTAMP:20260422T032736
CREATED:20250611T071114Z
LAST-MODIFIED:20250623T070003Z
UID:10001025-1751540400-1751554800@www.industriales.upm.es
SUMMARY:Defensa Tesis Doctoral. Ricardo Felez Val."Methodology for optimizing residential energy consumption through integrated Thermal Energy Storage and intelligent HVAC control"
DESCRIPTION:
URL:https://www.industriales.upm.es/info-evento/defensa-tesis-doctoral-de-ricardo-felez-val-titulada-methodology-for-optimizing-residential-energy-consumption-through-integrated-thermal-energy-storage-and-intelligent-hvac-control/
END:VEVENT
BEGIN:VEVENT
DTSTART;TZID=Europe/Madrid:20250703T123000
DTEND;TZID=Europe/Madrid:20250703T140000
DTSTAMP:20260422T032736
CREATED:20250625T173331Z
LAST-MODIFIED:20250630T063550Z
UID:10001039-1751545800-1751551200@www.industriales.upm.es
SUMMARY:Charla "Romper barreras\, construir conocimiento: personas  LGTBIQA+ en ciencia y tecnología"
DESCRIPTION:A cargo de: Pedro Carlos Feijoo Guerro\, PDI del Departamento de Matemática Aplicada a la Ingeniería Industrial de la ETSI Industriales y miembro de Prisma\, y Makrina Agaoglou\, PDI del Departamento de Matemática Aplicada a la Ingeniería Industrial de la ETSI Industriales.
URL:https://www.industriales.upm.es/info-evento/charla-romper-barreras-construir-conicimiento-personal-ltbtiqa-en-ciencia-y-tecnologia/
LOCATION:Aula D
ATTACH;FMTTYPE=image/jpeg:https://www.industriales.upm.es/wp-content/uploads/2025/06/01-cartel-28J-2025-b-scaled.jpg
END:VEVENT
BEGIN:VEVENT
DTSTART;TZID=Europe/Madrid:20250704T190000
DTEND;TZID=Europe/Madrid:20250704T203000
DTSTAMP:20260422T032736
CREATED:20250618T065137Z
LAST-MODIFIED:20250618T065137Z
UID:10001034-1751655600-1751661000@www.industriales.upm.es
SUMMARY:Master Class de Richard Vaughan.
DESCRIPTION:Master Class de Richard Vaughan.
URL:https://www.industriales.upm.es/info-evento/master-class-de-richard-vaughan/
END:VEVENT
BEGIN:VEVENT
DTSTART;TZID=Europe/Madrid:20250707T080000
DTEND;TZID=Europe/Madrid:20250710T150000
DTSTAMP:20260422T032736
CREATED:20250403T110230Z
LAST-MODIFIED:20250403T110230Z
UID:10000949-1751875200-1752159600@www.industriales.upm.es
SUMMARY:VERANO 3D
DESCRIPTION:
URL:https://www.industriales.upm.es/info-evento/verano-3d-2/
END:VEVENT
BEGIN:VEVENT
DTSTART;TZID=Europe/Madrid:20250708T080000
DTEND;TZID=Europe/Madrid:20250709T140000
DTSTAMP:20260422T032736
CREATED:20250703T065700Z
LAST-MODIFIED:20250703T071332Z
UID:10001055-1751961600-1752069600@www.industriales.upm.es
SUMMARY:Curso de Verano UPM CESEDEN 2025: La energía de la defensa y la seguridad: la sostenibilidad y la eficiencia en el punto de mira
DESCRIPTION:Cátedra Ingeniero General D. Antonio Remón Zarco del Valle. Universidad Politécnica de Madrid y Centro Superior de Estudios de la Defensa Nacional \nCURSOS DE VERANO UPM CESEDEN 2025\n«La energía de la defensa y la seguridad: la sostenibilidad y la eficiencia en el punto de mira».\n8 y 9 de julio 2025\nDescubre los desafíos y oportunidades de la transición energética en el ámbito de la defensa los días 8 y 9 de julio en la ETSII-UPM. Un programa de alto nivel con expertos del Ejército\, la Universidad y la Industria que abordará tecnologías como el hidrógeno\, baterías avanzadas o energía espacial. Asiste presencialmente o en streaming y obtén diploma (y ECTS si eres estudiante UPM).🔗 Inscripciones: https://blogs.upm.es/catedra-ceseden-upm/ \nPrograma curso de verano energía 8 y 9 de julio 2025_v14
URL:https://www.industriales.upm.es/info-evento/curso-de-verano-upm-2025-energia-defensa-y-seguridad/
LOCATION:Salón de ACTOS
ATTACH;FMTTYPE=image/jpeg:https://www.industriales.upm.es/wp-content/uploads/2025/07/Presentacion1.jpg
END:VEVENT
BEGIN:VEVENT
DTSTART;TZID=Europe/Madrid:20250708T083000
DTEND;TZID=Europe/Madrid:20250709T153000
DTSTAMP:20260422T032736
CREATED:20250528T140118Z
LAST-MODIFIED:20250528T140118Z
UID:10001008-1751963400-1752075000@www.industriales.upm.es
SUMMARY:Cursos UPM-CESEDEN
DESCRIPTION:
URL:https://www.industriales.upm.es/info-evento/cursos-upm-ceseden-2/
END:VEVENT
END:VCALENDAR