BEGIN:VCALENDAR
VERSION:2.0
PRODID:-//Escuela Técnica Superior Ingenieros Industriales - ECPv6.15.20//NONSGML v1.0//EN
CALSCALE:GREGORIAN
METHOD:PUBLISH
X-WR-CALNAME:Escuela Técnica Superior Ingenieros Industriales
X-ORIGINAL-URL:https://www.industriales.upm.es
X-WR-CALDESC:Eventos para Escuela Técnica Superior Ingenieros Industriales
REFRESH-INTERVAL;VALUE=DURATION:PT1H
X-Robots-Tag:noindex
X-PUBLISHED-TTL:PT1H
BEGIN:VTIMEZONE
TZID:Europe/Madrid
BEGIN:DAYLIGHT
TZOFFSETFROM:+0100
TZOFFSETTO:+0200
TZNAME:CEST
DTSTART:20220327T010000
END:DAYLIGHT
BEGIN:STANDARD
TZOFFSETFROM:+0200
TZOFFSETTO:+0100
TZNAME:CET
DTSTART:20221030T010000
END:STANDARD
BEGIN:DAYLIGHT
TZOFFSETFROM:+0100
TZOFFSETTO:+0200
TZNAME:CEST
DTSTART:20230326T010000
END:DAYLIGHT
BEGIN:STANDARD
TZOFFSETFROM:+0200
TZOFFSETTO:+0100
TZNAME:CET
DTSTART:20231029T010000
END:STANDARD
BEGIN:DAYLIGHT
TZOFFSETFROM:+0100
TZOFFSETTO:+0200
TZNAME:CEST
DTSTART:20240331T010000
END:DAYLIGHT
BEGIN:STANDARD
TZOFFSETFROM:+0200
TZOFFSETTO:+0100
TZNAME:CET
DTSTART:20241027T010000
END:STANDARD
END:VTIMEZONE
BEGIN:VEVENT
DTSTART;TZID=Europe/Madrid:20231222T100000
DTEND;TZID=Europe/Madrid:20231222T130000
DTSTAMP:20260422T015341
CREATED:20231214T105640Z
LAST-MODIFIED:20231214T105640Z
UID:10000494-1703239200-1703250000@www.industriales.upm.es
SUMMARY:Defensa de Tesis Doctoral "Advanced implementation of the spray safety system into a 3d-gothic pwr-w containment model and its impact on the hydrogen combustion risk" por Carlos Vázquez Rodriguez
DESCRIPTION:
URL:https://www.industriales.upm.es/info-evento/defensa-de-tesis-doctoral-advanced-implementation-of-the-spray-safety-system-into-a-3d-gothic-pwr-w-containment-model-and-its-impact-on-the-hydrogen-combustion-risk-por-carlos-vazquez-rodriguez/
LOCATION:Aula D
CATEGORIES:Defensa Tesis Doctoral
END:VEVENT
BEGIN:VEVENT
DTSTART;TZID=Europe/Madrid:20231219T190000
DTEND;TZID=Europe/Madrid:20231219T213000
DTSTAMP:20260422T015341
CREATED:20231212T112514Z
LAST-MODIFIED:20231214T160915Z
UID:10000493-1703012400-1703021400@www.industriales.upm.es
SUMMARY:Ciclo de conferencias del Máster en Ingeniería de Automoción: “Retos tecnológicos en la nueva arquitectura de los coches eléctricos”
DESCRIPTION:Actividad formativa complementaria al máster de ingeniería de automoción.
URL:https://www.industriales.upm.es/info-evento/ciclo-de-conferencias-del-master-en-ingenieria-de-automocion-2/
LOCATION:Salón de ACTOS
CATEGORIES:Ciclo de Conferencias
END:VEVENT
BEGIN:VEVENT
DTSTART;TZID=Europe/Madrid:20231219T130000
DTEND;TZID=Europe/Madrid:20231219T170000
DTSTAMP:20260422T015341
CREATED:20231128T101747Z
LAST-MODIFIED:20231128T101748Z
UID:10000485-1702990800-1703005200@www.industriales.upm.es
SUMMARY:Copa de Navidad
DESCRIPTION:
URL:https://www.industriales.upm.es/info-evento/copa-de-navidad/
LOCATION:Sala de la Máquina
CATEGORIES:Acto Institucional
ATTACH;FMTTYPE=image/png:https://www.industriales.upm.es/wp-content/uploads/2023/11/Felices-fiestas2.png
END:VEVENT
BEGIN:VEVENT
DTSTART;TZID=Europe/Madrid:20231219T090000
DTEND;TZID=Europe/Madrid:20231219T150000
DTSTAMP:20260422T015341
CREATED:20231212T105836Z
LAST-MODIFIED:20231212T105836Z
UID:10000489-1702976400-1702998000@www.industriales.upm.es
SUMMARY:Defensa de Tesis Doctoral "Autonomous Fixed Wing Unmanned Air Vehicle GNSS-Denied Navigation: Fusion of Extended Kalman Filter in SE (3) Manifold with Inertially Assisted Semi-Direct Visual Odometry" por Eduardo Gallo Olalla
DESCRIPTION:
URL:https://www.industriales.upm.es/info-evento/defensa-de-tesis-doctoral-autonomous-fixed-wing-unmanned-air-vehicle-gnss-denied-navigation-fusion-of-extended-kalman-filter-in-se-3-manifold-with-inertially-assisted-semi-direct-visual-odometry/
LOCATION:Aula C
CATEGORIES:Defensa Tesis Doctoral
END:VEVENT
BEGIN:VEVENT
DTSTART;TZID=Europe/Madrid:20231218T160000
DTEND;TZID=Europe/Madrid:20231218T170000
DTSTAMP:20260422T015341
CREATED:20230928T103009Z
LAST-MODIFIED:20230928T103009Z
UID:10000425-1702915200-1702918800@www.industriales.upm.es
SUMMARY:Ruta guiada por la Escuela
DESCRIPTION:Ruta de aproximadamente una hora de duración por lugares que normalmente no están accesibles a todos y durante la cual se conocerán datos de la historia de este edificio singular y sucesos ocurridos desde su construcción. Punto de encuentro: puerta principal-conserjería.
URL:https://www.industriales.upm.es/info-evento/ruta-guiada-por-la-escuela-3/2023-12-18/
END:VEVENT
BEGIN:VEVENT
DTSTART;TZID=Europe/Madrid:20231218T090000
DTEND;TZID=Europe/Madrid:20231218T150000
DTSTAMP:20260422T015341
CREATED:20231212T110212Z
LAST-MODIFIED:20231212T110212Z
UID:10000490-1702890000-1702911600@www.industriales.upm.es
SUMMARY:Defensa de Tesis Doctoral "Model-based control of a modular legged-and-climbing robotic organism with gravity compensation" por Carlos Prados Sesmero
DESCRIPTION:
URL:https://www.industriales.upm.es/info-evento/defensa-de-tesis-doctoral-model-based-control-of-a-modular-legged-and-climbing-robotic-organism-with-gravity-compensation-por-carlos-prados-sesmero/
LOCATION:Aula C
CATEGORIES:Defensa Tesis Doctoral
END:VEVENT
BEGIN:VEVENT
DTSTART;TZID=Europe/Madrid:20231213T160000
DTEND;TZID=Europe/Madrid:20231213T173000
DTSTAMP:20260422T015341
CREATED:20231103T105945Z
LAST-MODIFIED:20231103T105945Z
UID:10000463-1702483200-1702488600@www.industriales.upm.es
SUMMARY:Ruta guiada por la Escuela
DESCRIPTION:Ruta de aproximadamente una hora de duración por lugares que normalmente no están accesibles a todos y durante la cual se conocerán datos de la historia de este edificio singular y sucesos ocurridos desde su construcción. Punto de encuentro: puerta principal-conserjería.
URL:https://www.industriales.upm.es/info-evento/ruta-guiada-por-la-escuela-7/
END:VEVENT
BEGIN:VEVENT
DTSTART;TZID=Europe/Madrid:20231212T180000
DTEND;TZID=Europe/Madrid:20231212T213000
DTSTAMP:20260422T015341
CREATED:20231212T111246Z
LAST-MODIFIED:20231212T111306Z
UID:10000491-1702404000-1702416600@www.industriales.upm.es
SUMMARY:Ciclo de conferencias del Máster en Ingeniería de Automoción
DESCRIPTION:Actividad formativa complementaria al máster de ingeniería de automoción.
URL:https://www.industriales.upm.es/info-evento/ciclo-de-conferencias-del-master-en-ingenieria-de-automocion/2023-12-12/
LOCATION:Salón de ACTOS
CATEGORIES:Ciclo de Conferencias
END:VEVENT
BEGIN:VEVENT
DTSTART;TZID=Europe/Madrid:20231205T093000
DTEND;TZID=Europe/Madrid:20231205T110000
DTSTAMP:20260422T015341
CREATED:20231130T112357Z
LAST-MODIFIED:20231130T112357Z
UID:10000487-1701768600-1701774000@www.industriales.upm.es
SUMMARY:Seminario de interés general "Introducción a las bases de datos relacionales". Ángel  García Beltrán. Entrada libre
DESCRIPTION:
URL:https://www.industriales.upm.es/info-evento/seminario-de-interes-general-introduccion-a-las-bases-de-datos-relacionales-angel-garcia-beltran-entrada-libre/
LOCATION:Aula del Dpto. de Informática
CATEGORIES:Conferencias
END:VEVENT
BEGIN:VEVENT
DTSTART;TZID=Europe/Madrid:20231204T130000
DTEND;TZID=Europe/Madrid:20231204T140000
DTSTAMP:20260422T015341
CREATED:20231130T110540Z
LAST-MODIFIED:20231130T110540Z
UID:10000486-1701694800-1701698400@www.industriales.upm.es
SUMMARY:Reunión con los estudiantes del Programa Académico de Recorrido Sucesivo de Ingeniería Industrial
DESCRIPTION:
URL:https://www.industriales.upm.es/info-evento/reunion-con-los-estudiantes-del-programa-academico-de-recorrido-sucesivo-de-ingenieria-industrial/
LOCATION:Aula C
CATEGORIES:Acto Institucional
END:VEVENT
BEGIN:VEVENT
DTSTART;TZID=Europe/Madrid:20231204T123000
DTEND;TZID=Europe/Madrid:20231204T140000
DTSTAMP:20260422T015341
CREATED:20231127T160232Z
LAST-MODIFIED:20231127T160232Z
UID:10000424-1701693000-1701698400@www.industriales.upm.es
SUMMARY:Ruta guiada por la Escuela
DESCRIPTION:Ruta de aproximadamente una hora de duración por lugares que normalmente no están accesibles a todos y durante la cual se conocerán datos de la historia de este edificio singular y sucesos ocurridos desde su construcción. Punto de encuentro: puerta principal-conserjería.
URL:https://www.industriales.upm.es/info-evento/ruta-guiada-por-la-escuela-3-2/
END:VEVENT
BEGIN:VEVENT
DTSTART;TZID=Europe/Madrid:20231201T123000
DTEND;TZID=Europe/Madrid:20231201T140000
DTSTAMP:20260422T015341
CREATED:20231128T091003Z
LAST-MODIFIED:20231128T091857Z
UID:10000484-1701433800-1701439200@www.industriales.upm.es
SUMMARY:Presentación del Título Propio "Lubricantes de automoción e industria"
DESCRIPTION:Título Propio «Lubricantes de automoción e industria» \n\nCurso de 90h con un 70% de horas con profesorado de empresas del sector (Repsol\, Bp\, Cepsa\, Shell…).\nEl curso da acceso a unas prácticas únicas en estas empresas para formar parte de plantilla\nDisponibles becas\n\nSESIÓN INFORMATIVA ONLINE Y PRESENCIAL 1/12/2023 – 12:30h (GMT+1). \nAULA ARTIGAS – ETSI INDUSTRIALES. \nCartel Curso Lubricantes
URL:https://www.industriales.upm.es/info-evento/presentacion-del-titulo-propio-lubricantes-de-automocion-e-industria/
ATTACH;FMTTYPE=image/jpeg:https://www.industriales.upm.es/wp-content/uploads/2023/11/Carel-baja-resolucion.jpeg
END:VEVENT
BEGIN:VEVENT
DTSTART;TZID=Europe/Madrid:20231201T100000
DTEND;TZID=Europe/Madrid:20231201T180000
DTSTAMP:20260422T015341
CREATED:20231103T114516Z
LAST-MODIFIED:20231122T173503Z
UID:10000482-1701424800-1701453600@www.industriales.upm.es
SUMMARY:Exposición de Coches Históricos
DESCRIPTION:Del 21 de noviembre al 1 de Diciembre. \nDe 10:00h a 18:00h. Sábados y Domingos cerrado. \nPabellón de deportes de la ETSI Industriales \nCalle José Gutiérrez Abascal\, 2 \n28006 Madrid \nMás información \n 
URL:https://www.industriales.upm.es/info-evento/exposicion-de-coches-historicos/2023-12-01/
CATEGORIES:Ferias y Exposiciones
ATTACH;FMTTYPE=image/jpeg:https://www.industriales.upm.es/wp-content/uploads/2023/11/finalWeb_Rectorado.jpg
END:VEVENT
BEGIN:VEVENT
DTSTART;TZID=Europe/Madrid:20231201T100000
DTEND;TZID=Europe/Madrid:20231201T150000
DTSTAMP:20260422T015341
CREATED:20230725T075547Z
LAST-MODIFIED:20231010T080328Z
UID:10000391-1701424800-1701442800@www.industriales.upm.es
SUMMARY:I Hackathon YWP Spain
DESCRIPTION:Red de jóvenes del sector del agua Young Water Professionals Spanish Chapter (YWP Spain)\, una iniciativa de la International Water Association (IWA). Nuestro objetivo es formar a la nueva generación de líderes del agua\, ofreciendo apoyo al sector a través de acciones que permitan atraer a jóvenes profesionales (menores de 35 años) y conseguir que alcancen su pleno potencial profesional. Puedes encontrar más información en nuestra web www.ywp-spain.es \n En unos meses tendrá lugar el evento YoungWaterHack que se llevará a cabo online los días 22 y 29 de noviembre y de forma presencial el 1 de diciembre en Madrid. Se trata de un hackathon para estudiantes de grado\, máster\, doctorado y formación profesional con interés en el sector del agua. El objetivo será generar soluciones innovadoras para el uso sostenible del agua como elemento clave en la lucha contra la crisis climática y\, con ello\, dar a conocer a jóvenes talentos.  \n El evento contará con un jurado de experto/as y está patrocinado por entidades referentes a nivel nacional e internacional en la gestión del ciclo del agua. Además\, durante el evento se darán sesiones de formación y contará con la presencia de Young Water Professionals que acompañarán como mentores/as a los participantes. La competición será por equipos\, aunque el registro se realizará online de manera individual. Se concederá un premio a cada equipo ganador por reto: suscripciones a IWA Student\, premio en metálico y visita técnica a instalaciones del sector del agua.  \n Puedes encontrar más información y el enlace de inscripción en la web. \nOs esperamos!
URL:https://www.industriales.upm.es/info-evento/i-hackathon-ywp-spain/
CATEGORIES:Conferencias
ATTACH;FMTTYPE=image/png:https://www.industriales.upm.es/wp-content/uploads/2023/07/Cartel-Hackathon.png
END:VEVENT
BEGIN:VEVENT
DTSTART;TZID=Europe/Madrid:20231130T100000
DTEND;TZID=Europe/Madrid:20231130T180000
DTSTAMP:20260422T015341
CREATED:20231103T114516Z
LAST-MODIFIED:20231122T173503Z
UID:10000481-1701338400-1701367200@www.industriales.upm.es
SUMMARY:Exposición de Coches Históricos
DESCRIPTION:Del 21 de noviembre al 1 de Diciembre. \nDe 10:00h a 18:00h. Sábados y Domingos cerrado. \nPabellón de deportes de la ETSI Industriales \nCalle José Gutiérrez Abascal\, 2 \n28006 Madrid \nMás información \n 
URL:https://www.industriales.upm.es/info-evento/exposicion-de-coches-historicos/2023-11-30/
CATEGORIES:Ferias y Exposiciones
ATTACH;FMTTYPE=image/jpeg:https://www.industriales.upm.es/wp-content/uploads/2023/11/finalWeb_Rectorado.jpg
END:VEVENT
BEGIN:VEVENT
DTSTART;TZID=Europe/Madrid:20231129T160000
DTEND;TZID=Europe/Madrid:20231129T170000
DTSTAMP:20260422T015341
CREATED:20230928T102833Z
LAST-MODIFIED:20230928T102833Z
UID:10000423-1701273600-1701277200@www.industriales.upm.es
SUMMARY:Ruta guiada por la Escuela
DESCRIPTION:Ruta de aproximadamente una hora de duración por lugares que normalmente no están accesibles a todos y durante la cual se conocerán datos de la historia de este edificio singular y sucesos ocurridos desde su construcción. Punto de encuentro: puerta principal-conserjería.
URL:https://www.industriales.upm.es/info-evento/ruta-guiada-por-la-escuela-2/2023-11-29/
END:VEVENT
BEGIN:VEVENT
DTSTART;TZID=Europe/Madrid:20231129T100000
DTEND;TZID=Europe/Madrid:20231129T180000
DTSTAMP:20260422T015341
CREATED:20231103T114516Z
LAST-MODIFIED:20231122T173503Z
UID:10000480-1701252000-1701280800@www.industriales.upm.es
SUMMARY:Exposición de Coches Históricos
DESCRIPTION:Del 21 de noviembre al 1 de Diciembre. \nDe 10:00h a 18:00h. Sábados y Domingos cerrado. \nPabellón de deportes de la ETSI Industriales \nCalle José Gutiérrez Abascal\, 2 \n28006 Madrid \nMás información \n 
URL:https://www.industriales.upm.es/info-evento/exposicion-de-coches-historicos/2023-11-29/
CATEGORIES:Ferias y Exposiciones
ATTACH;FMTTYPE=image/jpeg:https://www.industriales.upm.es/wp-content/uploads/2023/11/finalWeb_Rectorado.jpg
END:VEVENT
BEGIN:VEVENT
DTSTART;TZID=Europe/Madrid:20231128T100000
DTEND;TZID=Europe/Madrid:20231128T180000
DTSTAMP:20260422T015341
CREATED:20231103T114516Z
LAST-MODIFIED:20231122T173503Z
UID:10000479-1701165600-1701194400@www.industriales.upm.es
SUMMARY:Exposición de Coches Históricos
DESCRIPTION:Del 21 de noviembre al 1 de Diciembre. \nDe 10:00h a 18:00h. Sábados y Domingos cerrado. \nPabellón de deportes de la ETSI Industriales \nCalle José Gutiérrez Abascal\, 2 \n28006 Madrid \nMás información \n 
URL:https://www.industriales.upm.es/info-evento/exposicion-de-coches-historicos/2023-11-28/
CATEGORIES:Ferias y Exposiciones
ATTACH;FMTTYPE=image/jpeg:https://www.industriales.upm.es/wp-content/uploads/2023/11/finalWeb_Rectorado.jpg
END:VEVENT
BEGIN:VEVENT
DTSTART;TZID=Europe/Madrid:20231128T090000
DTEND;TZID=Europe/Madrid:20231128T133000
DTSTAMP:20260422T015341
CREATED:20231124T100526Z
LAST-MODIFIED:20231124T103038Z
UID:10000483-1701162000-1701178200@www.industriales.upm.es
SUMMARY:Jornada Energía y Sociedad “El éxito de la transición energética e industrial dependerá de las redes eléctricas”.
DESCRIPTION:Martes 28 de noviembre. 09:00h. Salón de Actos. \nJornada «El éxito de la transición energética e industrial dependerá de las redes eléctricas”\, co-organizada por la Escuela Técnica Superior de Ingenieros Industriales (ETSII) de la  Universidad Politécnica de Madrid\, junto con Energía y Sociedad.\nEn esta Jornada se pondrá de manifiesto que las redes eléctricas son la columna vertebral del sistema eléctrico y que de ellas depende el que se puedan conectar al sistema eléctrico toda la potencia de energía renovable contemplada en el PNIEC a 2030. Durante la jornada\, PwC presentará su estudio “Las redes eléctricas como piedra angular de la transición energética y la industrialización” y expondrá la importancia de las redes para la electrificación de procesos industriales actualmente basados en combustibles fósiles\, o para atraer a nuevas fábricas de baterías\, de paneles solares\, electrolizadores o centros procesamiento de datos (CPD). PwC expondrá la importancia de incentivar las inversiones en las redes.\nA continuación se dará paso a dos mesas redondas\, en la primera se expondrá la posición y las necesidades de la industria que quiere descarbonizarse\, de las renovables y de nuevas empresas que quieren instalarse en España. En la segunda se pondrá en valor la innovación y su aportación a la industria.\nCon este evento esperamos generar un debate en torno a la necesidad de inversión en las redes eléctricas\, su papel en la transición energética y los retos a los que se enfrentan. \nEl evento se podrá seguir tanto presencialmente como por streaming.\nInscripción gratuita. Plazas limitadas. \nInscripciones \nAgenda_Evento_28-nov
URL:https://www.industriales.upm.es/info-evento/jornada-energia-y-sociedad-el-exito-de-la-transicion-energetica-e-industrial-dependera-de-las-redes-electricas/
LOCATION:Salón de ACTOS
ATTACH;FMTTYPE=image/jpeg:https://www.industriales.upm.es/wp-content/uploads/2023/11/Cartel_Webinar_Transicion_Energetica_REDES_28_NOV_2023.jpeg
END:VEVENT
BEGIN:VEVENT
DTSTART;TZID=Europe/Madrid:20231127T100000
DTEND;TZID=Europe/Madrid:20231127T180000
DTSTAMP:20260422T015341
CREATED:20231103T114516Z
LAST-MODIFIED:20231122T173503Z
UID:10000478-1701079200-1701108000@www.industriales.upm.es
SUMMARY:Exposición de Coches Históricos
DESCRIPTION:Del 21 de noviembre al 1 de Diciembre. \nDe 10:00h a 18:00h. Sábados y Domingos cerrado. \nPabellón de deportes de la ETSI Industriales \nCalle José Gutiérrez Abascal\, 2 \n28006 Madrid \nMás información \n 
URL:https://www.industriales.upm.es/info-evento/exposicion-de-coches-historicos/2023-11-27/
CATEGORIES:Ferias y Exposiciones
ATTACH;FMTTYPE=image/jpeg:https://www.industriales.upm.es/wp-content/uploads/2023/11/finalWeb_Rectorado.jpg
END:VEVENT
BEGIN:VEVENT
DTSTART;TZID=Europe/Madrid:20231127T090000
DTEND;TZID=Europe/Madrid:20231201T170000
DTSTAMP:20260422T015341
CREATED:20230620T130946Z
LAST-MODIFIED:20230620T130946Z
UID:10000012-1701075600-1701450000@www.industriales.upm.es
SUMMARY:TRANSIT tutorial/Compsortium meeting
DESCRIPTION:Tutorial y reunión del conscorcio del proyecto horizon europe «Transit»
URL:https://www.industriales.upm.es/info-evento/transit-tutorial-compsortium-meeting/
ATTACH;FMTTYPE=image/jpeg:https://www.industriales.upm.es/wp-content/uploads/2023/06/imagen-portada21.jpg
END:VEVENT
BEGIN:VEVENT
DTSTART;TZID=Europe/Madrid:20231122T183000
DTEND;TZID=Europe/Madrid:20231122T210000
DTSTAMP:20260422T015341
CREATED:20231116T144024Z
LAST-MODIFIED:20231116T144024Z
UID:10000477-1700677800-1700686800@www.industriales.upm.es
SUMMARY:Entrega de Premios Antiguos Alumnos y 25 aniversario de Promociones 140 y 141
DESCRIPTION:
URL:https://www.industriales.upm.es/info-evento/entrega-de-premios-antiguos-alumnos-y-25-aniversario-de-promociones-140-y-141/
LOCATION:Salón de ACTOS
CATEGORIES:Otros
ATTACH;FMTTYPE=image/jpeg:https://www.industriales.upm.es/wp-content/uploads/2023/11/Cartel_con_QR_Portal.jpg
END:VEVENT
BEGIN:VEVENT
DTSTART;TZID=Europe/Madrid:20231122T080000
DTEND;TZID=Europe/Madrid:20231123T170000
DTSTAMP:20260422T015341
CREATED:20231107T084755Z
LAST-MODIFIED:20231107T084927Z
UID:10000474-1700640000-1700758800@www.industriales.upm.es
SUMMARY:Campaña de donación de sangre 22 y 23 de noviembre.
DESCRIPTION:Campaña de Donación de sangre de Cruz Roja \n🏛️Puerta principal de la ETSI Industriales \n📅 22 y 23/11/2023 \nRecuerda llevar DNI y haber comido algo antes de la extracción.
URL:https://www.industriales.upm.es/info-evento/campana-de-donacion-de-sangre-22-y-23-de-noviembre/
ATTACH;FMTTYPE=image/png:https://www.industriales.upm.es/wp-content/uploads/2023/11/INDUSTRIALES-NOV-2023.png
END:VEVENT
BEGIN:VEVENT
DTSTART;TZID=Europe/Madrid:20231121T100000
DTEND;TZID=Europe/Madrid:20231124T180000
DTSTAMP:20260422T015341
CREATED:20231103T114516Z
LAST-MODIFIED:20231122T173503Z
UID:10000473-1700560800-1700848800@www.industriales.upm.es
SUMMARY:Exposición de Coches Históricos
DESCRIPTION:Del 21 de noviembre al 1 de Diciembre. \nDe 10:00h a 18:00h. Sábados y Domingos cerrado. \nPabellón de deportes de la ETSI Industriales \nCalle José Gutiérrez Abascal\, 2 \n28006 Madrid \nMás información \n 
URL:https://www.industriales.upm.es/info-evento/exposicion-de-coches-historicos/2023-11-21/
CATEGORIES:Ferias y Exposiciones
ATTACH;FMTTYPE=image/jpeg:https://www.industriales.upm.es/wp-content/uploads/2023/11/finalWeb_Rectorado.jpg
END:VEVENT
BEGIN:VEVENT
DTSTART;TZID=Europe/Madrid:20231121T100000
DTEND;TZID=Europe/Madrid:20231121T120000
DTSTAMP:20260422T015341
CREATED:20231116T142556Z
LAST-MODIFIED:20231116T143349Z
UID:10000475-1700560800-1700568000@www.industriales.upm.es
SUMMARY:Presentación de Moto Student
DESCRIPTION:Se expondrán las motos Petrol y Electric desarrolladas este año en la entrada de la Escuela.
URL:https://www.industriales.upm.es/info-evento/presentacion-de-moto-student/
LOCATION:Aula C
CATEGORIES:Conferencias
ATTACH;FMTTYPE=image/jpeg:https://www.industriales.upm.es/wp-content/uploads/2023/11/1080X1080-2.jpg
END:VEVENT
BEGIN:VEVENT
DTSTART;VALUE=DATE:20231121
DTEND;VALUE=DATE:20231122
DTSTAMP:20260422T015341
CREATED:20231116T143019Z
LAST-MODIFIED:20231117T100941Z
UID:10000476-1700524800-1700611199@www.industriales.upm.es
SUMMARY:Congreso de Descarbonización. Asociación Nacional de empresas  de Servicios Energéticos (ANESE)
DESCRIPTION:https://www.anese.es/congreso/
URL:https://www.industriales.upm.es/info-evento/congreso-de-descarbonizacion-asociacion-nacional-de-empresas-de-servicios-energeticos-anese/
LOCATION:Salón de ACTOS
CATEGORIES:Congreso / Workshop
END:VEVENT
BEGIN:VEVENT
DTSTART;TZID=Europe/Madrid:20231120T123000
DTEND;TZID=Europe/Madrid:20231120T140000
DTSTAMP:20260422T015341
CREATED:20231103T105845Z
LAST-MODIFIED:20231103T105845Z
UID:10000461-1700483400-1700488800@www.industriales.upm.es
SUMMARY:Ruta guiada por la Escuela
DESCRIPTION:Ruta de aproximadamente una hora de duración por lugares que normalmente no están accesibles a todos y durante la cual se conocerán datos de la historia de este edificio singular y sucesos ocurridos desde su construcción. Punto de encuentro: puerta principal-conserjería.
URL:https://www.industriales.upm.es/info-evento/ruta-guiada-por-la-escuela-6/
END:VEVENT
BEGIN:VEVENT
DTSTART;TZID=Europe/Madrid:20231117T180000
DTEND;TZID=Europe/Madrid:20231117T190000
DTSTAMP:20260422T015341
CREATED:20231023T164404Z
LAST-MODIFIED:20231025T101654Z
UID:10000450-1700244000-1700247600@www.industriales.upm.es
SUMMARY:Un paseo por Madrid para aprender ciencia e historia II. Conferencia "Los altos del hipódromo y la Edad de Plata de la cultura española" G. Pinto
DESCRIPTION:
URL:https://www.industriales.upm.es/info-evento/un-paseo-por-madrid-para-aprender-ciencia-e-historia-ii-conferencia-los-altos-del-hipodromo-y-la-edad-de-plata-de-la-cultura-espanola-g-pinto/
LOCATION:Aula C
ATTACH;FMTTYPE=image/jpeg:https://www.industriales.upm.es/wp-content/uploads/2023/10/Confer-17-noviembre.jpg
END:VEVENT
BEGIN:VEVENT
DTSTART;TZID=Europe/Madrid:20231116T180000
DTEND;TZID=Europe/Madrid:20231116T200000
DTSTAMP:20260422T015341
CREATED:20231103T075108Z
LAST-MODIFIED:20231103T084947Z
UID:10000458-1700157600-1700164800@www.industriales.upm.es
SUMMARY:Taller LA UNIÓN IMPURA. La ingeniería en tus manos.
DESCRIPTION:Arrancamos motores con el reto Heliantus apuntando al sol. \nEl próximo 16 de noviembre\, jueves a las 18:00h se imparte el taller presencial para los participantes en la 6ª Edición del Concuros Escolar La ingeniería en tus manos\, titulado LA UNIÓN IMPURA\, un espectáculo ingenieril muy divertido\, donde  explicaremos los fundamentos que están detrás de electrónica y en particular de las células solares (la UNIÓN PN) y sus utilidades. \nAdemás\, en este taller  haremos una introducción breve sobre las claves del concurso\, recomendaciones y consejos para que la participación en esta competición. \nEmpezamos!!!
URL:https://www.industriales.upm.es/info-evento/taller-la-union-impura-la-ingenieria-en-tus-manos/
ATTACH;FMTTYPE=image/jpeg:https://www.industriales.upm.es/wp-content/uploads/2023/11/logo_ingenieria_manos_ok.jpg
END:VEVENT
BEGIN:VEVENT
DTSTART;TZID=Europe/Madrid:20231115T170000
DTEND;TZID=Europe/Madrid:20231115T213000
DTSTAMP:20260422T015341
CREATED:20231025T103221Z
LAST-MODIFIED:20231025T103221Z
UID:10000453-1700067600-1700083800@www.industriales.upm.es
SUMMARY:MasterClass de Richard Vaughan
DESCRIPTION:
URL:https://www.industriales.upm.es/info-evento/masterclass-de-richard-vaughan/
LOCATION:Aula C
CATEGORIES:Conferencias
END:VEVENT
END:VCALENDAR