BEGIN:VCALENDAR
VERSION:2.0
PRODID:-//Escuela Técnica Superior Ingenieros Industriales - ECPv6.15.20//NONSGML v1.0//EN
CALSCALE:GREGORIAN
METHOD:PUBLISH
X-WR-CALNAME:Escuela Técnica Superior Ingenieros Industriales
X-ORIGINAL-URL:https://www.industriales.upm.es
X-WR-CALDESC:Eventos para Escuela Técnica Superior Ingenieros Industriales
REFRESH-INTERVAL;VALUE=DURATION:PT1H
X-Robots-Tag:noindex
X-PUBLISHED-TTL:PT1H
BEGIN:VTIMEZONE
TZID:Europe/Madrid
BEGIN:DAYLIGHT
TZOFFSETFROM:+0100
TZOFFSETTO:+0200
TZNAME:CEST
DTSTART:20220327T010000
END:DAYLIGHT
BEGIN:STANDARD
TZOFFSETFROM:+0200
TZOFFSETTO:+0100
TZNAME:CET
DTSTART:20221030T010000
END:STANDARD
BEGIN:DAYLIGHT
TZOFFSETFROM:+0100
TZOFFSETTO:+0200
TZNAME:CEST
DTSTART:20230326T010000
END:DAYLIGHT
BEGIN:STANDARD
TZOFFSETFROM:+0200
TZOFFSETTO:+0100
TZNAME:CET
DTSTART:20231029T010000
END:STANDARD
BEGIN:DAYLIGHT
TZOFFSETFROM:+0100
TZOFFSETTO:+0200
TZNAME:CEST
DTSTART:20240331T010000
END:DAYLIGHT
BEGIN:STANDARD
TZOFFSETFROM:+0200
TZOFFSETTO:+0100
TZNAME:CET
DTSTART:20241027T010000
END:STANDARD
END:VTIMEZONE
BEGIN:VEVENT
DTSTART;TZID=Europe/Madrid:20230622T123000
DTEND;TZID=Europe/Madrid:20230622T140000
DTSTAMP:20260425T170732
CREATED:20230621T141429Z
LAST-MODIFIED:20230621T143610Z
UID:10000013-1687437000-1687442400@www.industriales.upm.es
SUMMARY:Como transformar tu investigación en una Start-Up
DESCRIPTION:Cómo transformar tu investigación en una Start-Up\nPor Javier Rodríguez Cuadrado y Jesús San Martín \n22 de junio. 12:30h. Aula Artigas \n  \nLas regiones costeras del Indico Pacífico concentran más de un 50% de la población y producen más de un 50% del PIB mundial. Tal concentración de población\, y muchas veces la orografía de las megaciudades\, hace que estas ciudades carezcan de terrenos para su expansión y la ampliación de sus servicios. Hasta ahora\, este problema se ha resuelto con la construcción de islas artificiales que tiene diversos problemas: son muy caras\, colapsan por su propio peso y destruyen el ecosistema. Ello requiere una solución que sea barata\, estable y además respetuosa con el medio ambiente. \nEstas características las conseguimos con el Distribuidor Óptimo de Cargas\, que es una estructura fractal patentada\, la cual distribuye uniformemente la carga y se adapta a la resistencia del suelo evitando su colapso. Esta idea nos llevó a participar en los programas actúaupm y UPM2T\, quedando finalistas en el primero y obteniendo el segundo premio en el segundo. De ello iniciamos un proceso de creación de una Start-Up\, en la que un Fondo de Capital nos propuso invertir un millón de euros para su desarrollo.  Este viaje os lo contaremos el próximo jueves 22 de junio a las 12:30 en el Aula Artigas de nuestra Escuela. \nLa asistencia es libre y gratuita hasta completar aforo.
URL:https://www.industriales.upm.es/info-evento/como-transformar-tu-investigacion-en-una-start-up/
LOCATION:Sala ARTIGAS
ATTACH;FMTTYPE=image/jpeg:https://www.industriales.upm.es/wp-content/uploads/2023/06/startup.jpg
END:VEVENT
BEGIN:VEVENT
DTSTART;VALUE=DATE:20230621
DTEND;VALUE=DATE:20230622
DTSTAMP:20260425T170732
CREATED:20230621T144033Z
LAST-MODIFIED:20230621T144033Z
UID:10000014-1687305600-1687391999@www.industriales.upm.es
SUMMARY:Final 5ª Ed. Concurso escolar "La ingeniería en tus manos"
DESCRIPTION:Llega la Gran Final de la 5ª Edición del Concurso Escolar «La ingeniería en tus manos». 19 y 21 de junio. Síguelo en directo. \nCompiten 40 equipos finalistas de más de 100 inscritos en esta edición con el reto HELIANTHUS. APUNTANDO AL SOL\, en el que se desarrolla un seguidor solar con un panel fotovoltaico que encuentra el sol y se oriente hacia él para captar radiación y convertirla en energía eléctrica que sirva para iluminar una ciudad. \nLanzado en 2018\, ya en su 5ª Edición\, este proyecto persigue acercar el mundo de la tecnología y de la ingeniería a los estudiantes de bachillerato de la Comunidad de Madrid. En él\, los estudiantes\, con sus conocimientos y con el apoyo proporcionado por profesores y estudiantes de la ETSII- UPM y por su profesorado de secundaria\, desarrollan un proyecto de ingeniería a lo largo de todo el curso escolar\, desde la fase de planificación y diseño\, hasta la construcción pruebas y experimentación\, finalizando con una competición y demostración final. Este proceso les permite comprobar por sí mismos que\, con sus conocimientos\, son capaces de hacer un proyecto a escala\, propio de la ingeniería\, contribuyendo de ese modo a superar las reticencias que\, por su dificultad o por desconocimiento\, suelen aparecer a la hora de seleccionar este tipo de estudios\, a la vez que se fomenta su autoestima al propiciar la visualización de los resultados de su aprendizaje a través de la construcción de una máquina o dispositivo. \nParticipantes 5ª Edición 2022-2023: 570 participantes organizados en 116 equipos de 48 centros (colegios e institutos de la Comunidad de Madrid y 1 centro de Salamanca). \n40 EQUIPOS FINALISTAS. SUERTE A TODOS
URL:https://www.industriales.upm.es/info-evento/final-5a-ed-concurso-escolar-la-ingenieria-en-tus-manos/
ATTACH;FMTTYPE=image/png:https://www.industriales.upm.es/wp-content/uploads/2023/06/logo_96105d15274cb987cae7bb31933a5253_1x.png
END:VEVENT
BEGIN:VEVENT
DTSTART;TZID=Europe/Madrid:20230512T170000
DTEND;TZID=Europe/Madrid:20230512T190000
DTSTAMP:20260425T170732
CREATED:20230620T130324Z
LAST-MODIFIED:20230620T130324Z
UID:10000011-1683910800-1683918000@www.industriales.upm.es
SUMMARY:JORNADA DE PUERTAS ABIERTAS
DESCRIPTION:Jornada de presentación de la oferta academica a futuros estudiantes
URL:https://www.industriales.upm.es/info-evento/jornada-de-puertas-abiertas/
ATTACH;FMTTYPE=image/jpeg:https://www.industriales.upm.es/wp-content/uploads/2021/11/Puertas-Abiertas-2.jpg
END:VEVENT
END:VCALENDAR