BEGIN:VCALENDAR
VERSION:2.0
PRODID:-//Escuela Técnica Superior Ingenieros Industriales - ECPv6.15.20//NONSGML v1.0//EN
CALSCALE:GREGORIAN
METHOD:PUBLISH
X-WR-CALNAME:Escuela Técnica Superior Ingenieros Industriales
X-ORIGINAL-URL:https://www.industriales.upm.es
X-WR-CALDESC:Eventos para Escuela Técnica Superior Ingenieros Industriales
REFRESH-INTERVAL;VALUE=DURATION:PT1H
X-Robots-Tag:noindex
X-PUBLISHED-TTL:PT1H
BEGIN:VTIMEZONE
TZID:Europe/Madrid
BEGIN:DAYLIGHT
TZOFFSETFROM:+0100
TZOFFSETTO:+0200
TZNAME:CEST
DTSTART:20250330T010000
END:DAYLIGHT
BEGIN:STANDARD
TZOFFSETFROM:+0200
TZOFFSETTO:+0100
TZNAME:CET
DTSTART:20251026T010000
END:STANDARD
BEGIN:DAYLIGHT
TZOFFSETFROM:+0100
TZOFFSETTO:+0200
TZNAME:CEST
DTSTART:20260329T010000
END:DAYLIGHT
BEGIN:STANDARD
TZOFFSETFROM:+0200
TZOFFSETTO:+0100
TZNAME:CET
DTSTART:20261025T010000
END:STANDARD
BEGIN:DAYLIGHT
TZOFFSETFROM:+0100
TZOFFSETTO:+0200
TZNAME:CEST
DTSTART:20270328T010000
END:DAYLIGHT
BEGIN:STANDARD
TZOFFSETFROM:+0200
TZOFFSETTO:+0100
TZNAME:CET
DTSTART:20271031T010000
END:STANDARD
END:VTIMEZONE
BEGIN:VEVENT
DTSTART;TZID=Europe/Madrid:20260407T173000
DTEND;TZID=Europe/Madrid:20260504T210000
DTSTAMP:20260422T015050
CREATED:20260220T104409Z
LAST-MODIFIED:20260220T104409Z
UID:10001321-1775583000-1777928400@www.industriales.upm.es
SUMMARY:Seminario de Reactores Avanzados - Sociedad Nuclear Española y ETSII-UPM
DESCRIPTION:
URL:https://www.industriales.upm.es/info-evento/seminario-de-reactores-avanzados-sociedad-nuclear-espanola-y-etsii-upm/
END:VEVENT
BEGIN:VEVENT
DTSTART;TZID=Europe/Madrid:20260409T183000
DTEND;TZID=Europe/Madrid:20260423T210000
DTSTAMP:20260422T015050
CREATED:20260210T123908Z
LAST-MODIFIED:20260210T123908Z
UID:10001316-1775759400-1776978000@www.industriales.upm.es
SUMMARY:Ciclo conferencias Emprendimiento e Innovacion
DESCRIPTION:Conferencias de Emprendimiento e Innovavión    9 abril Rodrigo del Prado – fundador BQ  Monica Alvarez\, directiva Airbus
URL:https://www.industriales.upm.es/info-evento/ciclo-conferencias-emprendimiento-e-innovacion/
END:VEVENT
BEGIN:VEVENT
DTSTART;TZID=Europe/Madrid:20260422T100000
DTEND;TZID=Europe/Madrid:20260422T130000
DTSTAMP:20260422T015050
CREATED:20260225T152520Z
LAST-MODIFIED:20260417T095756Z
UID:10001325-1776852000-1776862800@www.industriales.upm.es
SUMMARY:Jornada anual Aula ESELEC
DESCRIPTION:
URL:https://www.industriales.upm.es/info-evento/jornada-anual-aula-eselec/
ATTACH;FMTTYPE=image/jpeg:https://www.industriales.upm.es/wp-content/uploads/2026/02/Flyer-Presentacion-Aula-Empresa-ESELEC-scaled.jpg
END:VEVENT
BEGIN:VEVENT
DTSTART;TZID=Europe/Madrid:20260422T133000
DTEND;TZID=Europe/Madrid:20260422T143000
DTSTAMP:20260422T015050
CREATED:20250722T091516Z
LAST-MODIFIED:20250722T091516Z
UID:10001077-1776864600-1776868200@www.industriales.upm.es
SUMMARY:Conferencia sobre especialidades GITI: Química Industrial y Medio Ambiente
DESCRIPTION:Conferencias de presentación de especialidades del Grado en Ingeniería en Tecnologías Industriales
URL:https://www.industriales.upm.es/info-evento/conferencia-sobre-especialidades-giti-quimica-industrial-y-medio-ambiente/
END:VEVENT
BEGIN:VEVENT
DTSTART;TZID=Europe/Madrid:20260422T133000
DTEND;TZID=Europe/Madrid:20260422T150000
DTSTAMP:20260422T015050
CREATED:20260416T101326Z
LAST-MODIFIED:20260416T101346Z
UID:10001372-1776864600-1776870000@www.industriales.upm.es
SUMMARY:Resolución de conflictos: comunicación sana más allá de la asertividad
DESCRIPTION:Nuestro Programa de Bienstar y Salud de la ETSII – Programa ImportaTE te invita a cuidar tus relaciones con este taller de «Resolución de conflictos: comunicación sana más allá de la asertividad«. \nContaremos con la participación de Carmen Bermúdez Romero\, psicóloga y terapeuta de familia y pareja\, que seguro nos hará reflexionar y nos facilitará herramientas para mejorar nuestra comunición interpersonal. \nTe esperamos el próximo miércoles 22 a las 13’30h en el aula C. \nReserva tu plaza en: https://forms.office.com/e/Njc3VKtEAP
URL:https://www.industriales.upm.es/info-evento/resolucion-de-conflictos-comunicacion-sana-mas-alla-de-la-asertividad/
ATTACH;FMTTYPE=image/jpeg:https://www.industriales.upm.es/wp-content/uploads/2026/04/TallerResoluciondeconflictos-Comunicacionsanamasalladelaasertividad.jpg
END:VEVENT
BEGIN:VEVENT
DTSTART;TZID=Europe/Madrid:20260422T173000
DTEND;TZID=Europe/Madrid:20260422T190000
DTSTAMP:20260422T015050
CREATED:20260408T113827Z
LAST-MODIFIED:20260408T113827Z
UID:10001364-1776879000-1776884400@www.industriales.upm.es
SUMMARY:Climatización 4.0: Cómo Evoluciona la Gestión Térmica en Centros de Datos Diseñados para Inteligencia Artificial
DESCRIPTION:
URL:https://www.industriales.upm.es/info-evento/climatizacion-4-0-como-evoluciona-la-gestion-termica-en-centros-de-datos-disenados-para-inteligencia-artificial/
END:VEVENT
END:VCALENDAR