BEGIN:VCALENDAR
VERSION:2.0
PRODID:-//Escuela Técnica Superior Ingenieros Industriales - ECPv6.15.20//NONSGML v1.0//EN
CALSCALE:GREGORIAN
METHOD:PUBLISH
X-WR-CALNAME:Escuela Técnica Superior Ingenieros Industriales
X-ORIGINAL-URL:https://www.industriales.upm.es
X-WR-CALDESC:Eventos para Escuela Técnica Superior Ingenieros Industriales
REFRESH-INTERVAL;VALUE=DURATION:PT1H
X-Robots-Tag:noindex
X-PUBLISHED-TTL:PT1H
BEGIN:VTIMEZONE
TZID:Europe/Madrid
BEGIN:DAYLIGHT
TZOFFSETFROM:+0100
TZOFFSETTO:+0200
TZNAME:CEST
DTSTART:20250330T010000
END:DAYLIGHT
BEGIN:STANDARD
TZOFFSETFROM:+0200
TZOFFSETTO:+0100
TZNAME:CET
DTSTART:20251026T010000
END:STANDARD
BEGIN:DAYLIGHT
TZOFFSETFROM:+0100
TZOFFSETTO:+0200
TZNAME:CEST
DTSTART:20260329T010000
END:DAYLIGHT
BEGIN:STANDARD
TZOFFSETFROM:+0200
TZOFFSETTO:+0100
TZNAME:CET
DTSTART:20261025T010000
END:STANDARD
BEGIN:DAYLIGHT
TZOFFSETFROM:+0100
TZOFFSETTO:+0200
TZNAME:CEST
DTSTART:20270328T010000
END:DAYLIGHT
BEGIN:STANDARD
TZOFFSETFROM:+0200
TZOFFSETTO:+0100
TZNAME:CET
DTSTART:20271031T010000
END:STANDARD
END:VTIMEZONE
BEGIN:VEVENT
DTSTART;TZID=Europe/Madrid:20260210T173000
DTEND;TZID=Europe/Madrid:20260324T210000
DTSTAMP:20260422T111048
CREATED:20251023T060900Z
LAST-MODIFIED:20251023T060900Z
UID:10001196-1770744600-1774386000@www.industriales.upm.es
SUMMARY:35º Curso sobre Gestión de Residuos Radiactivos
DESCRIPTION:Curso sobre Gestión de Residuos Radiactivos. Organizado en colaboración con CIEMAT y ENRESA. Con asistencia de alumnos de Máster: Ciencia y Tecnología Nuclear\, Ingeniería de la Energía\, Doble Máster MII   MUCTN y Máster Ing. Ambiental.
URL:https://www.industriales.upm.es/info-evento/35o-curso-sobre-gestion-de-residuos-radiactivos/
END:VEVENT
BEGIN:VEVENT
DTSTART;TZID=Europe/Madrid:20260305T080000
DTEND;TZID=Europe/Madrid:20260305T190000
DTSTAMP:20260422T111048
CREATED:20260206T075841Z
LAST-MODIFIED:20260206T075841Z
UID:10001306-1772697600-1772737200@www.industriales.upm.es
SUMMARY:Jornada de Experiencias Operativas Sociedad Nuclear Española
DESCRIPTION:Apertura  Conferencia invitada  Presentaciones sobre funcionamiento de las centrales nucleares en 2025  Conclusiones y clausura  Entrega de premios y distinciones de la SNE  Asamblea general de la SNE
URL:https://www.industriales.upm.es/info-evento/jornada-de-experiencias-operativas-sociedad-nuclear-espanola-2/
END:VEVENT
BEGIN:VEVENT
DTSTART;TZID=Europe/Madrid:20260305T160000
DTEND;TZID=Europe/Madrid:20260305T203000
DTSTAMP:20260422T111048
CREATED:20251002T064040Z
LAST-MODIFIED:20251002T064040Z
UID:10001152-1772726400-1772742600@www.industriales.upm.es
SUMMARY:Reunión de paso de Ecuador del Programa de Mentoring MEET de la WN de Airbus
DESCRIPTION:
URL:https://www.industriales.upm.es/info-evento/reunion-de-paso-de-ecuador-del-programa-de-mentoring-meet-de-la-wn-de-airbus/
END:VEVENT
END:VCALENDAR