BEGIN:VCALENDAR
VERSION:2.0
PRODID:-//Escuela Técnica Superior Ingenieros Industriales - ECPv6.15.20//NONSGML v1.0//EN
CALSCALE:GREGORIAN
METHOD:PUBLISH
X-ORIGINAL-URL:https://www.industriales.upm.es
X-WR-CALDESC:Eventos para Escuela Técnica Superior Ingenieros Industriales
REFRESH-INTERVAL;VALUE=DURATION:PT1H
X-Robots-Tag:noindex
X-PUBLISHED-TTL:PT1H
BEGIN:VTIMEZONE
TZID:Europe/Madrid
BEGIN:DAYLIGHT
TZOFFSETFROM:+0100
TZOFFSETTO:+0200
TZNAME:CEST
DTSTART:20250330T010000
END:DAYLIGHT
BEGIN:STANDARD
TZOFFSETFROM:+0200
TZOFFSETTO:+0100
TZNAME:CET
DTSTART:20251026T010000
END:STANDARD
BEGIN:DAYLIGHT
TZOFFSETFROM:+0100
TZOFFSETTO:+0200
TZNAME:CEST
DTSTART:20260329T010000
END:DAYLIGHT
BEGIN:STANDARD
TZOFFSETFROM:+0200
TZOFFSETTO:+0100
TZNAME:CET
DTSTART:20261025T010000
END:STANDARD
BEGIN:DAYLIGHT
TZOFFSETFROM:+0100
TZOFFSETTO:+0200
TZNAME:CEST
DTSTART:20270328T010000
END:DAYLIGHT
BEGIN:STANDARD
TZOFFSETFROM:+0200
TZOFFSETTO:+0100
TZNAME:CET
DTSTART:20271031T010000
END:STANDARD
END:VTIMEZONE
BEGIN:VEVENT
DTSTART;TZID=Europe/Madrid:20260209T103000
DTEND;TZID=Europe/Madrid:20260209T113000
DTSTAMP:20260422T082650
CREATED:20260115T141754Z
LAST-MODIFIED:20260205T113209Z
UID:10001286-1770633000-1770636600@www.industriales.upm.es
SUMMARY:Las Matemáticas en la ETSII
DESCRIPTION:«Enseñanza de matemáticas en la ETSII. Evolución histórica y debates en la formación de ingenieros /as Industriales» \n9 de febrero\, de 10:30 a 11:30. Salón de Actos \nEsta charla recorre la evolución de la enseñanza de las matemáticas en la ETSII desde los orígenes de la carrera de Ingeniería Industrial hasta la actualidad. A través del análisis de los distintos planes de estudio\, se abordarán los principales debates que han marcado la formación matemática de los ingenieros e ingenieras industriales\, incorporando también una breve reflexión desde la experiencia personal como alumno y profesor. Ponente Prof. Manuel Álvarez.
URL:https://www.industriales.upm.es/info-evento/charla-dmaii/
ATTACH;FMTTYPE=image/jpeg:https://www.industriales.upm.es/wp-content/uploads/2026/01/Matematicas-enla-ETSII-V2.jpg
END:VEVENT
END:VCALENDAR