BEGIN:VCALENDAR
VERSION:2.0
PRODID:-//Escuela Técnica Superior Ingenieros Industriales - ECPv6.15.20//NONSGML v1.0//EN
CALSCALE:GREGORIAN
METHOD:PUBLISH
X-WR-CALNAME:Escuela Técnica Superior Ingenieros Industriales
X-ORIGINAL-URL:https://www.industriales.upm.es
X-WR-CALDESC:Eventos para Escuela Técnica Superior Ingenieros Industriales
REFRESH-INTERVAL;VALUE=DURATION:PT1H
X-Robots-Tag:noindex
X-PUBLISHED-TTL:PT1H
BEGIN:VTIMEZONE
TZID:Europe/Madrid
BEGIN:DAYLIGHT
TZOFFSETFROM:+0100
TZOFFSETTO:+0200
TZNAME:CEST
DTSTART:20240331T010000
END:DAYLIGHT
BEGIN:STANDARD
TZOFFSETFROM:+0200
TZOFFSETTO:+0100
TZNAME:CET
DTSTART:20241027T010000
END:STANDARD
BEGIN:DAYLIGHT
TZOFFSETFROM:+0100
TZOFFSETTO:+0200
TZNAME:CEST
DTSTART:20250330T010000
END:DAYLIGHT
BEGIN:STANDARD
TZOFFSETFROM:+0200
TZOFFSETTO:+0100
TZNAME:CET
DTSTART:20251026T010000
END:STANDARD
BEGIN:DAYLIGHT
TZOFFSETFROM:+0100
TZOFFSETTO:+0200
TZNAME:CEST
DTSTART:20260329T010000
END:DAYLIGHT
BEGIN:STANDARD
TZOFFSETFROM:+0200
TZOFFSETTO:+0100
TZNAME:CET
DTSTART:20261025T010000
END:STANDARD
BEGIN:DAYLIGHT
TZOFFSETFROM:+0100
TZOFFSETTO:+0200
TZNAME:CEST
DTSTART:20270328T010000
END:DAYLIGHT
BEGIN:STANDARD
TZOFFSETFROM:+0200
TZOFFSETTO:+0100
TZNAME:CET
DTSTART:20271031T010000
END:STANDARD
END:VTIMEZONE
BEGIN:VEVENT
DTSTART;TZID=Europe/Madrid:20251106T130000
DTEND;TZID=Europe/Madrid:20251203T153000
DTSTAMP:20260422T000429
CREATED:20251024T062922Z
LAST-MODIFIED:20251028T113720Z
UID:10001200-1762434000-1764775800@www.industriales.upm.es
SUMMARY:Sesión formativa Programa Mentor
DESCRIPTION:
URL:https://www.industriales.upm.es/info-evento/sesion-formativa-programa-mentor/
END:VEVENT
BEGIN:VEVENT
DTSTART;TZID=Europe/Madrid:20251114T080000
DTEND;TZID=Europe/Madrid:20260129T143000
DTSTAMP:20260422T000429
CREATED:20260121T120617Z
LAST-MODIFIED:20260121T120617Z
UID:10001290-1763107200-1769697000@www.industriales.upm.es
SUMMARY:CONSEJO DE GOBIERNO UPM
DESCRIPTION:Consejo de Gobierno UPM
URL:https://www.industriales.upm.es/info-evento/consejo-de-gobierno-upm/
END:VEVENT
BEGIN:VEVENT
DTSTART;TZID=Europe/Madrid:20251127T080000
DTEND;TZID=Europe/Madrid:20251128T210000
DTSTAMP:20260422T000429
CREATED:20251009T092752Z
LAST-MODIFIED:20251009T092752Z
UID:10001161-1764230400-1764363600@www.industriales.upm.es
SUMMARY:Funciones de Microteatro
DESCRIPTION:
URL:https://www.industriales.upm.es/info-evento/funciones-de-microteatro/
END:VEVENT
BEGIN:VEVENT
DTSTART;TZID=Europe/Madrid:20251128T090000
DTEND;TZID=Europe/Madrid:20251128T150000
DTSTAMP:20260422T000429
CREATED:20251010T110906Z
LAST-MODIFIED:20251010T110906Z
UID:10001169-1764320400-1764342000@www.industriales.upm.es
SUMMARY:Lectura de tesis doctoral de Pablo Romero Sorozábal Título de la tesis   Robotic Assistive Strategies to Promote Gait in Toddlers with Cerebral Palsy
DESCRIPTION:
URL:https://www.industriales.upm.es/info-evento/lectura-de-tesis-doctoral-de-pablo-romero-sorozabal-titulo-de-la-tesis-robotic-assistive-strategies-to-promote-gait-in-toddlers-with-cerebral-palsy/
END:VEVENT
BEGIN:VEVENT
DTSTART;TZID=Europe/Madrid:20251128T190000
DTEND;TZID=Europe/Madrid:20251128T210000
DTSTAMP:20260422T000429
CREATED:20251020T081611Z
LAST-MODIFIED:20251020T081611Z
UID:10001191-1764356400-1764363600@www.industriales.upm.es
SUMMARY:Máster Class de Richard Vaughan.
DESCRIPTION:
URL:https://www.industriales.upm.es/info-evento/master-class-de-richard-vaughan-2/
END:VEVENT
END:VCALENDAR