BEGIN:VCALENDAR
VERSION:2.0
PRODID:-//Escuela Técnica Superior Ingenieros Industriales - ECPv6.15.20//NONSGML v1.0//EN
CALSCALE:GREGORIAN
METHOD:PUBLISH
X-WR-CALNAME:Escuela Técnica Superior Ingenieros Industriales
X-ORIGINAL-URL:https://www.industriales.upm.es
X-WR-CALDESC:Eventos para Escuela Técnica Superior Ingenieros Industriales
REFRESH-INTERVAL;VALUE=DURATION:PT1H
X-Robots-Tag:noindex
X-PUBLISHED-TTL:PT1H
BEGIN:VTIMEZONE
TZID:Europe/Madrid
BEGIN:DAYLIGHT
TZOFFSETFROM:+0100
TZOFFSETTO:+0200
TZNAME:CEST
DTSTART:20240331T010000
END:DAYLIGHT
BEGIN:STANDARD
TZOFFSETFROM:+0200
TZOFFSETTO:+0100
TZNAME:CET
DTSTART:20241027T010000
END:STANDARD
BEGIN:DAYLIGHT
TZOFFSETFROM:+0100
TZOFFSETTO:+0200
TZNAME:CEST
DTSTART:20250330T010000
END:DAYLIGHT
BEGIN:STANDARD
TZOFFSETFROM:+0200
TZOFFSETTO:+0100
TZNAME:CET
DTSTART:20251026T010000
END:STANDARD
BEGIN:DAYLIGHT
TZOFFSETFROM:+0100
TZOFFSETTO:+0200
TZNAME:CEST
DTSTART:20260329T010000
END:DAYLIGHT
BEGIN:STANDARD
TZOFFSETFROM:+0200
TZOFFSETTO:+0100
TZNAME:CET
DTSTART:20261025T010000
END:STANDARD
BEGIN:DAYLIGHT
TZOFFSETFROM:+0100
TZOFFSETTO:+0200
TZNAME:CEST
DTSTART:20270328T010000
END:DAYLIGHT
BEGIN:STANDARD
TZOFFSETFROM:+0200
TZOFFSETTO:+0100
TZNAME:CET
DTSTART:20271031T010000
END:STANDARD
END:VTIMEZONE
BEGIN:VEVENT
DTSTART;TZID=Europe/Madrid:20251106T130000
DTEND;TZID=Europe/Madrid:20251203T153000
DTSTAMP:20260422T024242
CREATED:20251024T062922Z
LAST-MODIFIED:20251028T113720Z
UID:10001200-1762434000-1764775800@www.industriales.upm.es
SUMMARY:Sesión formativa Programa Mentor
DESCRIPTION:
URL:https://www.industriales.upm.es/info-evento/sesion-formativa-programa-mentor/
END:VEVENT
BEGIN:VEVENT
DTSTART;TZID=Europe/Madrid:20251114T080000
DTEND;TZID=Europe/Madrid:20260129T143000
DTSTAMP:20260422T024242
CREATED:20260121T120617Z
LAST-MODIFIED:20260121T120617Z
UID:10001290-1763107200-1769697000@www.industriales.upm.es
SUMMARY:CONSEJO DE GOBIERNO UPM
DESCRIPTION:Consejo de Gobierno UPM
URL:https://www.industriales.upm.es/info-evento/consejo-de-gobierno-upm/
END:VEVENT
BEGIN:VEVENT
DTSTART;TZID=Europe/Madrid:20251121T090000
DTEND;TZID=Europe/Madrid:20251121T143000
DTSTAMP:20260422T024242
CREATED:20251028T092036Z
LAST-MODIFIED:20251028T092036Z
UID:10001208-1763715600-1763735400@www.industriales.upm.es
SUMMARY:Defensa de tesis de Ana Correa: Towards Urban Transformations: A Spatial Approach to the Implementation of Household Energy Retrofit Policies and the Role of Intermediaries in Bridging Policy and Climate Action
DESCRIPTION:
URL:https://www.industriales.upm.es/info-evento/defensa-de-tesis-de-ana-correa-towards-urban-transformations-a-spatial-approach-to-the-implementation-of-household-energy-retrofit-policies-and-the-role-of-intermediaries-in-bridging-policy-and-clim/
END:VEVENT
BEGIN:VEVENT
DTSTART;TZID=Europe/Madrid:20251121T160000
DTEND;TZID=Europe/Madrid:20251121T210000
DTSTAMP:20260422T024242
CREATED:20250723T101625Z
LAST-MODIFIED:20251027T122739Z
UID:10001080-1763740800-1763758800@www.industriales.upm.es
SUMMARY:Actividad UPM Conecta: HOPE -  EELISA IEN
DESCRIPTION:¡Participa en el Ciclo Cinefórum + Debate HOPE! \nIngeniería con Propósito: Hacia una Transformación Sostenible \n¿Estamos a tiempo de cambiar el rumbo? ¡Sí! Y queremos hacerlo contigo. \nTe invitamos a reflexionar y debatir sobre sostenibilidad e innovación a través del documental HOPE. \nFechas: \n\n21 de noviembre\n13 de febrero\n20 de marzo\n\nHora: 18:30 h\nLugar: ETSI Industriales (Sala C) – C/ José Gutiérrez Abascal\, 2\nOrganiza: EELISA European University\, ETSI Industriales UPM\, IEN UPM y Gatoverde. \n✅ Entrada libre con inscripción previa
URL:https://www.industriales.upm.es/info-evento/actividad-upm-conecta-hope-eelisa-ien/
ATTACH;FMTTYPE=image/jpeg:https://www.industriales.upm.es/wp-content/uploads/2025/09/Cineforum-HOPE-2.jpg
END:VEVENT
BEGIN:VEVENT
DTSTART;TZID=Europe/Madrid:20251121T190000
DTEND;TZID=Europe/Madrid:20251121T210000
DTSTAMP:20260422T024242
CREATED:20251112T104754Z
LAST-MODIFIED:20251112T104811Z
UID:10001217-1763751600-1763758800@www.industriales.upm.es
SUMMARY:2º ciclo Piano y Cámara\, Concierto de Orquesta Sinfónica.
DESCRIPTION:2º ciclo de Piano y Cámara con un Concierto de Orquesta Sinfónica. \nLos músicos son del Conservatorio Profesional de Arturo Soria y actuará como solista\, al piano\, Jon Mestre. \nLas entradas\, como en otras ocasiones\, se mantienen a 10EUR para el personal. \nPodéis ver el programa y comprar las entradas en el enlace \nTambién se podrán comprar entradas en «taquilla»\, desde una hora antes del concierto (_solamente pago en efectivo_).
URL:https://www.industriales.upm.es/info-evento/2o-ciclo-piano-y-camara-concierto-de-orquesta-sinfonica/
ATTACH;FMTTYPE=image/jpeg:https://www.industriales.upm.es/wp-content/uploads/2025/11/Concierto_21nov_25.jpg
END:VEVENT
END:VCALENDAR