BEGIN:VCALENDAR
VERSION:2.0
PRODID:-//Escuela Técnica Superior Ingenieros Industriales - ECPv6.15.20//NONSGML v1.0//EN
CALSCALE:GREGORIAN
METHOD:PUBLISH
X-ORIGINAL-URL:https://www.industriales.upm.es
X-WR-CALDESC:Eventos para Escuela Técnica Superior Ingenieros Industriales
REFRESH-INTERVAL;VALUE=DURATION:PT1H
X-Robots-Tag:noindex
X-PUBLISHED-TTL:PT1H
BEGIN:VTIMEZONE
TZID:Europe/Madrid
BEGIN:DAYLIGHT
TZOFFSETFROM:+0100
TZOFFSETTO:+0200
TZNAME:CEST
DTSTART:20240331T010000
END:DAYLIGHT
BEGIN:STANDARD
TZOFFSETFROM:+0200
TZOFFSETTO:+0100
TZNAME:CET
DTSTART:20241027T010000
END:STANDARD
BEGIN:DAYLIGHT
TZOFFSETFROM:+0100
TZOFFSETTO:+0200
TZNAME:CEST
DTSTART:20250330T010000
END:DAYLIGHT
BEGIN:STANDARD
TZOFFSETFROM:+0200
TZOFFSETTO:+0100
TZNAME:CET
DTSTART:20251026T010000
END:STANDARD
BEGIN:DAYLIGHT
TZOFFSETFROM:+0100
TZOFFSETTO:+0200
TZNAME:CEST
DTSTART:20260329T010000
END:DAYLIGHT
BEGIN:STANDARD
TZOFFSETFROM:+0200
TZOFFSETTO:+0100
TZNAME:CET
DTSTART:20261025T010000
END:STANDARD
END:VTIMEZONE
BEGIN:VEVENT
DTSTART;TZID=Europe/Madrid:20251013T130000
DTEND;TZID=Europe/Madrid:20251013T150000
DTSTAMP:20260421T191344
CREATED:20250919T070642Z
LAST-MODIFIED:20250919T070642Z
UID:10001130-1760360400-1760367600@www.industriales.upm.es
SUMMARY:Presentación Curso Infraestructuras del Futuro- Ferrovial Construcción & Escuela de Industriales Madrid
DESCRIPTION:
URL:https://www.industriales.upm.es/info-evento/presentacion-curso-infraestructuras-del-futuro-ferrovial-construccion-escuela-de-industriales-madrid-3/
END:VEVENT
BEGIN:VEVENT
DTSTART;TZID=Europe/Madrid:20251013T130000
DTEND;TZID=Europe/Madrid:20251013T150000
DTSTAMP:20260421T191344
CREATED:20251002T105821Z
LAST-MODIFIED:20251002T105821Z
UID:10001155-1760360400-1760367600@www.industriales.upm.es
SUMMARY:Programa de Liderazgo de Instalaciones Industriales
DESCRIPTION:Programa de Liderazgo de Instalaciones Industriales
URL:https://www.industriales.upm.es/info-evento/programa-de-liderazgo-de-instalaciones-industriales/
END:VEVENT
END:VCALENDAR