BEGIN:VCALENDAR
VERSION:2.0
PRODID:-//Escuela Técnica Superior Ingenieros Industriales - ECPv6.15.20//NONSGML v1.0//EN
CALSCALE:GREGORIAN
METHOD:PUBLISH
X-WR-CALNAME:Escuela Técnica Superior Ingenieros Industriales
X-ORIGINAL-URL:https://www.industriales.upm.es
X-WR-CALDESC:Eventos para Escuela Técnica Superior Ingenieros Industriales
REFRESH-INTERVAL;VALUE=DURATION:PT1H
X-Robots-Tag:noindex
X-PUBLISHED-TTL:PT1H
BEGIN:VTIMEZONE
TZID:Europe/Madrid
BEGIN:DAYLIGHT
TZOFFSETFROM:+0100
TZOFFSETTO:+0200
TZNAME:CEST
DTSTART:20240331T010000
END:DAYLIGHT
BEGIN:STANDARD
TZOFFSETFROM:+0200
TZOFFSETTO:+0100
TZNAME:CET
DTSTART:20241027T010000
END:STANDARD
BEGIN:DAYLIGHT
TZOFFSETFROM:+0100
TZOFFSETTO:+0200
TZNAME:CEST
DTSTART:20250330T010000
END:DAYLIGHT
BEGIN:STANDARD
TZOFFSETFROM:+0200
TZOFFSETTO:+0100
TZNAME:CET
DTSTART:20251026T010000
END:STANDARD
BEGIN:DAYLIGHT
TZOFFSETFROM:+0100
TZOFFSETTO:+0200
TZNAME:CEST
DTSTART:20260329T010000
END:DAYLIGHT
BEGIN:STANDARD
TZOFFSETFROM:+0200
TZOFFSETTO:+0100
TZNAME:CET
DTSTART:20261025T010000
END:STANDARD
END:VTIMEZONE
BEGIN:VEVENT
DTSTART;TZID=Europe/Madrid:20250411T083000
DTEND;TZID=Europe/Madrid:20250411T213000
DTSTAMP:20260422T070646
CREATED:20250121T090429Z
LAST-MODIFIED:20250121T090429Z
UID:10000795-1744360200-1744407000@www.industriales.upm.es
SUMMARY:FINAL CONCURSO CYBERTECH
DESCRIPTION:Final del concurso Cybertech organizado por la Asociación de Estudiantes RESET
URL:https://www.industriales.upm.es/info-evento/final-concurso-cybertech/
END:VEVENT
BEGIN:VEVENT
DTSTART;TZID=Europe/Madrid:20250411T090000
DTEND;TZID=Europe/Madrid:20250411T150000
DTSTAMP:20260422T070646
CREATED:20250303T112810Z
LAST-MODIFIED:20250303T112810Z
UID:10000861-1744362000-1744383600@www.industriales.upm.es
SUMMARY:Concurso Plaza de Titular de Universidad
DESCRIPTION:
URL:https://www.industriales.upm.es/info-evento/concurso-plaza-de-titular-de-universidad/
END:VEVENT
BEGIN:VEVENT
DTSTART;TZID=Europe/Madrid:20250411T130000
DTEND;TZID=Europe/Madrid:20250411T143000
DTSTAMP:20260422T070646
CREATED:20250403T100131Z
LAST-MODIFIED:20250403T100131Z
UID:10000947-1744376400-1744381800@www.industriales.upm.es
SUMMARY:Presentación Retos Cátedra ACCIONA
DESCRIPTION:
URL:https://www.industriales.upm.es/info-evento/presentacion-retos-catedra-acciona/
END:VEVENT
END:VCALENDAR