BEGIN:VCALENDAR
VERSION:2.0
PRODID:-//Escuela Técnica Superior Ingenieros Industriales - ECPv6.15.20//NONSGML v1.0//EN
CALSCALE:GREGORIAN
METHOD:PUBLISH
X-WR-CALNAME:Escuela Técnica Superior Ingenieros Industriales
X-ORIGINAL-URL:https://www.industriales.upm.es
X-WR-CALDESC:Eventos para Escuela Técnica Superior Ingenieros Industriales
REFRESH-INTERVAL;VALUE=DURATION:PT1H
X-Robots-Tag:noindex
X-PUBLISHED-TTL:PT1H
BEGIN:VTIMEZONE
TZID:Europe/Madrid
BEGIN:DAYLIGHT
TZOFFSETFROM:+0100
TZOFFSETTO:+0200
TZNAME:CEST
DTSTART:20230326T010000
END:DAYLIGHT
BEGIN:STANDARD
TZOFFSETFROM:+0200
TZOFFSETTO:+0100
TZNAME:CET
DTSTART:20231029T010000
END:STANDARD
BEGIN:DAYLIGHT
TZOFFSETFROM:+0100
TZOFFSETTO:+0200
TZNAME:CEST
DTSTART:20240331T010000
END:DAYLIGHT
BEGIN:STANDARD
TZOFFSETFROM:+0200
TZOFFSETTO:+0100
TZNAME:CET
DTSTART:20241027T010000
END:STANDARD
BEGIN:DAYLIGHT
TZOFFSETFROM:+0100
TZOFFSETTO:+0200
TZNAME:CEST
DTSTART:20250330T010000
END:DAYLIGHT
BEGIN:STANDARD
TZOFFSETFROM:+0200
TZOFFSETTO:+0100
TZNAME:CET
DTSTART:20251026T010000
END:STANDARD
BEGIN:DAYLIGHT
TZOFFSETFROM:+0100
TZOFFSETTO:+0200
TZNAME:CEST
DTSTART:20260329T010000
END:DAYLIGHT
BEGIN:STANDARD
TZOFFSETFROM:+0200
TZOFFSETTO:+0100
TZNAME:CET
DTSTART:20261025T010000
END:STANDARD
END:VTIMEZONE
BEGIN:VEVENT
DTSTART;TZID=Europe/Madrid:20241202T080000
DTEND;TZID=Europe/Madrid:20250331T170000
DTSTAMP:20260422T085743
CREATED:20241127T104406Z
LAST-MODIFIED:20241211T165152Z
UID:10000738-1733126400-1743440400@www.industriales.upm.es
SUMMARY:Exposición 175 AÑOS DE LA INGENIERÍA INDUSTRIAL.
DESCRIPTION:175 AÑOS DE LA INGENIERÍA INDUSTRIAL.ACTOS CONMEMORATIVOS \nLa Escuela Técnica Superior de Ingenieros Industriales de Madrid da inicio a la celebración del 175 aniversario de las enseñanzas de Ingeniería Industrial con un programa de actividades que destacarán el legado académico\, histórico y cultural de la institución. \nExposición «175 años de la Ingeniería Industrial» en la Sala de la Máquina. Esta exposición será dinámica e irá cambiando a lo largo de 2025\, año del 175 aniversario. Inicialmente\, constará de una instalación fotográfica que recorre momentos\, lugares y elementos clave en la historia de la Escuela y estará enriquecida con una muestra de piezas históricas\, libros\, datos y curiosidades representativas del ayer y hoy de esta Escuela y sus enseñanzas. \nA lo largo del año se programarán diversas actividades culturales como conciertos\, conferencias\, coloquios\, etc.\, que se irán anunciando con antelación. \nSe espera que la exposición del 175 aniversario esté abierta al público durante 2025 de lunes a viernes en horario de 9.00 a 20.00 horas. \n¡Nuestro homenaje a la ingeniería industrial y a su impacto en la sociedad! \nMás información
URL:https://www.industriales.upm.es/info-evento/175-anos-de-la-ingenieria-industrial/
END:VEVENT
BEGIN:VEVENT
DTSTART;TZID=Europe/Madrid:20250221T103000
DTEND;TZID=Europe/Madrid:20250221T150000
DTSTAMP:20260422T085743
CREATED:20250129T082159Z
LAST-MODIFIED:20250129T125443Z
UID:10000804-1740133800-1740150000@www.industriales.upm.es
SUMMARY:Defensa de tesis doctoral: Application of Probabilistic Safety Assessment to FLEX Strategies\, Advanced Technology Fuels and Design Extension\, de Sergio Courtin
DESCRIPTION:
URL:https://www.industriales.upm.es/info-evento/defensa-tesis-doctoral-sergio-courtin/
END:VEVENT
BEGIN:VEVENT
DTSTART;TZID=Europe/Madrid:20250221T190000
DTEND;TZID=Europe/Madrid:20250221T210000
DTSTAMP:20260422T085743
CREATED:20241126T085024Z
LAST-MODIFIED:20250219T070746Z
UID:10000733-1740164400-1740171600@www.industriales.upm.es
SUMMARY:Recital de piano a cuatro manos
DESCRIPTION:Recital organizado por la ETSII y su ASOCIACIÓN DE ANTIGUOS ALUMNOS
URL:https://www.industriales.upm.es/info-evento/recital-de-piano-a-cuatro-manos/
CATEGORIES:Actuaciones (Música, Teatro, Cine)
ATTACH;FMTTYPE=image/png:https://www.industriales.upm.es/wp-content/uploads/2024/11/Cartel-CONCIERTO-5-para-CULPASS.png
END:VEVENT
END:VCALENDAR