BEGIN:VCALENDAR
VERSION:2.0
PRODID:-//Escuela Técnica Superior Ingenieros Industriales - ECPv6.15.20//NONSGML v1.0//EN
CALSCALE:GREGORIAN
METHOD:PUBLISH
X-ORIGINAL-URL:https://www.industriales.upm.es
X-WR-CALDESC:Eventos para Escuela Técnica Superior Ingenieros Industriales
REFRESH-INTERVAL;VALUE=DURATION:PT1H
X-Robots-Tag:noindex
X-PUBLISHED-TTL:PT1H
BEGIN:VTIMEZONE
TZID:Europe/Madrid
BEGIN:DAYLIGHT
TZOFFSETFROM:+0100
TZOFFSETTO:+0200
TZNAME:CEST
DTSTART:20230326T010000
END:DAYLIGHT
BEGIN:STANDARD
TZOFFSETFROM:+0200
TZOFFSETTO:+0100
TZNAME:CET
DTSTART:20231029T010000
END:STANDARD
BEGIN:DAYLIGHT
TZOFFSETFROM:+0100
TZOFFSETTO:+0200
TZNAME:CEST
DTSTART:20240331T010000
END:DAYLIGHT
BEGIN:STANDARD
TZOFFSETFROM:+0200
TZOFFSETTO:+0100
TZNAME:CET
DTSTART:20241027T010000
END:STANDARD
BEGIN:DAYLIGHT
TZOFFSETFROM:+0100
TZOFFSETTO:+0200
TZNAME:CEST
DTSTART:20250330T010000
END:DAYLIGHT
BEGIN:STANDARD
TZOFFSETFROM:+0200
TZOFFSETTO:+0100
TZNAME:CET
DTSTART:20251026T010000
END:STANDARD
BEGIN:DAYLIGHT
TZOFFSETFROM:+0100
TZOFFSETTO:+0200
TZNAME:CEST
DTSTART:20260329T010000
END:DAYLIGHT
BEGIN:STANDARD
TZOFFSETFROM:+0200
TZOFFSETTO:+0100
TZNAME:CET
DTSTART:20261025T010000
END:STANDARD
END:VTIMEZONE
BEGIN:VEVENT
DTSTART;TZID=Europe/Madrid:20241202T080000
DTEND;TZID=Europe/Madrid:20250331T170000
DTSTAMP:20260422T051555
CREATED:20241127T104406Z
LAST-MODIFIED:20241211T165152Z
UID:10000738-1733126400-1743440400@www.industriales.upm.es
SUMMARY:Exposición 175 AÑOS DE LA INGENIERÍA INDUSTRIAL.
DESCRIPTION:175 AÑOS DE LA INGENIERÍA INDUSTRIAL.ACTOS CONMEMORATIVOS \nLa Escuela Técnica Superior de Ingenieros Industriales de Madrid da inicio a la celebración del 175 aniversario de las enseñanzas de Ingeniería Industrial con un programa de actividades que destacarán el legado académico\, histórico y cultural de la institución. \nExposición «175 años de la Ingeniería Industrial» en la Sala de la Máquina. Esta exposición será dinámica e irá cambiando a lo largo de 2025\, año del 175 aniversario. Inicialmente\, constará de una instalación fotográfica que recorre momentos\, lugares y elementos clave en la historia de la Escuela y estará enriquecida con una muestra de piezas históricas\, libros\, datos y curiosidades representativas del ayer y hoy de esta Escuela y sus enseñanzas. \nA lo largo del año se programarán diversas actividades culturales como conciertos\, conferencias\, coloquios\, etc.\, que se irán anunciando con antelación. \nSe espera que la exposición del 175 aniversario esté abierta al público durante 2025 de lunes a viernes en horario de 9.00 a 20.00 horas. \n¡Nuestro homenaje a la ingeniería industrial y a su impacto en la sociedad! \nMás información
URL:https://www.industriales.upm.es/info-evento/175-anos-de-la-ingenieria-industrial/
END:VEVENT
BEGIN:VEVENT
DTSTART;VALUE=DATE:20250211
DTEND;VALUE=DATE:20250214
DTSTAMP:20260422T051555
CREATED:20250121T095519Z
LAST-MODIFIED:20250121T095519Z
UID:10000799-1739232000-1739491199@www.industriales.upm.es
SUMMARY:Volunfair 2025
DESCRIPTION:VOLUNFAIR\nFeria universitaria de voluntariado en Madrid\nPróximos 11\, 12 y 13 de febrero de 2025\nhttps://volunfair.com/
URL:https://www.industriales.upm.es/info-evento/volunfair-2025-3/
ATTACH;FMTTYPE=image/jpeg:https://www.industriales.upm.es/wp-content/uploads/2025/01/encabezado_1.jpg
END:VEVENT
BEGIN:VEVENT
DTSTART;TZID=Europe/Madrid:20250211T133000
DTEND;TZID=Europe/Madrid:20250211T153000
DTSTAMP:20260422T051555
CREATED:20250205T081627Z
LAST-MODIFIED:20250206T131950Z
UID:10000811-1739280600-1739287800@www.industriales.upm.es
SUMMARY:Presentación Programa «Mentoring Transformador» de la Real Academia de la Ingeniería
DESCRIPTION:El próximo martes 11 de febrero a las 13:30h en el aula C\, la Directora Ejecutiva del proyecto Mujer e Ingeniería de la RAI\, la profesora de la UPM Sara Gómez\, presentará a las alumnas de la ETSI Industriales y a todas aquellas personas interesadas el programa “Mentoring Transformador” organizado por la Real Academia de Ingeniería dentro del proyecto Mujer e Ingeniería. \nEste programa\, dirigido a alumnas de últimos cursos de grado\, máster y doctorado\, es un programa pionero en la mentorización del talento STEM femenino\, y que cuenta ya con una larga tradición y una sólida red de organizaciones socias (web aquí). \nEn esta presentación del programa\, después de la explicación del propósito y funcionamiento del mismo\, se podrán plantear dudas y recibir la información de primera mano. \nPor razones organizativas\, agradecemos inscripción previa a la sesión de presentación del día 11 de febrero a través de este enlace. \nEl envío de candidaturas a la IX Edición del programa “Mentoring de Excelencia” se realiza a través de este formulario\, que permite inscripciones de alumnas de grado (3º y 4º)\, másteres. Para alumnas de doctorado\, habrá que marcar la opción de máster y en el campo “Otros” indicar “Doctorado en -título del programa de doctorado-”).
URL:https://www.industriales.upm.es/info-evento/charla-informativa-programa-rai-2025/
ATTACH;FMTTYPE=image/png:https://www.industriales.upm.es/wp-content/uploads/2025/02/InscripcionMentoringRAI_2025-1.png
END:VEVENT
END:VCALENDAR