BEGIN:VCALENDAR
VERSION:2.0
PRODID:-//Escuela Técnica Superior Ingenieros Industriales - ECPv6.15.20//NONSGML v1.0//EN
CALSCALE:GREGORIAN
METHOD:PUBLISH
X-ORIGINAL-URL:https://www.industriales.upm.es
X-WR-CALDESC:Eventos para Escuela Técnica Superior Ingenieros Industriales
REFRESH-INTERVAL;VALUE=DURATION:PT1H
X-Robots-Tag:noindex
X-PUBLISHED-TTL:PT1H
BEGIN:VTIMEZONE
TZID:Europe/Madrid
BEGIN:DAYLIGHT
TZOFFSETFROM:+0100
TZOFFSETTO:+0200
TZNAME:CEST
DTSTART:20230326T010000
END:DAYLIGHT
BEGIN:STANDARD
TZOFFSETFROM:+0200
TZOFFSETTO:+0100
TZNAME:CET
DTSTART:20231029T010000
END:STANDARD
BEGIN:DAYLIGHT
TZOFFSETFROM:+0100
TZOFFSETTO:+0200
TZNAME:CEST
DTSTART:20240331T010000
END:DAYLIGHT
BEGIN:STANDARD
TZOFFSETFROM:+0200
TZOFFSETTO:+0100
TZNAME:CET
DTSTART:20241027T010000
END:STANDARD
BEGIN:DAYLIGHT
TZOFFSETFROM:+0100
TZOFFSETTO:+0200
TZNAME:CEST
DTSTART:20250330T010000
END:DAYLIGHT
BEGIN:STANDARD
TZOFFSETFROM:+0200
TZOFFSETTO:+0100
TZNAME:CET
DTSTART:20251026T010000
END:STANDARD
BEGIN:DAYLIGHT
TZOFFSETFROM:+0100
TZOFFSETTO:+0200
TZNAME:CEST
DTSTART:20260329T010000
END:DAYLIGHT
BEGIN:STANDARD
TZOFFSETFROM:+0200
TZOFFSETTO:+0100
TZNAME:CET
DTSTART:20261025T010000
END:STANDARD
END:VTIMEZONE
BEGIN:VEVENT
DTSTART;TZID=Europe/Madrid:20241202T080000
DTEND;TZID=Europe/Madrid:20250331T170000
DTSTAMP:20260422T013158
CREATED:20241127T104406Z
LAST-MODIFIED:20241211T165152Z
UID:10000738-1733126400-1743440400@www.industriales.upm.es
SUMMARY:Exposición 175 AÑOS DE LA INGENIERÍA INDUSTRIAL.
DESCRIPTION:175 AÑOS DE LA INGENIERÍA INDUSTRIAL.ACTOS CONMEMORATIVOS \nLa Escuela Técnica Superior de Ingenieros Industriales de Madrid da inicio a la celebración del 175 aniversario de las enseñanzas de Ingeniería Industrial con un programa de actividades que destacarán el legado académico\, histórico y cultural de la institución. \nExposición «175 años de la Ingeniería Industrial» en la Sala de la Máquina. Esta exposición será dinámica e irá cambiando a lo largo de 2025\, año del 175 aniversario. Inicialmente\, constará de una instalación fotográfica que recorre momentos\, lugares y elementos clave en la historia de la Escuela y estará enriquecida con una muestra de piezas históricas\, libros\, datos y curiosidades representativas del ayer y hoy de esta Escuela y sus enseñanzas. \nA lo largo del año se programarán diversas actividades culturales como conciertos\, conferencias\, coloquios\, etc.\, que se irán anunciando con antelación. \nSe espera que la exposición del 175 aniversario esté abierta al público durante 2025 de lunes a viernes en horario de 9.00 a 20.00 horas. \n¡Nuestro homenaje a la ingeniería industrial y a su impacto en la sociedad! \nMás información
URL:https://www.industriales.upm.es/info-evento/175-anos-de-la-ingenieria-industrial/
END:VEVENT
BEGIN:VEVENT
DTSTART;TZID=Europe/Madrid:20241203T100000
DTEND;TZID=Europe/Madrid:20241203T110000
DTSTAMP:20260422T013158
CREATED:20241128T130946Z
LAST-MODIFIED:20241128T130946Z
UID:10000740-1733220000-1733223600@www.industriales.upm.es
SUMMARY:Inauguración oficial de la exposición "175 años de la Ingeniería Industrial"\, presidida por el Rector de la UPM y el Director de la Escuela
DESCRIPTION:Con motivo del 175º aniversario de la publicación del Real Decreto para la creación de las escuelas industriales por el Ministro Manuel de Seijas y Lozano en 1850\, se celebran en la Escuela Técnica Superior de Ingenieros Industriales de Madrid una serie de actos conmemorativos\, entre los que se encuentra una Exposición de carteles y objetos relacionados con las enseñanzas de la Ingeniería Industrial desde esa fecha hasta nuestros días\, y de la historia del Palacio de la Industria y de las Artes\, sede de la Escuela desde 1907. \n 
URL:https://www.industriales.upm.es/info-evento/inauguracion-oficial-de-la-exposicion-175-anos-de-la-ingenieria-industrial-presidida-por-el-rector-de-la-upm-y-el-director-de-la-escuela/
LOCATION:Sala de la Máquina
CATEGORIES:Ferias y Exposiciones
ATTACH;FMTTYPE=image/png:https://www.industriales.upm.es/wp-content/uploads/2024/11/Seijas.png
END:VEVENT
BEGIN:VEVENT
DTSTART;TZID=Europe/Madrid:20241203T110000
DTEND;TZID=Europe/Madrid:20241203T113000
DTSTAMP:20260422T013158
CREATED:20241120T122007Z
LAST-MODIFIED:20241130T123854Z
UID:10000725-1733223600-1733225400@www.industriales.upm.es
SUMMARY:Demostración de drones
DESCRIPTION:
URL:https://www.industriales.upm.es/info-evento/exposicion-de-drones/
LOCATION:Sala de la Máquina
END:VEVENT
BEGIN:VEVENT
DTSTART;TZID=Europe/Madrid:20241203T183000
DTEND;TZID=Europe/Madrid:20241203T213000
DTSTAMP:20260422T013158
CREATED:20241121T125947Z
LAST-MODIFIED:20241121T125947Z
UID:10000728-1733250600-1733261400@www.industriales.upm.es
SUMMARY:Premios antiguos alumnos 2024 y 25 aniversario promoción 142
DESCRIPTION:Encuentro Anual de la Asociación en el que se entregan los Premios a Antiguos Alumnos 2024 y se homenajea a la promoción 142\, que celebra su 25 aniversario.
URL:https://www.industriales.upm.es/info-evento/premios-antiguos-alumnos-2024-y-25-aniversario-promocion-142/
END:VEVENT
END:VCALENDAR