BEGIN:VCALENDAR
VERSION:2.0
PRODID:-//Escuela Técnica Superior Ingenieros Industriales - ECPv6.15.20//NONSGML v1.0//EN
CALSCALE:GREGORIAN
METHOD:PUBLISH
X-ORIGINAL-URL:https://www.industriales.upm.es
X-WR-CALDESC:Eventos para Escuela Técnica Superior Ingenieros Industriales
REFRESH-INTERVAL;VALUE=DURATION:PT1H
X-Robots-Tag:noindex
X-PUBLISHED-TTL:PT1H
BEGIN:VTIMEZONE
TZID:Europe/Madrid
BEGIN:DAYLIGHT
TZOFFSETFROM:+0100
TZOFFSETTO:+0200
TZNAME:CEST
DTSTART:20230326T010000
END:DAYLIGHT
BEGIN:STANDARD
TZOFFSETFROM:+0200
TZOFFSETTO:+0100
TZNAME:CET
DTSTART:20231029T010000
END:STANDARD
BEGIN:DAYLIGHT
TZOFFSETFROM:+0100
TZOFFSETTO:+0200
TZNAME:CEST
DTSTART:20240331T010000
END:DAYLIGHT
BEGIN:STANDARD
TZOFFSETFROM:+0200
TZOFFSETTO:+0100
TZNAME:CET
DTSTART:20241027T010000
END:STANDARD
BEGIN:DAYLIGHT
TZOFFSETFROM:+0100
TZOFFSETTO:+0200
TZNAME:CEST
DTSTART:20250330T010000
END:DAYLIGHT
BEGIN:STANDARD
TZOFFSETFROM:+0200
TZOFFSETTO:+0100
TZNAME:CET
DTSTART:20251026T010000
END:STANDARD
END:VTIMEZONE
BEGIN:VEVENT
DTSTART;TZID=Europe/Madrid:20241018T110000
DTEND;TZID=Europe/Madrid:20241018T143000
DTSTAMP:20260425T143540
CREATED:20241004T104659Z
LAST-MODIFIED:20241014T071013Z
UID:10000650-1729249200-1729261800@www.industriales.upm.es
SUMMARY:"Extension of the predictive capabilities of nuclear fuel performance codes to advanced technology fuels"
DESCRIPTION:Defensa tesis doctoral «Extension of the predictive capabilities of nuclear fuel performance codes to advanced technology fuels» de Pau Aragón Grabiel. \n11:00h. Aula D
URL:https://www.industriales.upm.es/info-evento/extension-of-the-predictive-capabilities-of-nuclear-fuel-performance-codes-to-advanced-technology-fuels/
LOCATION:Aula D
END:VEVENT
BEGIN:VEVENT
DTSTART;TZID=Europe/Madrid:20241018T133000
DTEND;TZID=Europe/Madrid:20241018T143000
DTSTAMP:20260425T143540
CREATED:20241015T060512Z
LAST-MODIFIED:20241015T060535Z
UID:10000660-1729258200-1729261800@www.industriales.upm.es
SUMMARY:Inteligencia Artificial\, Conciencia y Libertad. ¿Qué nos hace humanos?
DESCRIPTION:Este cuatri volvemos con las charlas ÁGORA‼\nEn estas sesiones invitaremos a la universidad a distintos ponentes que vendrán a hablarnos sobre diversos temas; como de actualidad\, humanismo\, ciencia\, filosofía… \nCon mucha alegría os anunciamos que la primera charla será esta semana! Se titula: Inteligencia Artificial\, Conciencia y Libertad. ¿Qué nos hace humanos?. Hemos querido contar con un doctor en Ingeniería Informática y licenciado en Filosofía: Gonzalo Génova \n🕜Fecha y hora:\nViernes 18 de octubre a las 13:45(durará 45 mins. aprox.)\n📍Localización:\nEscuela Técnica Superior de Ingenieros industriales\, Aula Puig Adam.(entrando por la sala de la máquina a la izquierda) \nConfirmar la asistencia en el formulario que adjuntamos. Cualquier duda\, escribir a 676 44 42 96 (Ignacio) por privado. ¡Muchas gracias a todos! \nFormulario: https://forms.gle/RjoTL1ZQwB9cEeg1A \nÚnete al grupo de Whatsapp para informarte de las próximas charlas!\nhttps://chat.whatsapp.com/IwHQqXz2Aql8OKBjr2XVTf
URL:https://www.industriales.upm.es/info-evento/inteligencia-artificial-conciencia-y-libertad-que-nos-hace-humanos/
ATTACH;FMTTYPE=image/jpeg:https://www.industriales.upm.es/wp-content/uploads/2024/10/Charla-1-AGORA.jpg
END:VEVENT
END:VCALENDAR