BEGIN:VCALENDAR
VERSION:2.0
PRODID:-//Escuela Técnica Superior Ingenieros Industriales - ECPv6.15.20//NONSGML v1.0//EN
CALSCALE:GREGORIAN
METHOD:PUBLISH
X-WR-CALNAME:Escuela Técnica Superior Ingenieros Industriales
X-ORIGINAL-URL:https://www.industriales.upm.es
X-WR-CALDESC:Eventos para Escuela Técnica Superior Ingenieros Industriales
REFRESH-INTERVAL;VALUE=DURATION:PT1H
X-Robots-Tag:noindex
X-PUBLISHED-TTL:PT1H
BEGIN:VTIMEZONE
TZID:Europe/Madrid
BEGIN:DAYLIGHT
TZOFFSETFROM:+0100
TZOFFSETTO:+0200
TZNAME:CEST
DTSTART:20230326T010000
END:DAYLIGHT
BEGIN:STANDARD
TZOFFSETFROM:+0200
TZOFFSETTO:+0100
TZNAME:CET
DTSTART:20231029T010000
END:STANDARD
BEGIN:DAYLIGHT
TZOFFSETFROM:+0100
TZOFFSETTO:+0200
TZNAME:CEST
DTSTART:20240331T010000
END:DAYLIGHT
BEGIN:STANDARD
TZOFFSETFROM:+0200
TZOFFSETTO:+0100
TZNAME:CET
DTSTART:20241027T010000
END:STANDARD
BEGIN:DAYLIGHT
TZOFFSETFROM:+0100
TZOFFSETTO:+0200
TZNAME:CEST
DTSTART:20250330T010000
END:DAYLIGHT
BEGIN:STANDARD
TZOFFSETFROM:+0200
TZOFFSETTO:+0100
TZNAME:CET
DTSTART:20251026T010000
END:STANDARD
END:VTIMEZONE
BEGIN:VEVENT
DTSTART;TZID=Europe/Madrid:20241002T083000
DTEND;TZID=Europe/Madrid:20241003T200000
DTSTAMP:20260424T052229
CREATED:20240531T114446Z
LAST-MODIFIED:20240916T112950Z
UID:10000607-1727857800-1727985600@www.industriales.upm.es
SUMMARY:DESCARBONIZACIÓN DEL TRANSPORTE COLECTIVO DE PASAJEROS Y MERCANCÍAS. ENERGÍAS Y TECNOLOGÍAS
DESCRIPTION:II Simposio ASEPA – INSIATransporte Colectivo de Viajeros y Mercancías\nEl objetivo de descarbonización del transporte\, requiere soluciones varias\, que hasta el momento están basadas en vehículos eléctricos y\, entre ellos\, a los de baterías. La industria del sector energía\, evalúa otras soluciones muy prometedoras para la industria automotriz\, y en particular para el transporte pesado a media y larga distancia de mercancías y viajeros. \n\nTres razones para ASISTIR AL SIMPOSIO\n\n\n1. Conseguir una VISIÓN integrada y multidimensional del problema \n2. Adquirir CONOCIMIENTOS sobre las diferentes alternativas tecnológicas \n3. Ampliar  OPORTUNIDADES de relación y networking \n\nINSCRIPCIÓN \nhttps://www.simposioasepa.com/ \nPrograma
URL:https://www.industriales.upm.es/info-evento/descarbonizacion-del-transporte-colectivo-de-pasajeros-y-mercancias-energias-y-tecnologias/
ATTACH;FMTTYPE=image/png:https://www.industriales.upm.es/wp-content/uploads/2024/05/Captura-de-pantalla-2024-09-16-132538.png
END:VEVENT
END:VCALENDAR