BEGIN:VCALENDAR
VERSION:2.0
PRODID:-//Escuela Técnica Superior Ingenieros Industriales - ECPv6.15.20//NONSGML v1.0//EN
CALSCALE:GREGORIAN
METHOD:PUBLISH
X-WR-CALNAME:Escuela Técnica Superior Ingenieros Industriales
X-ORIGINAL-URL:https://www.industriales.upm.es
X-WR-CALDESC:Eventos para Escuela Técnica Superior Ingenieros Industriales
REFRESH-INTERVAL;VALUE=DURATION:PT1H
X-Robots-Tag:noindex
X-PUBLISHED-TTL:PT1H
BEGIN:VTIMEZONE
TZID:Europe/Madrid
BEGIN:DAYLIGHT
TZOFFSETFROM:+0100
TZOFFSETTO:+0200
TZNAME:CEST
DTSTART:20230326T010000
END:DAYLIGHT
BEGIN:STANDARD
TZOFFSETFROM:+0200
TZOFFSETTO:+0100
TZNAME:CET
DTSTART:20231029T010000
END:STANDARD
BEGIN:DAYLIGHT
TZOFFSETFROM:+0100
TZOFFSETTO:+0200
TZNAME:CEST
DTSTART:20240331T010000
END:DAYLIGHT
BEGIN:STANDARD
TZOFFSETFROM:+0200
TZOFFSETTO:+0100
TZNAME:CET
DTSTART:20241027T010000
END:STANDARD
BEGIN:DAYLIGHT
TZOFFSETFROM:+0100
TZOFFSETTO:+0200
TZNAME:CEST
DTSTART:20250330T010000
END:DAYLIGHT
BEGIN:STANDARD
TZOFFSETFROM:+0200
TZOFFSETTO:+0100
TZNAME:CET
DTSTART:20251026T010000
END:STANDARD
END:VTIMEZONE
BEGIN:VEVENT
DTSTART;TZID=Europe/Madrid:20240708T090000
DTEND;TZID=Europe/Madrid:20240712T140000
DTSTAMP:20260423T200324
CREATED:20240604T083219Z
LAST-MODIFIED:20240627T063152Z
UID:10000609-1720429200-1720792800@www.industriales.upm.es
SUMMARY:Campamento VERANO ROBÓTICO
DESCRIPTION:Campamento VERANO ROBÓTICO de una semana de duración en la ETSII UPM\, para estudiantes que han cursado 4º de la ESO y 1º y 2º de bachillerato. \nLugar: Escuela Técnica Superior de Ingenieros Industriales de la Universidad Politécnica de Madrid. \nFecha: 1 Semana del 8 al 12 de Julio \nDestinatarios: Estudiantes que en el curso 2023/24 ha cursado 4ºESO\, 1º o 2º de Bachillerato \nHorario: De lunes a viernes de 9:00h a 14:00h \n 
URL:https://www.industriales.upm.es/info-evento/campamento-verano-robotico/
ATTACH;FMTTYPE=image/jpeg:https://www.industriales.upm.es/wp-content/uploads/2024/05/cartel-Verano-Robotico-24-1.jpg
END:VEVENT
BEGIN:VEVENT
DTSTART;TZID=Europe/Madrid:20240712T190000
DTEND;TZID=Europe/Madrid:20240712T203000
DTSTAMP:20260423T200324
CREATED:20240703T073344Z
LAST-MODIFIED:20240703T073559Z
UID:10000621-1720810800-1720816200@www.industriales.upm.es
SUMMARY:Solemne Acto Académico Extraordinario de Graduación
DESCRIPTION:Solemne Acto Académico Extraordinario de Graduación de la Escuela Técnica Superior de Ingenieros Industriales\n12 de julio de 2024 a las 19 horas. Salón de Actos. \nPrograma del Acto \nApertura del Acto por el Sr. Rector Magnífico D. Guillermo Cisneros Pérez\nIntervención del padrino de los graduados Profesor D. Eduardo de la Torre Arnanz\nEntrega de diplomas a los titulados de Grado (convocatorias de febrero y junio de 2024) que cursarán programas de\nmovilidad en el curso 2024/2025\nPieza musical a cargo del Profesor D. Pablo Garrido Martínez-Llop\nIntervención del representante de los estudiantes\nIntervención del Ilmo. Sr. Director de la Escuela D. Óscar García Suárez\nIntervención del Sr. Rector Magnífico\nIntervención del Coro Semicírculo \nClausura del Acto \nEl acto será retransmitido en directo a través del siguiente enlace \nhttp://audiovisuales.upm.es/directo/ \nAl finalizar se servirá un cóctel
URL:https://www.industriales.upm.es/info-evento/solemne-acto-academico-extraordinario-de-graduacion/
ATTACH;FMTTYPE=image/jpeg:https://www.industriales.upm.es/wp-content/uploads/2024/07/53495312079_ff9e6cecb5_c.jpg
END:VEVENT
END:VCALENDAR