BEGIN:VCALENDAR
VERSION:2.0
PRODID:-//Escuela Técnica Superior Ingenieros Industriales - ECPv6.15.20//NONSGML v1.0//EN
CALSCALE:GREGORIAN
METHOD:PUBLISH
X-ORIGINAL-URL:https://www.industriales.upm.es
X-WR-CALDESC:Eventos para Escuela Técnica Superior Ingenieros Industriales
REFRESH-INTERVAL;VALUE=DURATION:PT1H
X-Robots-Tag:noindex
X-PUBLISHED-TTL:PT1H
BEGIN:VTIMEZONE
TZID:Europe/Madrid
BEGIN:DAYLIGHT
TZOFFSETFROM:+0100
TZOFFSETTO:+0200
TZNAME:CEST
DTSTART:20230326T010000
END:DAYLIGHT
BEGIN:STANDARD
TZOFFSETFROM:+0200
TZOFFSETTO:+0100
TZNAME:CET
DTSTART:20231029T010000
END:STANDARD
BEGIN:DAYLIGHT
TZOFFSETFROM:+0100
TZOFFSETTO:+0200
TZNAME:CEST
DTSTART:20240331T010000
END:DAYLIGHT
BEGIN:STANDARD
TZOFFSETFROM:+0200
TZOFFSETTO:+0100
TZNAME:CET
DTSTART:20241027T010000
END:STANDARD
BEGIN:DAYLIGHT
TZOFFSETFROM:+0100
TZOFFSETTO:+0200
TZNAME:CEST
DTSTART:20250330T010000
END:DAYLIGHT
BEGIN:STANDARD
TZOFFSETFROM:+0200
TZOFFSETTO:+0100
TZNAME:CET
DTSTART:20251026T010000
END:STANDARD
END:VTIMEZONE
BEGIN:VEVENT
DTSTART;TZID=Europe/Madrid:20240617T090000
DTEND;TZID=Europe/Madrid:20240619T140000
DTSTAMP:20260425T143545
CREATED:20240610T103033Z
LAST-MODIFIED:20240613T075231Z
UID:10000612-1718614800-1718805600@www.industriales.upm.es
SUMMARY:Competición final Concurso Escolar “La ingeniería en tus manos”
DESCRIPTION:Finaliza la VI Edición del Concurso “La ingeniería en tus manos” en la Escuela de Industriales de la UPM \n125 estudiantes de bachillerato compiten con sus proyectos de energía fotovoltaica \nMadrid\, 13 de junio de 2024. La Escuela Técnica Superior de Ingenieros Industriales de la Universidad Politécnica de Madrid (UPM) acoge la final de la sexta edición del Concurso Escolar “La ingeniería en tus manos”\, donde 125 estudiantes de bachillerato presentarán sus ingeniosos proyectos sobre energía fotovoltaica. \nEl concurso\, que busca fomentar el interés por la ingeniería entre los jóvenes\, ha contado\, en la Competición Final\, con la participación de 30 equipos finalistas provenientes de 21 colegios e institutos de la Comunidad de Madrid. Bajo el lema HELIANTHUS. APUNTANDO AL SOL\, los estudiantes han diseñado\, construido y programado seguidores solares capaces de orientar paneles fotovoltaicos hacia el sol para maximizar la captación de energía. \nhttps://laingenieriaentusmanos.com/ \nA lo largo del curso\, han participado en este reto\, cerca de 600 estudiantes organizados en 139 equipos de 44 centros educativos. Guiados por sus docentes y tutelados por estudiantes y profesores de la UPM\, han aprendido a utilizar tecnologías avanzadas como diseño en AutoCAD\, impresión 3D\, programación en Arduino y comunicación por Bluetooth. \nLos participantes han superado numerosas pruebas y desafíos técnicos desde la fase inicial hasta llegar a la final\, demostrando una impresionante capacidad de innovación y trabajo en equipo. Cada equipo ha enfrentado y resuelto problemas complejos\, lo que resalta el mérito de todos los participantes y especialmente de los finalistas\, quienes han demostrado un nivel de excelencia técnica y creatividad destacable. Su dedicación y esfuerzo reflejan el espíritu del concurso y su talento un gran valor para el futuro de la ingeniería. \nLa fase final del concurso se llevará a cabo los días 17 y 19 de junio de 2024\, culminando con la entrega de premios. El equipo ganador recibirá un premio de 1.000 euros para su centro educativo y una beca para asistir a un curso de verano sobre robótica. \nEl Concurso “La ingeniería en tus manos” cuenta con el patrocinio del Consejo Social de la UPM\, la Fundación para el Fomento de la Innovación Industrial y la Fundación Caja de Ingenieros. \nVídeo Final Edición Pasada (V Edición del Concurso 22-23) \nSobre el Concurso “La ingeniería en tus manos”. \nLanzado en 2018\, ya en su 6ª Edición\, este proyecto persigue acercar el mundo de la tecnología y de la ingeniería a los estudiantes de bachillerato de la Comunidad de Madrid. En él\, los estudiantes\, con sus conocimientos y con el apoyo proporcionado por profesores y estudiantes de la ETSII- UPM y por su profesorado de secundaria\, desarrollan un proyecto de ingeniería a lo largo de todo el curso escolar\, desde la fase de planificación y diseño\, hasta la construcción pruebas y experimentación\, finalizando con una competición y demostración final. Este proceso les permite comprobar por sí mismos que\, con sus conocimientos\, son capaces de hacer un proyecto a escala\, propio de la ingeniería\, contribuyendo de ese modo a superar las reticencias que\, por su dificultad o por desconocimiento\, suelen aparecer a la hora de seleccionar este tipo de estudios\, a la vez que se fomenta su autoestima al propiciar la visualización de los resultados de su aprendizaje a través de la construcción de una máquina o dispositivo. Para ello en la 1ª y 2ª edición han tenido que concebir y un regulador centrífugo que gire actuado por un motor eléctrico\, y en la 3ª y 4ª edición el proyecto es un péndulo de movimiento perpetuo: “Perpetuum mobile. las máquinas de movimiento perpetuo”. Y la 5ª y 6ª EDICIÓN “HELIANTHUS. APUNTANDO AL SOL” \nAgenda del evento \n17 y 19 de junio de 2023. Escuela Técnica Superior de Ingenieros Industriales. Universidad Politécnica de Madrid. Calle José Gutiérrez Abascal\, 2 \nAgenda 17  de junio \n\n9:00-18:00. Pruebas de funcionamiento y pruebas clasificatorias de presentación en público.\n\nAgenda 19 junio. GRAN FINAL DE LA COMPETICIÓN \n\n9:30h. Llegada de participantes\n10:00h a 12:00h. Exhibición de los proyectos en la Sala de la Máquina\n\nLos jurados revisan la exposición en la sala de la máquina.\n\n\n12:30 – 14:00h. Prueba Finales de Presentación en público. (Salón de Actos)\n\n12:30h. El Director da la bienvenida a las autoridades asistentes y a todos los concursantes.\n12:32h. Prueba de Presentación en público de los 5 equipos finalistas.\n12:57h. Deliberaciones del jurado.\n13:00h. Tiene la palabra el maestro/a de ceremonias  que nombrará a todos los centros finalistas con sus equipos correspondientes que recogerán sus diplomas de manos del Director de la Escuela. D. öscar García y del Director General de Bilingüismo y Calidad de la Enseñanza de la Comunidad de Madrid\,  D. David Cervera.\n13:30. El maestro de ceremonias hará lectura de los premiados\, entregan los premios el Director de la Escuela\, el Director General de Bilingüismo\, el Vicerrector de Comunicación y Relaciones Institucionales\,  el Director Adjunto de la FFII y el Director de Instituciones de Caja de Ingenieros.\n13:45h Palabras del profesor /director del centro ganador 2’\n13:47h. Palabras de las autoridades\n14:00h. Foto de grupo: ganadores\, autoridades\, jurados y miembros del equipo La ingeniería en tus manos\n\n\n\n  \nEl evento se retransmitirá por streaming en: \nhttps://audiovisuales.upm.es/directo/escuelas/etsii \n  \n 
URL:https://www.industriales.upm.es/info-evento/competicion-final-concurso-escolar-la-ingenieria-en-tus-manos/
ATTACH;FMTTYPE=image/jpeg:https://www.industriales.upm.es/wp-content/uploads/2024/06/cartel-web-scaled.jpg
END:VEVENT
END:VCALENDAR