BEGIN:VCALENDAR
VERSION:2.0
PRODID:-//Escuela Técnica Superior Ingenieros Industriales - ECPv6.15.20//NONSGML v1.0//EN
CALSCALE:GREGORIAN
METHOD:PUBLISH
X-WR-CALNAME:Escuela Técnica Superior Ingenieros Industriales
X-ORIGINAL-URL:https://www.industriales.upm.es
X-WR-CALDESC:Eventos para Escuela Técnica Superior Ingenieros Industriales
REFRESH-INTERVAL;VALUE=DURATION:PT1H
X-Robots-Tag:noindex
X-PUBLISHED-TTL:PT1H
BEGIN:VTIMEZONE
TZID:Europe/Madrid
BEGIN:DAYLIGHT
TZOFFSETFROM:+0100
TZOFFSETTO:+0200
TZNAME:CEST
DTSTART:20230326T010000
END:DAYLIGHT
BEGIN:STANDARD
TZOFFSETFROM:+0200
TZOFFSETTO:+0100
TZNAME:CET
DTSTART:20231029T010000
END:STANDARD
BEGIN:DAYLIGHT
TZOFFSETFROM:+0100
TZOFFSETTO:+0200
TZNAME:CEST
DTSTART:20240331T010000
END:DAYLIGHT
BEGIN:STANDARD
TZOFFSETFROM:+0200
TZOFFSETTO:+0100
TZNAME:CET
DTSTART:20241027T010000
END:STANDARD
BEGIN:DAYLIGHT
TZOFFSETFROM:+0100
TZOFFSETTO:+0200
TZNAME:CEST
DTSTART:20250330T010000
END:DAYLIGHT
BEGIN:STANDARD
TZOFFSETFROM:+0200
TZOFFSETTO:+0100
TZNAME:CET
DTSTART:20251026T010000
END:STANDARD
END:VTIMEZONE
BEGIN:VEVENT
DTSTART;TZID=Europe/Madrid:20240606T190000
DTEND;TZID=Europe/Madrid:20240606T203000
DTSTAMP:20260424T113429
CREATED:20240531T073914Z
LAST-MODIFIED:20240531T092111Z
UID:10000606-1717700400-1717705800@www.industriales.upm.es
SUMMARY:IA Y ROBOTIZACIÓN AL SERVICIO DEL AREA COMERCIAL
DESCRIPTION:E L  P R O C E S O  D E  V E N D E R  A  E M P R E S A S : M Á S  A L L Á  D E  L O  H U M A N O \n¿Quieres saber más sobre?: \n¿Cómo la tecnología y las herramientas pueden ayudar a descargar de labores de bajo valor a los vendedores?\n¿Qué hace falta en las empresas para conseguirlo? \n🤵 Andrés del Zotto:  Ingeniero\, MBA por IEN UPM. Gerente de Digitalización Comercial en el segmento B2B en Telefónica. \nhttps://ienupm.com/eventos/robotizacion-e-ia-al-servicio-del-area-comercial/
URL:https://www.industriales.upm.es/info-evento/ia-y-robotizacion-al-servicio-del-area-comercial/
LOCATION:Aula C
ATTACH;FMTTYPE=image/png:https://www.industriales.upm.es/wp-content/uploads/2024/05/Andres-del-Zotto-1-2048x1448-1.png
END:VEVENT
END:VCALENDAR