BEGIN:VCALENDAR
VERSION:2.0
PRODID:-//Escuela Técnica Superior Ingenieros Industriales - ECPv6.15.20//NONSGML v1.0//EN
CALSCALE:GREGORIAN
METHOD:PUBLISH
X-WR-CALNAME:Escuela Técnica Superior Ingenieros Industriales
X-ORIGINAL-URL:https://www.industriales.upm.es
X-WR-CALDESC:Eventos para Escuela Técnica Superior Ingenieros Industriales
REFRESH-INTERVAL;VALUE=DURATION:PT1H
X-Robots-Tag:noindex
X-PUBLISHED-TTL:PT1H
BEGIN:VTIMEZONE
TZID:Europe/Madrid
BEGIN:DAYLIGHT
TZOFFSETFROM:+0100
TZOFFSETTO:+0200
TZNAME:CEST
DTSTART:20230326T010000
END:DAYLIGHT
BEGIN:STANDARD
TZOFFSETFROM:+0200
TZOFFSETTO:+0100
TZNAME:CET
DTSTART:20231029T010000
END:STANDARD
BEGIN:DAYLIGHT
TZOFFSETFROM:+0100
TZOFFSETTO:+0200
TZNAME:CEST
DTSTART:20240331T010000
END:DAYLIGHT
BEGIN:STANDARD
TZOFFSETFROM:+0200
TZOFFSETTO:+0100
TZNAME:CET
DTSTART:20241027T010000
END:STANDARD
BEGIN:DAYLIGHT
TZOFFSETFROM:+0100
TZOFFSETTO:+0200
TZNAME:CEST
DTSTART:20250330T010000
END:DAYLIGHT
BEGIN:STANDARD
TZOFFSETFROM:+0200
TZOFFSETTO:+0100
TZNAME:CET
DTSTART:20251026T010000
END:STANDARD
END:VTIMEZONE
BEGIN:VEVENT
DTSTART;TZID=Europe/Madrid:20240523T183000
DTEND;TZID=Europe/Madrid:20240523T200000
DTSTAMP:20260422T100122
CREATED:20240517T095030Z
LAST-MODIFIED:20240517T102621Z
UID:10000600-1716489000-1716494400@www.industriales.upm.es
SUMMARY:"MERER Y LA CONSTRUCCIÓN DE LA GRAN PIRÁMIDE"
DESCRIPTION:La Asociación de Antiguos Alumnos de la Escuela Técnica Superior de Ingenieros de la Universidad Politécnica de Madrid (ETSII-UPM) organiza\, en su programación de actividades culturales\, esta interesante conferencia en la que José Miguel Parra explicará las técnicas básicas que permitieron la construcción de las pirámides de Guiza.\nLe presentará Antonio Ros\, profesor del Departamento de Ingeniería Mecánica.\nLa asistencia es gratuita. \nMás información sobre José Miguel Parra en https://alumnietsiim.com/event/conferencia-merer-y-la-construccion-de-la-gran-piramide/
URL:https://www.industriales.upm.es/info-evento/merer-y-la-construccion-de-la-gran-piramide/
LOCATION:Salón de ACTOS
ATTACH;FMTTYPE=image/jpeg:https://www.industriales.upm.es/wp-content/uploads/2024/05/23may24_Cartel-horizontal-ETSII-scaled.jpg
END:VEVENT
END:VCALENDAR