BEGIN:VCALENDAR
VERSION:2.0
PRODID:-//Escuela Técnica Superior Ingenieros Industriales - ECPv6.15.20//NONSGML v1.0//EN
CALSCALE:GREGORIAN
METHOD:PUBLISH
X-WR-CALNAME:Escuela Técnica Superior Ingenieros Industriales
X-ORIGINAL-URL:https://www.industriales.upm.es
X-WR-CALDESC:Eventos para Escuela Técnica Superior Ingenieros Industriales
REFRESH-INTERVAL;VALUE=DURATION:PT1H
X-Robots-Tag:noindex
X-PUBLISHED-TTL:PT1H
BEGIN:VTIMEZONE
TZID:Europe/Madrid
BEGIN:DAYLIGHT
TZOFFSETFROM:+0100
TZOFFSETTO:+0200
TZNAME:CEST
DTSTART:20230326T010000
END:DAYLIGHT
BEGIN:STANDARD
TZOFFSETFROM:+0200
TZOFFSETTO:+0100
TZNAME:CET
DTSTART:20231029T010000
END:STANDARD
BEGIN:DAYLIGHT
TZOFFSETFROM:+0100
TZOFFSETTO:+0200
TZNAME:CEST
DTSTART:20240331T010000
END:DAYLIGHT
BEGIN:STANDARD
TZOFFSETFROM:+0200
TZOFFSETTO:+0100
TZNAME:CET
DTSTART:20241027T010000
END:STANDARD
BEGIN:DAYLIGHT
TZOFFSETFROM:+0100
TZOFFSETTO:+0200
TZNAME:CEST
DTSTART:20250330T010000
END:DAYLIGHT
BEGIN:STANDARD
TZOFFSETFROM:+0200
TZOFFSETTO:+0100
TZNAME:CET
DTSTART:20251026T010000
END:STANDARD
END:VTIMEZONE
BEGIN:VEVENT
DTSTART;TZID=Europe/Madrid:20240520T090000
DTEND;TZID=Europe/Madrid:20240520T170000
DTSTAMP:20260422T100123
CREATED:20240513T073706Z
LAST-MODIFIED:20240513T094530Z
UID:10000597-1716195600-1716224400@www.industriales.upm.es
SUMMARY:Gala Ingenia
DESCRIPTION:12:30h. Presentación de los proyectos de la asignatura Ingenia en una Exposición en la sala de la Máquina. \n\nDesarrollo y Dirección de Proyectos de Construcciones Industriales\nComputer-Aided Engineering\nDiseño en Bioingeniería\nProyecto de Máquinas\nIngeniería de Automoción. Diseño\, Fabricación\, Ensayo y Demostración de un Vehículo para la Competición Formula SAE\nIngeniería de Sistemas\nIngeniando un Sistema Eléctrico\nDiseño de Sistemas Inteligentes con Robots y AGV\nIngenia Circular en Equipos Internacionales\nMOTORGEN: Diseño y Fabricación de un Motor Térmico\nAplicaciones Industriales de la Ingeniería Acústica\nSistemas de Fabricación Láser y Detección Óptica\nFabricación Tradicional mediante Forja\nIndustriales me suena\nDesign Thinking: resolviendo retos reales de forma creativa\nDiseño y Simulación de un Reactor Nuclear de Agua a Presión\n\nMás info.
URL:https://www.industriales.upm.es/info-evento/gala-ingenia/
ATTACH;FMTTYPE=image/jpeg:https://www.industriales.upm.es/wp-content/uploads/2024/05/Logo-INGENIA.jpg
END:VEVENT
BEGIN:VEVENT
DTSTART;TZID=Europe/Madrid:20240520T160000
DTEND;TZID=Europe/Madrid:20240520T180000
DTSTAMP:20260422T100123
CREATED:20240215T091414Z
LAST-MODIFIED:20240628T112321Z
UID:10000542-1716220800-1716228000@www.industriales.upm.es
SUMMARY:Ruta guiada por la Escuela
DESCRIPTION:Ruta de aproximadamente una hora de duración por lugares que normalmente no están accesibles a todos y durante la cual se conocerán datos de la historia de este edificio singular y sucesos ocurridos desde su construcción. Punto de encuentro: puerta principal-conserjería.
URL:https://www.industriales.upm.es/info-evento/ruta-guiada-por-la-escuela-8-2-2-2-2-2/
END:VEVENT
END:VCALENDAR