BEGIN:VCALENDAR
VERSION:2.0
PRODID:-//Escuela Técnica Superior Ingenieros Industriales - ECPv6.15.20//NONSGML v1.0//EN
CALSCALE:GREGORIAN
METHOD:PUBLISH
X-ORIGINAL-URL:https://www.industriales.upm.es
X-WR-CALDESC:Eventos para Escuela Técnica Superior Ingenieros Industriales
REFRESH-INTERVAL;VALUE=DURATION:PT1H
X-Robots-Tag:noindex
X-PUBLISHED-TTL:PT1H
BEGIN:VTIMEZONE
TZID:Europe/Madrid
BEGIN:DAYLIGHT
TZOFFSETFROM:+0100
TZOFFSETTO:+0200
TZNAME:CEST
DTSTART:20230326T010000
END:DAYLIGHT
BEGIN:STANDARD
TZOFFSETFROM:+0200
TZOFFSETTO:+0100
TZNAME:CET
DTSTART:20231029T010000
END:STANDARD
BEGIN:DAYLIGHT
TZOFFSETFROM:+0100
TZOFFSETTO:+0200
TZNAME:CEST
DTSTART:20240331T010000
END:DAYLIGHT
BEGIN:STANDARD
TZOFFSETFROM:+0200
TZOFFSETTO:+0100
TZNAME:CET
DTSTART:20241027T010000
END:STANDARD
BEGIN:DAYLIGHT
TZOFFSETFROM:+0100
TZOFFSETTO:+0200
TZNAME:CEST
DTSTART:20250330T010000
END:DAYLIGHT
BEGIN:STANDARD
TZOFFSETFROM:+0200
TZOFFSETTO:+0100
TZNAME:CET
DTSTART:20251026T010000
END:STANDARD
END:VTIMEZONE
BEGIN:VEVENT
DTSTART;TZID=Europe/Madrid:20240315T090000
DTEND;TZID=Europe/Madrid:20240315T130000
DTSTAMP:20260422T040410
CREATED:20240307T163608Z
LAST-MODIFIED:20240307T170417Z
UID:10000557-1710493200-1710507600@www.industriales.upm.es
SUMMARY:Análisis y diagnóstico de descargas parciales en activos eléctricos de alta tensión
DESCRIPTION:Viernes\, 15 de marzo de 2024 Aula D.  09:00h. – 13:00h. \nStefan Böhler \nProfesor en la Escuela Técnica Superior de Bregenz (HTL Bregenz) Austria. Ingeniero de aplicación en OMICRON desde 2003. Miembro del grupo de trabajo MT10 de IEC sobre normas de mantenimiento de máquinas rotativas. \nEntrada libre previa reserva de plaza\, Para reservar su plaza\, por favor\, contacte con Carlos Platero en el siguiente email:carlosantonio.platero@upm.es
URL:https://www.industriales.upm.es/info-evento/analisis-y-diagnostico-de-descargas-parciales-en-activos-electricos-de-alta-tension/
CATEGORIES:Conferencias
ATTACH;FMTTYPE=image/jpeg:https://www.industriales.upm.es/wp-content/uploads/2024/03/Curso-DP-Omicrom-2024-.jpg
END:VEVENT
BEGIN:VEVENT
DTSTART;TZID=Europe/Madrid:20240315T090000
DTEND;TZID=Europe/Madrid:20240315T150000
DTSTAMP:20260422T040410
CREATED:20240209T094323Z
LAST-MODIFIED:20240209T094323Z
UID:10000534-1710493200-1710514800@www.industriales.upm.es
SUMMARY:Análisis y Optimización del Rendimiento de Ciclos Brayton Cerrados Avanzados con Mezclas de CO2
DESCRIPTION:DOCTORANDO: Paul Michael Tafur Escanta\nTítulo de la tesis: Análisis y Optimización del Rendimiento de Ciclos Brayton Cerrados Avanzados con Mezclas de CO2\nDIRECTOR DE TESIS: JAVIER MUÑOZ ANTÓN
URL:https://www.industriales.upm.es/info-evento/analisis-y-optimizacion-del-rendimiento-de-ciclos-brayton-cerrados-avanzados-con-mezclas-de-co2/
END:VEVENT
BEGIN:VEVENT
DTSTART;TZID=Europe/Madrid:20240315T170000
DTEND;TZID=Europe/Madrid:20240315T190000
DTSTAMP:20260422T040410
CREATED:20240209T085950Z
LAST-MODIFIED:20240209T090012Z
UID:10000532-1710522000-1710529200@www.industriales.upm.es
SUMMARY:Jornada de Puertas Abiertas
DESCRIPTION:Jornada de Puertas Abiertas ETSI Industriales\n15 de marzo de 2023. Presencial  17:00h. \nImprescindible inscripción \nInscripción JORNADA DE PUERTAS ABIERTAS 15 de marzo \nJornada de información sobre nuestros grados\, la vida en la Escuela\, las posibilidades de estudiar en el extranjero\, el mundo laboral y mucho más. Podrás participar con tus preguntas y conocer alguno de nuestros laboratorios. \n• GRADO EN INGENIERÍA EN TECNOLOGÍAS INDUSTRIALES \n• GRADO EN INGENIERÍA DE ORGANIZACIÓN \n• GRADO EN INGENIERÍA QUÍMICA \n• PROGRAMA ACADEMICO DE INGENIERÍA INDUSTRIAL ( GRADO+MASTER) \nHora: 17:00h. Salón de Actos . \nEscuela Técnica Superior de Ingenieros Industriales \nUniversidad Politécnica de Madrid \nCalle José Gutiérrez Abascal\, 2. 28006 Madrid ( junto al Museo de Ciencias Naturales) \nwww.industriales.upm.es
URL:https://www.industriales.upm.es/info-evento/jornada-de-puertas-abiertas-3/
CATEGORIES:Acto Institucional
ATTACH;FMTTYPE=image/jpeg:https://www.industriales.upm.es/wp-content/uploads/2023/05/publico_olivia_alarcon.jpeg
END:VEVENT
END:VCALENDAR