BEGIN:VCALENDAR
VERSION:2.0
PRODID:-//Escuela Técnica Superior Ingenieros Industriales - ECPv6.15.20//NONSGML v1.0//EN
CALSCALE:GREGORIAN
METHOD:PUBLISH
X-ORIGINAL-URL:https://www.industriales.upm.es
X-WR-CALDESC:Eventos para Escuela Técnica Superior Ingenieros Industriales
REFRESH-INTERVAL;VALUE=DURATION:PT1H
X-Robots-Tag:noindex
X-PUBLISHED-TTL:PT1H
BEGIN:VTIMEZONE
TZID:Europe/Madrid
BEGIN:DAYLIGHT
TZOFFSETFROM:+0100
TZOFFSETTO:+0200
TZNAME:CEST
DTSTART:20230326T010000
END:DAYLIGHT
BEGIN:STANDARD
TZOFFSETFROM:+0200
TZOFFSETTO:+0100
TZNAME:CET
DTSTART:20231029T010000
END:STANDARD
BEGIN:DAYLIGHT
TZOFFSETFROM:+0100
TZOFFSETTO:+0200
TZNAME:CEST
DTSTART:20240331T010000
END:DAYLIGHT
BEGIN:STANDARD
TZOFFSETFROM:+0200
TZOFFSETTO:+0100
TZNAME:CET
DTSTART:20241027T010000
END:STANDARD
BEGIN:DAYLIGHT
TZOFFSETFROM:+0100
TZOFFSETTO:+0200
TZNAME:CEST
DTSTART:20250330T010000
END:DAYLIGHT
BEGIN:STANDARD
TZOFFSETFROM:+0200
TZOFFSETTO:+0100
TZNAME:CET
DTSTART:20251026T010000
END:STANDARD
END:VTIMEZONE
BEGIN:VEVENT
DTSTART;TZID=Europe/Madrid:20240307T090000
DTEND;TZID=Europe/Madrid:20240307T153000
DTSTAMP:20260422T040412
CREATED:20240116T102525Z
LAST-MODIFIED:20240221T090613Z
UID:10000504-1709802000-1709825400@www.industriales.upm.es
SUMMARY:Las centrales nucleares en 2023. Experiencias y perspectivas
DESCRIPTION:“LAS CENTRALES NUCLEARES EN 2023. EXPERIENCIAS Y PERSPECTIVAS” \nJueves\, 7 de marzo de 2024. ESCUELA TÉCNICA SUPERIOR DE INGENIEROS INDUSTRIALES. Salón de actos \nLa Sociedad Nuclear Española organiza\, un año más\, la XXXV Jornada “LAS CENTRALES NUCLEARES EN 2023. EXPERIENCIAS Y PERSPECTIVAS”\, en la que los directores de las centrales nucleares españolas tratarán aspectos relevantes de su operación durante el pasado ejercicio. \nPrograma oficial_ JEO-CCNN 23 \n  \n \n \n \n \n \n 
URL:https://www.industriales.upm.es/info-evento/las-centrales-nucleares-en-2023-experiencias-y-perspectivas/
CATEGORIES:Conferencias
ATTACH;FMTTYPE=image/jpeg:https://www.industriales.upm.es/wp-content/uploads/2024/01/Pantallazos-JEO-24_v2_Pagina_1.jpg
END:VEVENT
BEGIN:VEVENT
DTSTART;TZID=Europe/Madrid:20240307T113000
DTEND;TZID=Europe/Madrid:20240307T153000
DTSTAMP:20260422T040412
CREATED:20240117T112605Z
LAST-MODIFIED:20240206T113340Z
UID:10000505-1709811000-1709825400@www.industriales.upm.es
SUMMARY:Desarrollo y aplicación de los métodos basados en el balance energético a estructuras con disipadores dependientes de la velocidad
DESCRIPTION:DEFENSA de la TESIS DOCTORAL DE HERMES PONCE PARRA titulada:\nDESARROLLO Y APLICACIÓN DE LOS MÉTODOS BASADOS EN EL BALANCE ENERGÉTICO A ESTRUCTURAS CON DISIPADORES DEPENDIENTES DE LA VELOCIDAD
URL:https://www.industriales.upm.es/info-evento/desarrollo-y-aplicacion-de-los-metodos-basados-en-el-balance-energetico-a-estructuras-con-disipadores-dependientes-de-la-velocidad/
END:VEVENT
END:VCALENDAR