BEGIN:VCALENDAR
VERSION:2.0
PRODID:-//Escuela Técnica Superior Ingenieros Industriales - ECPv6.15.20//NONSGML v1.0//EN
CALSCALE:GREGORIAN
METHOD:PUBLISH
X-ORIGINAL-URL:https://www.industriales.upm.es
X-WR-CALDESC:Eventos para Escuela Técnica Superior Ingenieros Industriales
REFRESH-INTERVAL;VALUE=DURATION:PT1H
X-Robots-Tag:noindex
X-PUBLISHED-TTL:PT1H
BEGIN:VTIMEZONE
TZID:Europe/Madrid
BEGIN:DAYLIGHT
TZOFFSETFROM:+0100
TZOFFSETTO:+0200
TZNAME:CEST
DTSTART:20230326T010000
END:DAYLIGHT
BEGIN:STANDARD
TZOFFSETFROM:+0200
TZOFFSETTO:+0100
TZNAME:CET
DTSTART:20231029T010000
END:STANDARD
BEGIN:DAYLIGHT
TZOFFSETFROM:+0100
TZOFFSETTO:+0200
TZNAME:CEST
DTSTART:20240331T010000
END:DAYLIGHT
BEGIN:STANDARD
TZOFFSETFROM:+0200
TZOFFSETTO:+0100
TZNAME:CET
DTSTART:20241027T010000
END:STANDARD
BEGIN:DAYLIGHT
TZOFFSETFROM:+0100
TZOFFSETTO:+0200
TZNAME:CEST
DTSTART:20250330T010000
END:DAYLIGHT
BEGIN:STANDARD
TZOFFSETFROM:+0200
TZOFFSETTO:+0100
TZNAME:CET
DTSTART:20251026T010000
END:STANDARD
END:VTIMEZONE
BEGIN:VEVENT
DTSTART;TZID=Europe/Madrid:20240305T120000
DTEND;TZID=Europe/Madrid:20240305T140000
DTSTAMP:20260422T013955
CREATED:20240208T071731Z
LAST-MODIFIED:20240305T083036Z
UID:10000529-1709640000-1709647200@www.industriales.upm.es
SUMMARY:"Current developments in Advanced Air Mobility"
DESCRIPTION:Current developments in Advanced Air Mobility. Friday March 1st at 12:00h. Aula D. \nPonente:  Prof. Dr. Luis Mejias is an Associate Professor at Queensland University of Technology (QUT) where he leads the Aerospace Automation Research Group. He specialises in uncrewed aerial systems covering many aspects related to this field such as navigation\, control theory\, path planning\, image processing and vision-based control amongst others. His research is related to the development of automation technologies that enable uncrewed aircraft to perform tasks with minimal user supervision. He is particularly motivated by the development of enabling technologies that allow seamless usage of uncrewed aircraft in society \nDate:  March 5 at 12:00. \nPlace: Aula D at ETSII \nAbstract: \nAdvanced Air Mobility (AAM) is described as a forward-looking concept aimed at alleviating congestion\, reducing infrastructure strain\, enhancing time efficiency\, and improving accessibility and connectivity. Recently\, it has gained global recognition as an emerging\, technologically viable solution for achieving net-zero emissions and facilitating passenger\, freight\, emergency services\, and military operations independently of airports. It is considered a pivotal player in the evolution of air transportation. \nHowever\, substantial research efforts are necessary to fully develop the design\, production\, and operation of AAM aircraft and associated system components. In this presentation\, I will discuss the key implementation drivers for AAM. This entails integrating cutting-edge technologies like autonomous flight systems\, electric propulsion\, and advanced air traffic management systems to ensure the safe and dependable operation of urban airspace. AAM holds the potential to revolutionize transportation methods for both people and goods\, creating fresh prospects for urban mobility and economic advancement.
URL:https://www.industriales.upm.es/info-evento/current-developments-in-advanced-air-mobility/
END:VEVENT
END:VCALENDAR