BEGIN:VCALENDAR
VERSION:2.0
PRODID:-//Escuela Técnica Superior Ingenieros Industriales - ECPv6.15.20//NONSGML v1.0//EN
CALSCALE:GREGORIAN
METHOD:PUBLISH
X-WR-CALNAME:Escuela Técnica Superior Ingenieros Industriales
X-ORIGINAL-URL:https://www.industriales.upm.es
X-WR-CALDESC:Eventos para Escuela Técnica Superior Ingenieros Industriales
REFRESH-INTERVAL;VALUE=DURATION:PT1H
X-Robots-Tag:noindex
X-PUBLISHED-TTL:PT1H
BEGIN:VTIMEZONE
TZID:Europe/Madrid
BEGIN:DAYLIGHT
TZOFFSETFROM:+0100
TZOFFSETTO:+0200
TZNAME:CEST
DTSTART:20230326T010000
END:DAYLIGHT
BEGIN:STANDARD
TZOFFSETFROM:+0200
TZOFFSETTO:+0100
TZNAME:CET
DTSTART:20231029T010000
END:STANDARD
BEGIN:DAYLIGHT
TZOFFSETFROM:+0100
TZOFFSETTO:+0200
TZNAME:CEST
DTSTART:20240331T010000
END:DAYLIGHT
BEGIN:STANDARD
TZOFFSETFROM:+0200
TZOFFSETTO:+0100
TZNAME:CET
DTSTART:20241027T010000
END:STANDARD
BEGIN:DAYLIGHT
TZOFFSETFROM:+0100
TZOFFSETTO:+0200
TZNAME:CEST
DTSTART:20250330T010000
END:DAYLIGHT
BEGIN:STANDARD
TZOFFSETFROM:+0200
TZOFFSETTO:+0100
TZNAME:CET
DTSTART:20251026T010000
END:STANDARD
END:VTIMEZONE
BEGIN:VEVENT
DTSTART;TZID=Europe/Madrid:20240226T080000
DTEND;TZID=Europe/Madrid:20240226T200000
DTSTAMP:20260421T235127
CREATED:20240223T121534Z
LAST-MODIFIED:20240223T121534Z
UID:10000555-1708934400-1708977600@www.industriales.upm.es
SUMMARY:DEFENSAS TRABAJO FIN DE MÁSTER
DESCRIPTION:DEFENSAS TRABAJO FIN DE MÁSTER
URL:https://www.industriales.upm.es/info-evento/defensas-trabajo-fin-de-master/
END:VEVENT
BEGIN:VEVENT
DTSTART;TZID=Europe/Madrid:20240226T080000
DTEND;TZID=Europe/Madrid:20240301T200000
DTSTAMP:20260421T235127
CREATED:20240223T121504Z
LAST-MODIFIED:20240223T121504Z
UID:10000554-1708934400-1709323200@www.industriales.upm.es
SUMMARY:DEFENSAS TRABAJOS FIN DE GRADO
DESCRIPTION:DEFENSAS DE TRABAJO FIN DE GRADO
URL:https://www.industriales.upm.es/info-evento/defensas-trabajos-fin-de-grado/
END:VEVENT
BEGIN:VEVENT
DTSTART;TZID=Europe/Madrid:20240226T100000
DTEND;TZID=Europe/Madrid:20240226T150000
DTSTAMP:20260421T235127
CREATED:20240208T081811Z
LAST-MODIFIED:20240208T081811Z
UID:10000530-1708941600-1708959600@www.industriales.upm.es
SUMMARY:Spot-welded flanges contact modeling for the enhancement of linear finite element models accuracy. application to the modal behavior correlation improvement of a vehicle structure
DESCRIPTION:Tesis doctoral presentada por D. LUIS GUILHERME MARIANO VIANA MARTINS
URL:https://www.industriales.upm.es/info-evento/spot-welded-flanges-contact-modeling-for-the-enhancement-of-linear-finite-element-models-accuracy-application-to-the-modal-behavior-correlation-improvement-of-a-vehicle-structure/
END:VEVENT
BEGIN:VEVENT
DTSTART;TZID=Europe/Madrid:20240226T110000
DTEND;TZID=Europe/Madrid:20240226T150000
DTSTAMP:20260421T235127
CREATED:20240221T131330Z
LAST-MODIFIED:20240221T131330Z
UID:10000553-1708945200-1708959600@www.industriales.upm.es
SUMMARY:Participación de la demanda en la regulación primaria de frecuencia en sistemas de energía eléctrica
DESCRIPTION:Defensa de tesis doctoral de D. Leo Casasola Aignesberger
URL:https://www.industriales.upm.es/info-evento/participacion-de-la-demanda-en-la-regulacion-primaria-de-frecuencia-en-sistemas-de-energia-electrica/
END:VEVENT
END:VCALENDAR