BEGIN:VCALENDAR
VERSION:2.0
PRODID:-//Escuela Técnica Superior Ingenieros Industriales - ECPv6.15.20//NONSGML v1.0//EN
CALSCALE:GREGORIAN
METHOD:PUBLISH
X-ORIGINAL-URL:https://www.industriales.upm.es
X-WR-CALDESC:Eventos para Escuela Técnica Superior Ingenieros Industriales
REFRESH-INTERVAL;VALUE=DURATION:PT1H
X-Robots-Tag:noindex
X-PUBLISHED-TTL:PT1H
BEGIN:VTIMEZONE
TZID:Europe/Madrid
BEGIN:DAYLIGHT
TZOFFSETFROM:+0100
TZOFFSETTO:+0200
TZNAME:CEST
DTSTART:20230326T010000
END:DAYLIGHT
BEGIN:STANDARD
TZOFFSETFROM:+0200
TZOFFSETTO:+0100
TZNAME:CET
DTSTART:20231029T010000
END:STANDARD
BEGIN:DAYLIGHT
TZOFFSETFROM:+0100
TZOFFSETTO:+0200
TZNAME:CEST
DTSTART:20240331T010000
END:DAYLIGHT
BEGIN:STANDARD
TZOFFSETFROM:+0200
TZOFFSETTO:+0100
TZNAME:CET
DTSTART:20241027T010000
END:STANDARD
BEGIN:DAYLIGHT
TZOFFSETFROM:+0100
TZOFFSETTO:+0200
TZNAME:CEST
DTSTART:20250330T010000
END:DAYLIGHT
BEGIN:STANDARD
TZOFFSETFROM:+0200
TZOFFSETTO:+0100
TZNAME:CET
DTSTART:20251026T010000
END:STANDARD
END:VTIMEZONE
BEGIN:VEVENT
DTSTART;TZID=Europe/Madrid:20240223T110000
DTEND;TZID=Europe/Madrid:20240223T143000
DTSTAMP:20260421T190632
CREATED:20240112T104352Z
LAST-MODIFIED:20240112T104352Z
UID:10000501-1708686000-1708698600@www.industriales.upm.es
SUMMARY:Analysis of atmospheric oxidation capacity changes in Europe resulting from emission reductions
DESCRIPTION:Defensa de la tesis doctoral «Analysis of atmospheric oxidation capacity changes in Europe resulting from emission reductions» por parte de daeun jung. tesis desarrollada en el programa de doctorado de ingeniería ambiental\, química y de los materiales y dirigida por rafael borge
URL:https://www.industriales.upm.es/info-evento/analysis-of-atmospheric-oxidation-capacity-changes-in-europe-resulting-from-emission-reductions/
END:VEVENT
END:VCALENDAR