BEGIN:VCALENDAR
VERSION:2.0
PRODID:-//Escuela Técnica Superior Ingenieros Industriales - ECPv6.15.20//NONSGML v1.0//EN
CALSCALE:GREGORIAN
METHOD:PUBLISH
X-WR-CALNAME:Escuela Técnica Superior Ingenieros Industriales
X-ORIGINAL-URL:https://www.industriales.upm.es
X-WR-CALDESC:Eventos para Escuela Técnica Superior Ingenieros Industriales
REFRESH-INTERVAL;VALUE=DURATION:PT1H
X-Robots-Tag:noindex
X-PUBLISHED-TTL:PT1H
BEGIN:VTIMEZONE
TZID:Europe/Madrid
BEGIN:DAYLIGHT
TZOFFSETFROM:+0100
TZOFFSETTO:+0200
TZNAME:CEST
DTSTART:20230326T010000
END:DAYLIGHT
BEGIN:STANDARD
TZOFFSETFROM:+0200
TZOFFSETTO:+0100
TZNAME:CET
DTSTART:20231029T010000
END:STANDARD
BEGIN:DAYLIGHT
TZOFFSETFROM:+0100
TZOFFSETTO:+0200
TZNAME:CEST
DTSTART:20240331T010000
END:DAYLIGHT
BEGIN:STANDARD
TZOFFSETFROM:+0200
TZOFFSETTO:+0100
TZNAME:CET
DTSTART:20241027T010000
END:STANDARD
BEGIN:DAYLIGHT
TZOFFSETFROM:+0100
TZOFFSETTO:+0200
TZNAME:CEST
DTSTART:20250330T010000
END:DAYLIGHT
BEGIN:STANDARD
TZOFFSETFROM:+0200
TZOFFSETTO:+0100
TZNAME:CET
DTSTART:20251026T010000
END:STANDARD
END:VTIMEZONE
BEGIN:VEVENT
DTSTART;TZID=Europe/Madrid:20240222T133000
DTEND;TZID=Europe/Madrid:20240222T150000
DTSTAMP:20260421T204922
CREATED:20240122T110434Z
LAST-MODIFIED:20240122T110434Z
UID:10000508-1708608600-1708614000@www.industriales.upm.es
SUMMARY:METODOLOGÍA DE CONSTRUCCIÓN DE CARTERAS DE INVERSIÓN – MODELO CML | BESTINVER
DESCRIPTION:METODOLOGÍA DE CONSTRUCCIÓN DE CARTERAS DE INVERSIÓN – MODELO CML | BESTINVER\naprende a invertir tu dinero. El modelo CML ayuda a los ahorradores a asignar sus inversiones al horizonte temporal más adecuado.\nFilosofía de inversión\ndirigido a estudiantes etsii\nCUÁNDO: Jueves 22 de Febrero 2024 – 13.30H A 15.00H\nDÓNDE: Sala C ETSII
URL:https://www.industriales.upm.es/info-evento/metodologia-de-construccion-de-carteras-de-inversion-modelo-cml-bestinver/
END:VEVENT
BEGIN:VEVENT
DTSTART;TZID=Europe/Madrid:20240222T143000
DTEND;TZID=Europe/Madrid:20240222T153000
DTSTAMP:20260421T204922
CREATED:20240212T110019Z
LAST-MODIFIED:20240212T110107Z
UID:10000535-1708612200-1708615800@www.industriales.upm.es
SUMMARY:Soluciones de Industria 4.0  Motores eléctricos de alto rendimiento. Historia\, evolución y futuro.
DESCRIPTION:Soluciones de Industria 4.0 Motores eléctricos de alto rendimiento. Historia\, evolución y futuro.Por Javier de la Morena Cancela. Responsable WEG Iberia \nETSI Industriales\nJueves 22/02/2024 a las 14h30 AULA 12 \n 
URL:https://www.industriales.upm.es/info-evento/soluciones-de-industria-4-0-motores-electricos-de-alto-rendimiento-historia-evolucion-y-futuro/
CATEGORIES:Conferencias
ATTACH;FMTTYPE=image/jpeg:https://www.industriales.upm.es/wp-content/uploads/2024/02/Cartel-conferencia-WEG-2024-UPM-1.jpg
END:VEVENT
BEGIN:VEVENT
DTSTART;TZID=Europe/Madrid:20240222T160000
DTEND;TZID=Europe/Madrid:20240222T173000
DTSTAMP:20260421T204922
CREATED:20231103T110219Z
LAST-MODIFIED:20240206T113105Z
UID:10000469-1708617600-1708623000@www.industriales.upm.es
SUMMARY:Ruta guiada por la Escuela
DESCRIPTION:Ruta de aproximadamente una hora de duración por lugares que normalmente no están accesibles a todos y durante la cual se conocerán datos de la historia de este edificio singular y sucesos ocurridos desde su construcción. Punto de encuentro: puerta principal-conserjería.
URL:https://www.industriales.upm.es/info-evento/ruta-guiada-por-la-escuela-copy/2024-02-22/
END:VEVENT
END:VCALENDAR