BEGIN:VCALENDAR
VERSION:2.0
PRODID:-//Escuela Técnica Superior Ingenieros Industriales - ECPv6.15.20//NONSGML v1.0//EN
CALSCALE:GREGORIAN
METHOD:PUBLISH
X-WR-CALNAME:Escuela Técnica Superior Ingenieros Industriales
X-ORIGINAL-URL:https://www.industriales.upm.es
X-WR-CALDESC:Eventos para Escuela Técnica Superior Ingenieros Industriales
REFRESH-INTERVAL;VALUE=DURATION:PT1H
X-Robots-Tag:noindex
X-PUBLISHED-TTL:PT1H
BEGIN:VTIMEZONE
TZID:Europe/Madrid
BEGIN:DAYLIGHT
TZOFFSETFROM:+0100
TZOFFSETTO:+0200
TZNAME:CEST
DTSTART:20230326T010000
END:DAYLIGHT
BEGIN:STANDARD
TZOFFSETFROM:+0200
TZOFFSETTO:+0100
TZNAME:CET
DTSTART:20231029T010000
END:STANDARD
BEGIN:DAYLIGHT
TZOFFSETFROM:+0100
TZOFFSETTO:+0200
TZNAME:CEST
DTSTART:20240331T010000
END:DAYLIGHT
BEGIN:STANDARD
TZOFFSETFROM:+0200
TZOFFSETTO:+0100
TZNAME:CET
DTSTART:20241027T010000
END:STANDARD
BEGIN:DAYLIGHT
TZOFFSETFROM:+0100
TZOFFSETTO:+0200
TZNAME:CEST
DTSTART:20250330T010000
END:DAYLIGHT
BEGIN:STANDARD
TZOFFSETFROM:+0200
TZOFFSETTO:+0100
TZNAME:CET
DTSTART:20251026T010000
END:STANDARD
END:VTIMEZONE
BEGIN:VEVENT
DTSTART;TZID=Europe/Madrid:20240214T120000
DTEND;TZID=Europe/Madrid:20240214T130000
DTSTAMP:20260422T043544
CREATED:20240202T095843Z
LAST-MODIFIED:20240206T113015Z
UID:10000527-1707912000-1707915600@www.industriales.upm.es
SUMMARY:"A new Space ERA... full of new Space Robotics Challenges".
DESCRIPTION:14 de febrero a las 12:00h en el aula D\n\nWe are witnessing the beginning of a new Space ERA. While Space was a matter of governmental institutions and a few big companies in the past\, the recent advancements in technologies and new insightful discoveries about space resources have awakened the appetite for Space entrepreneurship and innovative people in industry and academia. The number of start-ups initiating business and consolidating activities\, focusing on a variety of potential businesses on orbital and planetary scenarios. In orbital scenarios\, the increasing amount of debris is making companies and agencies aware that there is a need to reduce it\, increase the lifespan of current satellites\, and develop new satellites with more capabilities to be serviced. In planetary scenarios\, the concept of using planetary resources for specific purposes generates a game-changing concept that is bringing the Moon back to be targeted by Space agencies and new space companies.\n\nIn this presentation\, I will discuss the new challenges in the new Space ERA and the important role that robotics will play in solving them. I will also explain how the SpaceR research group is working on some of these topics using AI and cutting-edge facilities\, as well as the new Master in Space Technologies and Business at the University of Luxembourg. In addition\, I will provide more information about iSpaRo’24\, the new International Conference on Space Robotics.\n\n\n\nBio:\nProf. Dr. Miguel Olivares-Mendez is a Professor on Space Robotics at the Interdisciplinary Centre for Security\, Reliability and Trust of the University of Luxembourg. He leads the Space Robotics Research Group (SpaceR)\, the LunaLab and the Zero-gravity Lab. In addition\, he is the program director of the Master in Space Technologies and Business (MSTB) at the University of Luxembourg and the founder and General Chair of the International Conference on Space Robotics (iSpaRo).He received his Eng. Degree in Computer Science from the University of Malaga in 2006\, and his M.Sc. and Ph.D. degrees in Robotics and Automation from the Technical University of Madrid (UPM) in 2009 and 2013 respectively. During his Ph.D\, he was a visitor researcher on EPFL (Switzerland) and ARCAA-QUT (Australia). He was awarded with the 2013 Best Ph.D. Thesis award by the European Society for Fuzzy Logic and Technology (EUSFLAT). In May 2013 he joined the Interdisciplinary Center for Security Reliability and Trust (SnT) at the University of Luxembourg (Uni.Lu)\, as Associate Researcher in the Automation & Robotics Research Group. In November 2019\, he became an Assistant Professor on Space Robotics and\, in January 2020 the founder and head of the SpaceR research group.\nHe is currently the main supervisor of 12 PhD students and 7 PostDocs. He has published over 120 peer-reviewed publications. His main research interests are extreme environment\, planetary and orbital robotics for Autonomous Navigation\, Situational Awareness\, Perception\, Machine Learning\, and multi-robot interaction in autonomous exploration\, inspection\, and operations.
URL:https://www.industriales.upm.es/info-evento/a-new-space-era-full-of-new-space-robotics-challenges/
END:VEVENT
BEGIN:VEVENT
DTSTART;TZID=Europe/Madrid:20240214T123000
DTEND;TZID=Europe/Madrid:20240214T140000
DTSTAMP:20260422T043544
CREATED:20230928T103346Z
LAST-MODIFIED:20240215T085721Z
UID:10000428-1707913800-1707919200@www.industriales.upm.es
SUMMARY:Ruta guiada por la Escuela
DESCRIPTION:Ruta de aproximadamente una hora de duración por lugares que normalmente no están accesibles a todos y durante la cual se conocerán datos de la historia de este edificio singular y sucesos ocurridos desde su construcción. Punto de encuentro: puerta principal-conserjería.
URL:https://www.industriales.upm.es/info-evento/ruta-guiada-por-la-escuela-5/
END:VEVENT
END:VCALENDAR