BEGIN:VCALENDAR
VERSION:2.0
PRODID:-//Escuela Técnica Superior Ingenieros Industriales - ECPv6.15.20//NONSGML v1.0//EN
CALSCALE:GREGORIAN
METHOD:PUBLISH
X-WR-CALNAME:Escuela Técnica Superior Ingenieros Industriales
X-ORIGINAL-URL:https://www.industriales.upm.es
X-WR-CALDESC:Eventos para Escuela Técnica Superior Ingenieros Industriales
REFRESH-INTERVAL;VALUE=DURATION:PT1H
X-Robots-Tag:noindex
X-PUBLISHED-TTL:PT1H
BEGIN:VTIMEZONE
TZID:Europe/Madrid
BEGIN:DAYLIGHT
TZOFFSETFROM:+0100
TZOFFSETTO:+0200
TZNAME:CEST
DTSTART:20230326T010000
END:DAYLIGHT
BEGIN:STANDARD
TZOFFSETFROM:+0200
TZOFFSETTO:+0100
TZNAME:CET
DTSTART:20231029T010000
END:STANDARD
BEGIN:DAYLIGHT
TZOFFSETFROM:+0100
TZOFFSETTO:+0200
TZNAME:CEST
DTSTART:20240331T010000
END:DAYLIGHT
BEGIN:STANDARD
TZOFFSETFROM:+0200
TZOFFSETTO:+0100
TZNAME:CET
DTSTART:20241027T010000
END:STANDARD
BEGIN:DAYLIGHT
TZOFFSETFROM:+0100
TZOFFSETTO:+0200
TZNAME:CEST
DTSTART:20250330T010000
END:DAYLIGHT
BEGIN:STANDARD
TZOFFSETFROM:+0200
TZOFFSETTO:+0100
TZNAME:CET
DTSTART:20251026T010000
END:STANDARD
END:VTIMEZONE
BEGIN:VEVENT
DTSTART;TZID=Europe/Madrid:20240212T133000
DTEND;TZID=Europe/Madrid:20240212T153000
DTSTAMP:20260421T190544
CREATED:20240122T071109Z
LAST-MODIFIED:20240202T092700Z
UID:10000507-1707744600-1707751800@www.industriales.upm.es
SUMMARY:PRESENTACIÓN DEL PROGRAMA DE “MENTORING DE EXCELENCIA” DEL PROYECTO MUJER E INGENIERÍA DE LA REAL ACADEMIA DE INGENIERÍA.
DESCRIPTION:La Directora Ejecutiva del proyecto Mujer e Ingeniería de la RAI\, la profesora de la UPM Sara Gómez\, presentará a las alumnas de la ETSI Industriales y a todas aquellas personas interesadas el programa “Mentoring de Excelencia”\, del que se inicia ahora su 8ª edición. \n13:30h. Aula C \nPor razones organizativas\, agradecemos inscripción previa a la sesión de presentación a través de este enlace <https://forms.office.com/e/ktVFJyukBF> . \nEl envío de candidaturas a la VIII Edición del programa “Mentoring de Excelencia” se realiza a través de este formulario <https://forms.office.com/e/GpaW3FBT5k> .
URL:https://www.industriales.upm.es/info-evento/presentacion-del-programa-de-mentoring-de-excelencia-del-proyecto-mujer-e-ingenieria-de-la-real-academia-de-ingenieria/
LOCATION:Aula C
ATTACH;FMTTYPE=image/png:https://www.industriales.upm.es/wp-content/uploads/2024/01/CARTEL-UNIVERSIDAD-POLITECNICA-DE-MADRID1-002.png
END:VEVENT
END:VCALENDAR