BEGIN:VCALENDAR
VERSION:2.0
PRODID:-//Escuela Técnica Superior Ingenieros Industriales - ECPv6.15.20//NONSGML v1.0//EN
CALSCALE:GREGORIAN
METHOD:PUBLISH
X-ORIGINAL-URL:https://www.industriales.upm.es
X-WR-CALDESC:Eventos para Escuela Técnica Superior Ingenieros Industriales
REFRESH-INTERVAL;VALUE=DURATION:PT1H
X-Robots-Tag:noindex
X-PUBLISHED-TTL:PT1H
BEGIN:VTIMEZONE
TZID:Europe/Madrid
BEGIN:DAYLIGHT
TZOFFSETFROM:+0100
TZOFFSETTO:+0200
TZNAME:CEST
DTSTART:20230326T010000
END:DAYLIGHT
BEGIN:STANDARD
TZOFFSETFROM:+0200
TZOFFSETTO:+0100
TZNAME:CET
DTSTART:20231029T010000
END:STANDARD
BEGIN:DAYLIGHT
TZOFFSETFROM:+0100
TZOFFSETTO:+0200
TZNAME:CEST
DTSTART:20240331T010000
END:DAYLIGHT
BEGIN:STANDARD
TZOFFSETFROM:+0200
TZOFFSETTO:+0100
TZNAME:CET
DTSTART:20241027T010000
END:STANDARD
BEGIN:DAYLIGHT
TZOFFSETFROM:+0100
TZOFFSETTO:+0200
TZNAME:CEST
DTSTART:20250330T010000
END:DAYLIGHT
BEGIN:STANDARD
TZOFFSETFROM:+0200
TZOFFSETTO:+0100
TZNAME:CET
DTSTART:20251026T010000
END:STANDARD
END:VTIMEZONE
BEGIN:VEVENT
DTSTART;TZID=Europe/Madrid:20240126T190000
DTEND;TZID=Europe/Madrid:20240126T213000
DTSTAMP:20260421T190632
CREATED:20231211T110811Z
LAST-MODIFIED:20240111T120215Z
UID:10000488-1706295600-1706304600@www.industriales.upm.es
SUMMARY:Solemne Acto de Entrega de Diplomas
DESCRIPTION:Solemne Acto Académico de Graduación de la Escuela Técnica Superior de Ingenieros Industriales \n26 de enero de 2024 a las 19:00h.Hotel Madrid Marriott Auditorium. Avenida de Aragón\, 400. San Blas-Canillejas\, 28022 Madrid. \nPrograma del Acto \n\nApertura del Acto por el Sr. Rector Magnífico D. Guillermo Cisneros Pérez.\nIntervención del padrino de las promociones D. Javier Uceda Antolín.\nEntrega de diplomas a los titulados de la 10.a promoción del Grado en Ingeniería en Tecnologías Industriales.\nEntrega de diplomas a los titulados de la 10.a promoción del Grado en Ingeniería Química.\nEntrega de diplomas a los titulados de la 7.a promoción del Grado en Ingeniería de Organización.\nEntrega de diplomas a los titulados de la 166.a promoción de Ingeniería Industrial (Máster Universitario\n\nen Ingeniería Industrial). \n\nEntrega de diplomas a los titulados de otros Másteres Universitarios.\n\nEntrega de premios \n\nEntrega de distinciones de la Escuela Técnica Superior de Ingenieros Industriales.\nIntervención del representante de los estudiantes.\nIntervención del Ilmo. Sr. Director de la Escuela D. Óscar García Suárez.\nIntervención del Sr. Rector Magnífico Clausura del Acto.\n\n  \nSi quieres estar atento a todos los detalles del Acto de Graduación suscríbete a nuestro canal en Telegram. \nhttps://t.me/entregadiplomas2024 \nEl acto será retransmitido en directo a través del siguiente enlace \nhttp://audiovisuales.upm.es/directo/
URL:https://www.industriales.upm.es/info-evento/solemne-acto-de-entrega-de-diplomas/
ATTACH;FMTTYPE=image/jpeg:https://www.industriales.upm.es/wp-content/uploads/2023/12/150045.jpg
END:VEVENT
END:VCALENDAR