BEGIN:VCALENDAR
VERSION:2.0
PRODID:-//Escuela Técnica Superior Ingenieros Industriales - ECPv6.15.20//NONSGML v1.0//EN
CALSCALE:GREGORIAN
METHOD:PUBLISH
X-ORIGINAL-URL:https://www.industriales.upm.es
X-WR-CALDESC:Eventos para Escuela Técnica Superior Ingenieros Industriales
REFRESH-INTERVAL;VALUE=DURATION:PT1H
X-Robots-Tag:noindex
X-PUBLISHED-TTL:PT1H
BEGIN:VTIMEZONE
TZID:Europe/Madrid
BEGIN:DAYLIGHT
TZOFFSETFROM:+0100
TZOFFSETTO:+0200
TZNAME:CEST
DTSTART:20230326T010000
END:DAYLIGHT
BEGIN:STANDARD
TZOFFSETFROM:+0200
TZOFFSETTO:+0100
TZNAME:CET
DTSTART:20231029T010000
END:STANDARD
BEGIN:DAYLIGHT
TZOFFSETFROM:+0100
TZOFFSETTO:+0200
TZNAME:CEST
DTSTART:20240331T010000
END:DAYLIGHT
BEGIN:STANDARD
TZOFFSETFROM:+0200
TZOFFSETTO:+0100
TZNAME:CET
DTSTART:20241027T010000
END:STANDARD
BEGIN:DAYLIGHT
TZOFFSETFROM:+0100
TZOFFSETTO:+0200
TZNAME:CEST
DTSTART:20250330T010000
END:DAYLIGHT
BEGIN:STANDARD
TZOFFSETFROM:+0200
TZOFFSETTO:+0100
TZNAME:CET
DTSTART:20251026T010000
END:STANDARD
END:VTIMEZONE
BEGIN:VEVENT
DTSTART;TZID=Europe/Madrid:20240124T142700
DTEND;TZID=Europe/Madrid:20240124T142800
DTSTAMP:20260422T125751
CREATED:20240122T071010Z
LAST-MODIFIED:20240122T111528Z
UID:10000506-1706106420-1706106480@www.industriales.upm.es
SUMMARY:TALLER ODS EN EL MARCO DEL PROGRAMA TECHNOVATION GIRLS
DESCRIPTION:24 de enero a las 18:30h (SALA C)\nTaller de introducción a los ODS dirigido a las participantes del Programa Technovation Girls.\nCada año Technovation Girls invita a niñas entre 8 y 18 años a encontrar soluciones de problemas reales a través de tecnología. Este taller ayudará a las participantes a identificar las aportaciones de sus proyectos a los ODS.\nEnlace inscripciones
URL:https://www.industriales.upm.es/info-evento/taller-ods-en-el-marco-del-programa-technovation-girls/
ATTACH;FMTTYPE=image/jpeg:https://www.industriales.upm.es/wp-content/uploads/2024/01/Technovation-Girls_Taller-ODS.jpg
END:VEVENT
BEGIN:VEVENT
DTSTART;TZID=Europe/Madrid:20240124T163000
DTEND;TZID=Europe/Madrid:20240124T180000
DTSTAMP:20260422T125751
CREATED:20240116T092710Z
LAST-MODIFIED:20240116T095456Z
UID:10000503-1706113800-1706119200@www.industriales.upm.es
SUMMARY:Técnicas de Machine Learning en la Gestión del Agua
DESCRIPTION:SEMINARIO PROYECTO DIGIT4WATER. 24 de enero\, 16:30h\, aula D. \nSeminario de investigación asociado al proyecto de investigación DIGIT4WATER\, relacionado con la aplicación de modelos de machine learning a la gestión de recursos hídricos. \nEl seminario tendrá una duración de 90 minutos. Contará con 5 ponencias\, 3 por parte de los socios del proyecto UPM\, CIMNE y CIEMAT\, y otras dos procedentes de una empresa (Isle Utilities) y de la Universidad de Ghent. \nFlyer_seminario_DIGIT4WATER
URL:https://www.industriales.upm.es/info-evento/tecnicas-de-machine-learning-en-la-gestion-del-agua/
CATEGORIES:Conferencias
ATTACH;FMTTYPE=image/jpeg:https://www.industriales.upm.es/wp-content/uploads/2024/01/Flyer_seminario_DIGIT4WATER_Pagina_1.jpg
END:VEVENT
END:VCALENDAR