BEGIN:VCALENDAR
VERSION:2.0
PRODID:-//Escuela Técnica Superior Ingenieros Industriales - ECPv6.15.20//NONSGML v1.0//EN
CALSCALE:GREGORIAN
METHOD:PUBLISH
X-WR-CALNAME:Escuela Técnica Superior Ingenieros Industriales
X-ORIGINAL-URL:https://www.industriales.upm.es
X-WR-CALDESC:Eventos para Escuela Técnica Superior Ingenieros Industriales
REFRESH-INTERVAL;VALUE=DURATION:PT1H
X-Robots-Tag:noindex
X-PUBLISHED-TTL:PT1H
BEGIN:VTIMEZONE
TZID:Europe/Madrid
BEGIN:DAYLIGHT
TZOFFSETFROM:+0100
TZOFFSETTO:+0200
TZNAME:CEST
DTSTART:20220327T010000
END:DAYLIGHT
BEGIN:STANDARD
TZOFFSETFROM:+0200
TZOFFSETTO:+0100
TZNAME:CET
DTSTART:20221030T010000
END:STANDARD
BEGIN:DAYLIGHT
TZOFFSETFROM:+0100
TZOFFSETTO:+0200
TZNAME:CEST
DTSTART:20230326T010000
END:DAYLIGHT
BEGIN:STANDARD
TZOFFSETFROM:+0200
TZOFFSETTO:+0100
TZNAME:CET
DTSTART:20231029T010000
END:STANDARD
BEGIN:DAYLIGHT
TZOFFSETFROM:+0100
TZOFFSETTO:+0200
TZNAME:CEST
DTSTART:20240331T010000
END:DAYLIGHT
BEGIN:STANDARD
TZOFFSETFROM:+0200
TZOFFSETTO:+0100
TZNAME:CET
DTSTART:20241027T010000
END:STANDARD
END:VTIMEZONE
BEGIN:VEVENT
DTSTART;TZID=Europe/Madrid:20231219T090000
DTEND;TZID=Europe/Madrid:20231219T150000
DTSTAMP:20260422T111048
CREATED:20231212T105836Z
LAST-MODIFIED:20231212T105836Z
UID:10000489-1702976400-1702998000@www.industriales.upm.es
SUMMARY:Defensa de Tesis Doctoral "Autonomous Fixed Wing Unmanned Air Vehicle GNSS-Denied Navigation: Fusion of Extended Kalman Filter in SE (3) Manifold with Inertially Assisted Semi-Direct Visual Odometry" por Eduardo Gallo Olalla
DESCRIPTION:
URL:https://www.industriales.upm.es/info-evento/defensa-de-tesis-doctoral-autonomous-fixed-wing-unmanned-air-vehicle-gnss-denied-navigation-fusion-of-extended-kalman-filter-in-se-3-manifold-with-inertially-assisted-semi-direct-visual-odometry/
LOCATION:Aula C
CATEGORIES:Defensa Tesis Doctoral
END:VEVENT
BEGIN:VEVENT
DTSTART;TZID=Europe/Madrid:20231219T130000
DTEND;TZID=Europe/Madrid:20231219T170000
DTSTAMP:20260422T111048
CREATED:20231128T101747Z
LAST-MODIFIED:20231128T101748Z
UID:10000485-1702990800-1703005200@www.industriales.upm.es
SUMMARY:Copa de Navidad
DESCRIPTION:
URL:https://www.industriales.upm.es/info-evento/copa-de-navidad/
LOCATION:Sala de la Máquina
CATEGORIES:Acto Institucional
ATTACH;FMTTYPE=image/png:https://www.industriales.upm.es/wp-content/uploads/2023/11/Felices-fiestas2.png
END:VEVENT
BEGIN:VEVENT
DTSTART;TZID=Europe/Madrid:20231219T190000
DTEND;TZID=Europe/Madrid:20231219T213000
DTSTAMP:20260422T111048
CREATED:20231212T112514Z
LAST-MODIFIED:20231214T160915Z
UID:10000493-1703012400-1703021400@www.industriales.upm.es
SUMMARY:Ciclo de conferencias del Máster en Ingeniería de Automoción: “Retos tecnológicos en la nueva arquitectura de los coches eléctricos”
DESCRIPTION:Actividad formativa complementaria al máster de ingeniería de automoción.
URL:https://www.industriales.upm.es/info-evento/ciclo-de-conferencias-del-master-en-ingenieria-de-automocion-2/
LOCATION:Salón de ACTOS
CATEGORIES:Ciclo de Conferencias
END:VEVENT
END:VCALENDAR