BEGIN:VCALENDAR
VERSION:2.0
PRODID:-//Escuela Técnica Superior Ingenieros Industriales - ECPv6.15.20//NONSGML v1.0//EN
CALSCALE:GREGORIAN
METHOD:PUBLISH
X-ORIGINAL-URL:https://www.industriales.upm.es
X-WR-CALDESC:Eventos para Escuela Técnica Superior Ingenieros Industriales
REFRESH-INTERVAL;VALUE=DURATION:PT1H
X-Robots-Tag:noindex
X-PUBLISHED-TTL:PT1H
BEGIN:VTIMEZONE
TZID:Europe/Madrid
BEGIN:DAYLIGHT
TZOFFSETFROM:+0100
TZOFFSETTO:+0200
TZNAME:CEST
DTSTART:20220327T010000
END:DAYLIGHT
BEGIN:STANDARD
TZOFFSETFROM:+0200
TZOFFSETTO:+0100
TZNAME:CET
DTSTART:20221030T010000
END:STANDARD
BEGIN:DAYLIGHT
TZOFFSETFROM:+0100
TZOFFSETTO:+0200
TZNAME:CEST
DTSTART:20230326T010000
END:DAYLIGHT
BEGIN:STANDARD
TZOFFSETFROM:+0200
TZOFFSETTO:+0100
TZNAME:CET
DTSTART:20231029T010000
END:STANDARD
BEGIN:DAYLIGHT
TZOFFSETFROM:+0100
TZOFFSETTO:+0200
TZNAME:CEST
DTSTART:20240331T010000
END:DAYLIGHT
BEGIN:STANDARD
TZOFFSETFROM:+0200
TZOFFSETTO:+0100
TZNAME:CET
DTSTART:20241027T010000
END:STANDARD
END:VTIMEZONE
BEGIN:VEVENT
DTSTART;TZID=Europe/Madrid:20231127T090000
DTEND;TZID=Europe/Madrid:20231201T170000
DTSTAMP:20260423T052736
CREATED:20230620T130946Z
LAST-MODIFIED:20230620T130946Z
UID:10000012-1701075600-1701450000@www.industriales.upm.es
SUMMARY:TRANSIT tutorial/Compsortium meeting
DESCRIPTION:Tutorial y reunión del conscorcio del proyecto horizon europe «Transit»
URL:https://www.industriales.upm.es/info-evento/transit-tutorial-compsortium-meeting/
ATTACH;FMTTYPE=image/jpeg:https://www.industriales.upm.es/wp-content/uploads/2023/06/imagen-portada21.jpg
END:VEVENT
BEGIN:VEVENT
DTSTART;TZID=Europe/Madrid:20231201T100000
DTEND;TZID=Europe/Madrid:20231201T150000
DTSTAMP:20260423T052736
CREATED:20230725T075547Z
LAST-MODIFIED:20231010T080328Z
UID:10000391-1701424800-1701442800@www.industriales.upm.es
SUMMARY:I Hackathon YWP Spain
DESCRIPTION:Red de jóvenes del sector del agua Young Water Professionals Spanish Chapter (YWP Spain)\, una iniciativa de la International Water Association (IWA). Nuestro objetivo es formar a la nueva generación de líderes del agua\, ofreciendo apoyo al sector a través de acciones que permitan atraer a jóvenes profesionales (menores de 35 años) y conseguir que alcancen su pleno potencial profesional. Puedes encontrar más información en nuestra web www.ywp-spain.es \n En unos meses tendrá lugar el evento YoungWaterHack que se llevará a cabo online los días 22 y 29 de noviembre y de forma presencial el 1 de diciembre en Madrid. Se trata de un hackathon para estudiantes de grado\, máster\, doctorado y formación profesional con interés en el sector del agua. El objetivo será generar soluciones innovadoras para el uso sostenible del agua como elemento clave en la lucha contra la crisis climática y\, con ello\, dar a conocer a jóvenes talentos.  \n El evento contará con un jurado de experto/as y está patrocinado por entidades referentes a nivel nacional e internacional en la gestión del ciclo del agua. Además\, durante el evento se darán sesiones de formación y contará con la presencia de Young Water Professionals que acompañarán como mentores/as a los participantes. La competición será por equipos\, aunque el registro se realizará online de manera individual. Se concederá un premio a cada equipo ganador por reto: suscripciones a IWA Student\, premio en metálico y visita técnica a instalaciones del sector del agua.  \n Puedes encontrar más información y el enlace de inscripción en la web. \nOs esperamos!
URL:https://www.industriales.upm.es/info-evento/i-hackathon-ywp-spain/
CATEGORIES:Conferencias
ATTACH;FMTTYPE=image/png:https://www.industriales.upm.es/wp-content/uploads/2023/07/Cartel-Hackathon.png
END:VEVENT
BEGIN:VEVENT
DTSTART;TZID=Europe/Madrid:20231201T100000
DTEND;TZID=Europe/Madrid:20231201T180000
DTSTAMP:20260423T052736
CREATED:20231103T114516Z
LAST-MODIFIED:20231122T173503Z
UID:10000482-1701424800-1701453600@www.industriales.upm.es
SUMMARY:Exposición de Coches Históricos
DESCRIPTION:Del 21 de noviembre al 1 de Diciembre. \nDe 10:00h a 18:00h. Sábados y Domingos cerrado. \nPabellón de deportes de la ETSI Industriales \nCalle José Gutiérrez Abascal\, 2 \n28006 Madrid \nMás información \n 
URL:https://www.industriales.upm.es/info-evento/exposicion-de-coches-historicos/2023-12-01/
CATEGORIES:Ferias y Exposiciones
ATTACH;FMTTYPE=image/jpeg:https://www.industriales.upm.es/wp-content/uploads/2023/11/finalWeb_Rectorado.jpg
END:VEVENT
BEGIN:VEVENT
DTSTART;TZID=Europe/Madrid:20231201T123000
DTEND;TZID=Europe/Madrid:20231201T140000
DTSTAMP:20260423T052736
CREATED:20231128T091003Z
LAST-MODIFIED:20231128T091857Z
UID:10000484-1701433800-1701439200@www.industriales.upm.es
SUMMARY:Presentación del Título Propio "Lubricantes de automoción e industria"
DESCRIPTION:Título Propio «Lubricantes de automoción e industria» \n\nCurso de 90h con un 70% de horas con profesorado de empresas del sector (Repsol\, Bp\, Cepsa\, Shell…).\nEl curso da acceso a unas prácticas únicas en estas empresas para formar parte de plantilla\nDisponibles becas\n\nSESIÓN INFORMATIVA ONLINE Y PRESENCIAL 1/12/2023 – 12:30h (GMT+1). \nAULA ARTIGAS – ETSI INDUSTRIALES. \nCartel Curso Lubricantes
URL:https://www.industriales.upm.es/info-evento/presentacion-del-titulo-propio-lubricantes-de-automocion-e-industria/
ATTACH;FMTTYPE=image/jpeg:https://www.industriales.upm.es/wp-content/uploads/2023/11/Carel-baja-resolucion.jpeg
END:VEVENT
END:VCALENDAR