BEGIN:VCALENDAR
VERSION:2.0
PRODID:-//Escuela Técnica Superior Ingenieros Industriales - ECPv6.15.20//NONSGML v1.0//EN
CALSCALE:GREGORIAN
METHOD:PUBLISH
X-ORIGINAL-URL:https://www.industriales.upm.es
X-WR-CALDESC:Eventos para Escuela Técnica Superior Ingenieros Industriales
REFRESH-INTERVAL;VALUE=DURATION:PT1H
X-Robots-Tag:noindex
X-PUBLISHED-TTL:PT1H
BEGIN:VTIMEZONE
TZID:Europe/Madrid
BEGIN:DAYLIGHT
TZOFFSETFROM:+0100
TZOFFSETTO:+0200
TZNAME:CEST
DTSTART:20220327T010000
END:DAYLIGHT
BEGIN:STANDARD
TZOFFSETFROM:+0200
TZOFFSETTO:+0100
TZNAME:CET
DTSTART:20221030T010000
END:STANDARD
BEGIN:DAYLIGHT
TZOFFSETFROM:+0100
TZOFFSETTO:+0200
TZNAME:CEST
DTSTART:20230326T010000
END:DAYLIGHT
BEGIN:STANDARD
TZOFFSETFROM:+0200
TZOFFSETTO:+0100
TZNAME:CET
DTSTART:20231029T010000
END:STANDARD
BEGIN:DAYLIGHT
TZOFFSETFROM:+0100
TZOFFSETTO:+0200
TZNAME:CEST
DTSTART:20240331T010000
END:DAYLIGHT
BEGIN:STANDARD
TZOFFSETFROM:+0200
TZOFFSETTO:+0100
TZNAME:CET
DTSTART:20241027T010000
END:STANDARD
END:VTIMEZONE
BEGIN:VEVENT
DTSTART;TZID=Europe/Madrid:20231116T180000
DTEND;TZID=Europe/Madrid:20231116T200000
DTSTAMP:20260423T035511
CREATED:20231103T075108Z
LAST-MODIFIED:20231103T084947Z
UID:10000458-1700157600-1700164800@www.industriales.upm.es
SUMMARY:Taller LA UNIÓN IMPURA. La ingeniería en tus manos.
DESCRIPTION:Arrancamos motores con el reto Heliantus apuntando al sol. \nEl próximo 16 de noviembre\, jueves a las 18:00h se imparte el taller presencial para los participantes en la 6ª Edición del Concuros Escolar La ingeniería en tus manos\, titulado LA UNIÓN IMPURA\, un espectáculo ingenieril muy divertido\, donde  explicaremos los fundamentos que están detrás de electrónica y en particular de las células solares (la UNIÓN PN) y sus utilidades. \nAdemás\, en este taller  haremos una introducción breve sobre las claves del concurso\, recomendaciones y consejos para que la participación en esta competición. \nEmpezamos!!!
URL:https://www.industriales.upm.es/info-evento/taller-la-union-impura-la-ingenieria-en-tus-manos/
ATTACH;FMTTYPE=image/jpeg:https://www.industriales.upm.es/wp-content/uploads/2023/11/logo_ingenieria_manos_ok.jpg
END:VEVENT
END:VCALENDAR