BEGIN:VCALENDAR
VERSION:2.0
PRODID:-//Escuela Técnica Superior Ingenieros Industriales - ECPv6.15.20//NONSGML v1.0//EN
CALSCALE:GREGORIAN
METHOD:PUBLISH
X-ORIGINAL-URL:https://www.industriales.upm.es
X-WR-CALDESC:Eventos para Escuela Técnica Superior Ingenieros Industriales
REFRESH-INTERVAL;VALUE=DURATION:PT1H
X-Robots-Tag:noindex
X-PUBLISHED-TTL:PT1H
BEGIN:VTIMEZONE
TZID:Europe/Madrid
BEGIN:DAYLIGHT
TZOFFSETFROM:+0100
TZOFFSETTO:+0200
TZNAME:CEST
DTSTART:20220327T010000
END:DAYLIGHT
BEGIN:STANDARD
TZOFFSETFROM:+0200
TZOFFSETTO:+0100
TZNAME:CET
DTSTART:20221030T010000
END:STANDARD
BEGIN:DAYLIGHT
TZOFFSETFROM:+0100
TZOFFSETTO:+0200
TZNAME:CEST
DTSTART:20230326T010000
END:DAYLIGHT
BEGIN:STANDARD
TZOFFSETFROM:+0200
TZOFFSETTO:+0100
TZNAME:CET
DTSTART:20231029T010000
END:STANDARD
BEGIN:DAYLIGHT
TZOFFSETFROM:+0100
TZOFFSETTO:+0200
TZNAME:CEST
DTSTART:20240331T010000
END:DAYLIGHT
BEGIN:STANDARD
TZOFFSETFROM:+0200
TZOFFSETTO:+0100
TZNAME:CET
DTSTART:20241027T010000
END:STANDARD
END:VTIMEZONE
BEGIN:VEVENT
DTSTART;TZID=Europe/Madrid:20231107T170000
DTEND;TZID=Europe/Madrid:20231114T190000
DTSTAMP:20260423T052737
CREATED:20231103T063015Z
LAST-MODIFIED:20231103T063304Z
UID:10000456-1699376400-1699988400@www.industriales.upm.es
SUMMARY:Semana de la Ciencia y la Tecnología en Industriales
DESCRIPTION:Vehículos y cambio climático: ¿tenemos todos la misma percepción?Se trata de hacer una dinámica en la que a un grupo de asistentes se les pregunte sobre cómo los vehículos afectan al cambio climático y con ello tratar de «corregir» percepciones erróneas.Esta actividad\, coordinada y dirigida por los investigadores Javier Pérez Rodríguez\, Julio Lumbreras Martín y César García Aranda\, se llevará a cabo los martes 7 y 14 de noviembre\, de 17:00 a 19:00 con un aforo de 20 personas por turno.Para asistir hay que realizar reserva enviando un correo electrónico a javier.perezr@upm.es\n\nLa Cátedra sobre Transición Energética  UPM – Fundación Repsol  y la Fundación Repsol colaboran en esta actividad.
URL:https://www.industriales.upm.es/info-evento/semana-de-la-ciencia-y-la-tecnologia-en-industriales-2/
ATTACH;FMTTYPE=image/jpeg:https://www.industriales.upm.es/wp-content/uploads/2023/11/Depositphotos_5794566_xl-2015-scaled.jpg
END:VEVENT
BEGIN:VEVENT
DTSTART;TZID=Europe/Madrid:20231107T183000
DTEND;TZID=Europe/Madrid:20231114T183000
DTSTAMP:20260423T052737
CREATED:20231103T090708Z
LAST-MODIFIED:20231103T090956Z
UID:10000459-1699381800-1699986600@www.industriales.upm.es
SUMMARY:SEMINARIO INVERSIÓN INTELIGENTE EN MERCADOS FINANCIEROS
DESCRIPTION:SEMINARIO INVERSIÓN INTELIGENTE EN MERCADOS FINANCIEROS \nConocer y aplicar las mejores estrategias de ahorro e inversión para crear una cartera de activos financieros \nEste taller de iniciación a las finanzas personales\, está especialmente indicado para todos aquellos que respondan afirmativamente a tres de estas cinco sencillas preguntas de autoevaluación: \n  \n\nEl 70% de los españoles se muestra preocupado porque considera que las pensiones están es riesgo\, según una encuesta de Sigma Dos publicada en el diario el Mundo el 4/01/2017. ¿Compartes esta preocupación?\n¿Quieres saber cómo calcular el capital que necesitarás acumular para complementar tu pensión cuando te jubiles y con ello poder mantener\, una vez jubilado@\, un nivel de vida similar al que tendrías al final de tu etapa de profesional en activo?\n¿Te gustaría saber cómo podrías conseguir acumular un capital de UN MILLON (1.000.000) de euros invirtiendo tus ahorros\, de manera inteligente\, sistemática\, y a largo plazo\, sin necesidad de profundos conocimientos financieros y con poca dedicación personal?\n¿Quieres saber cuáles son las razones por la que más del 70% de los que invierten en bolsa pierden dinero y cómo proceder para evitar que te suceda lo mismo?\n¿Quieres conocer la rentabilidad de los Planes de Pensiones y de los Fondos de Inversión de gestoras españolas y cómo puedes conseguir superarlos ampliamente con una cartera de inversión propia\, sin necesidad de ayuda ni de asesoramiento profesional?\n\n\nPONENTES: \nVICENTE RIVEIRA RICO \nDr. Ingeniero Industrial\, Profesor Emérito de la Universidad Politécnica de Madrid\, con más de 25 años de experiencia exitosa como empresario\, como Profesor Titular de Universidad y más de 20 años de experiencia como inversor individual.\n\nCARLOS GONZÁLEZ GUILLEN \nDr. en Matemáticas\, Subdirector del Departamento de Matemática aplicada a la Ingeniería Industrial de la Universidad Politécnica de Madrid\, con 8 años como inversor individual. \nMARIA ÁNGELES RICÓN ORTEGA \nLicenciada en Matemáticas\nProfesora del Departamento de Matemáticas de la ETSII \nCUÁNDO \nMartes 7 y 14 de Noviembre a las 18.30h \nDÓNDE:\n\nAula  D –  ETS Ingenieros Industriales UPM\, C/ José Gutiérrez Abascal 2 MADRID (ver mapa) \nLa sesión es de acceso libre\, pero para asistir es necesario registrarse. \nhttps://www.ienupm.com/event/seminario-inversion-inteligente-en-mercados-financieros/ \nCon la colaboración de IEN UPM y NEXUS\n\nNo te lo pierdas \n 
URL:https://www.industriales.upm.es/info-evento/seminario-inversion-inteligente-en-mercados-financieros/
ATTACH;FMTTYPE=image/jpeg:https://www.industriales.upm.es/wp-content/uploads/2023/11/POSTER-SEMINARIO-MERCADOS-FINANCIEROS-vf-scaled.jpg
END:VEVENT
END:VCALENDAR